BEGIN:VCALENDAR
VERSION:2.0
PRODID:-//destination.one//NONSGML destination.meta API//DE
X-WR-CALDESC:A calendar powered by destination.meta
X-WR-CALNAME:oberpfaelzerwald Kalender via destination.meta
BEGIN:VEVENT
CATEGORIES:Feste/Bälle/Tanz
DESCRIPTION:Jeden 1. Sonntag im Juli findet das Bürgerfest in Waldsassen st
 att.\n\nmehr Informationen unter http://pages.destination.one/de/oberpfael
 zerwald/streaming/detail/Event/e_100000912/b-rgerfest-in-waldsassen
DTEND;TZID=Europe/Berlin:20130707T235900
DTSTAMP:20260421T121239Z
DTSTART;TZID=Europe/Berlin:20130707T110000
GEO:50.003871;12.308006
LOCATION:Waldsassen\, Basilikaplatz 3\, Waldsassen
ORGANIZER;CN=Stadt Waldsassen:mailto:stadt@waldsassen.de
PRIORITY:4
SEQUENCE:0
SUMMARY:Bürgerfest in Waldsassen
UID:e_100000912_iv0
URL:http://pages.destination.one/de/oberpfaelzerwald/streaming/detail/Event
 /e_100000912/b-rgerfest-in-waldsassen
END:VEVENT
BEGIN:VEVENT
CATEGORIES:Feste/Bälle/Tanz
DESCRIPTION:Jeden 1. Sonntag im Juli findet das Bürgerfest in Waldsassen st
 att.\n\nmehr Informationen unter http://pages.destination.one/de/oberpfael
 zerwald/streaming/detail/Event/e_100000912/b-rgerfest-in-waldsassen
DTEND;TZID=Europe/Berlin:20150705T235900
DTSTAMP:20260421T121239Z
DTSTART;TZID=Europe/Berlin:20150705T110000
GEO:50.003871;12.308006
LOCATION:Waldsassen\, Basilikaplatz 3\, Waldsassen
ORGANIZER;CN=Stadt Waldsassen:mailto:stadt@waldsassen.de
PRIORITY:4
SEQUENCE:0
SUMMARY:Bürgerfest in Waldsassen
UID:e_100000912_iv1
URL:http://pages.destination.one/de/oberpfaelzerwald/streaming/detail/Event
 /e_100000912/b-rgerfest-in-waldsassen
END:VEVENT
BEGIN:VEVENT
CATEGORIES:Feste/Bälle/Tanz
DESCRIPTION:Jeden 1. Sonntag im Juli findet das Bürgerfest in Waldsassen st
 att.\n\nmehr Informationen unter http://pages.destination.one/de/oberpfael
 zerwald/streaming/detail/Event/e_100000912/b-rgerfest-in-waldsassen
DTEND;TZID=Europe/Berlin:20160703T235900
DTSTAMP:20260421T121239Z
DTSTART;TZID=Europe/Berlin:20160703T110000
GEO:50.003871;12.308006
LOCATION:Waldsassen\, Basilikaplatz 3\, Waldsassen
ORGANIZER;CN=Stadt Waldsassen:mailto:stadt@waldsassen.de
PRIORITY:4
SEQUENCE:0
SUMMARY:Bürgerfest in Waldsassen
UID:e_100000912_iv2
URL:http://pages.destination.one/de/oberpfaelzerwald/streaming/detail/Event
 /e_100000912/b-rgerfest-in-waldsassen
END:VEVENT
BEGIN:VEVENT
CATEGORIES:Feste/Bälle/Tanz
DESCRIPTION:Jeden 1. Sonntag im Juli findet das Bürgerfest in Waldsassen st
 att.\n\nmehr Informationen unter http://pages.destination.one/de/oberpfael
 zerwald/streaming/detail/Event/e_100000912/b-rgerfest-in-waldsassen
DTEND;TZID=Europe/Berlin;VALUE=DATE:20170703
DTSTAMP:20260421T121239Z
DTSTART;TZID=Europe/Berlin;VALUE=DATE:20170702
GEO:50.003871;12.308006
LOCATION:Waldsassen\, Basilikaplatz 3\, Waldsassen
ORGANIZER;CN=Stadt Waldsassen:mailto:stadt@waldsassen.de
PRIORITY:4
SEQUENCE:0
SUMMARY:Bürgerfest in Waldsassen
UID:e_100000912_iv3
URL:http://pages.destination.one/de/oberpfaelzerwald/streaming/detail/Event
 /e_100000912/b-rgerfest-in-waldsassen
END:VEVENT
BEGIN:VEVENT
CATEGORIES:Feste/Bälle/Tanz
DESCRIPTION:Jeden 1. Sonntag im Juli findet das Bürgerfest in Waldsassen st
 att.\n\nmehr Informationen unter http://pages.destination.one/de/oberpfael
 zerwald/streaming/detail/Event/e_100000912/b-rgerfest-in-waldsassen
DTEND;TZID=Europe/Berlin:20180701T235900
DTSTAMP:20260421T121239Z
DTSTART;TZID=Europe/Berlin:20180701T110000
GEO:50.003871;12.308006
LOCATION:Waldsassen\, Basilikaplatz 3\, Waldsassen
ORGANIZER;CN=Stadt Waldsassen:mailto:stadt@waldsassen.de
PRIORITY:4
SEQUENCE:0
SUMMARY:Bürgerfest in Waldsassen
UID:e_100000912_iv4
URL:http://pages.destination.one/de/oberpfaelzerwald/streaming/detail/Event
 /e_100000912/b-rgerfest-in-waldsassen
END:VEVENT
BEGIN:VEVENT
CATEGORIES:Feste/Bälle/Tanz
DESCRIPTION:Jeden 1. Sonntag im Juli findet das Bürgerfest in Waldsassen st
 att.\n\nmehr Informationen unter http://pages.destination.one/de/oberpfael
 zerwald/streaming/detail/Event/e_100000912/b-rgerfest-in-waldsassen
DTEND;TZID=Europe/Berlin:20190707T234500
DTSTAMP:20260421T121239Z
DTSTART;TZID=Europe/Berlin:20190707T110000
GEO:50.003871;12.308006
LOCATION:Waldsassen\, Basilikaplatz 3\, Waldsassen
ORGANIZER;CN=Stadt Waldsassen:mailto:stadt@waldsassen.de
PRIORITY:4
SEQUENCE:0
SUMMARY:Bürgerfest in Waldsassen
UID:e_100000912_iv5
URL:http://pages.destination.one/de/oberpfaelzerwald/streaming/detail/Event
 /e_100000912/b-rgerfest-in-waldsassen
END:VEVENT
BEGIN:VEVENT
CATEGORIES:Feste/Bälle/Tanz
DESCRIPTION:Jeden 1. Sonntag im Juli findet das Bürgerfest in Waldsassen st
 att.\n\nmehr Informationen unter http://pages.destination.one/de/oberpfael
 zerwald/streaming/detail/Event/e_100000912/b-rgerfest-in-waldsassen
DTEND;TZID=Europe/Berlin:20200705T234500
DTSTAMP:20260421T121239Z
DTSTART;TZID=Europe/Berlin:20200705T110000
GEO:50.003871;12.308006
LOCATION:Waldsassen\, Basilikaplatz 3\, Waldsassen
ORGANIZER;CN=Stadt Waldsassen:mailto:stadt@waldsassen.de
PRIORITY:4
SEQUENCE:0
SUMMARY:Bürgerfest in Waldsassen
UID:e_100000912_iv6
URL:http://pages.destination.one/de/oberpfaelzerwald/streaming/detail/Event
 /e_100000912/b-rgerfest-in-waldsassen
END:VEVENT
BEGIN:VEVENT
CATEGORIES:Feste/Bälle/Tanz
DESCRIPTION:Jeden 1. Sonntag im Juli findet das Bürgerfest in Waldsassen st
 att.\n\nmehr Informationen unter http://pages.destination.one/de/oberpfael
 zerwald/streaming/detail/Event/e_100000912/b-rgerfest-in-waldsassen
DTEND;TZID=Europe/Berlin;VALUE=DATE:20210705
DTSTAMP:20260421T121239Z
DTSTART;TZID=Europe/Berlin;VALUE=DATE:20210704
GEO:50.003871;12.308006
LOCATION:Waldsassen\, Basilikaplatz 3\, Waldsassen
ORGANIZER;CN=Stadt Waldsassen:mailto:stadt@waldsassen.de
PRIORITY:4
SEQUENCE:0
SUMMARY:Bürgerfest in Waldsassen
UID:e_100000912_iv7
URL:http://pages.destination.one/de/oberpfaelzerwald/streaming/detail/Event
 /e_100000912/b-rgerfest-in-waldsassen
END:VEVENT
BEGIN:VEVENT
CATEGORIES:Feste/Bälle/Tanz
DESCRIPTION:Jeden 1. Sonntag im Juli findet das Bürgerfest in Waldsassen st
 att.\n\nmehr Informationen unter http://pages.destination.one/de/oberpfael
 zerwald/streaming/detail/Event/e_100000912/b-rgerfest-in-waldsassen
DTEND;TZID=Europe/Berlin:20210704T235900
DTSTAMP:20260421T121239Z
DTSTART;TZID=Europe/Berlin:20210704T104500
GEO:50.003871;12.308006
LOCATION:Waldsassen\, Basilikaplatz 3\, Waldsassen
ORGANIZER;CN=Stadt Waldsassen:mailto:stadt@waldsassen.de
PRIORITY:4
SEQUENCE:0
SUMMARY:Bürgerfest in Waldsassen
UID:e_100000912_iv8
URL:http://pages.destination.one/de/oberpfaelzerwald/streaming/detail/Event
 /e_100000912/b-rgerfest-in-waldsassen
END:VEVENT
BEGIN:VEVENT
CATEGORIES:Feste/Bälle/Tanz
DESCRIPTION:Jeden 1. Sonntag im Juli findet das Bürgerfest in Waldsassen st
 att.\n\nmehr Informationen unter http://pages.destination.one/de/oberpfael
 zerwald/streaming/detail/Event/e_100000912/b-rgerfest-in-waldsassen
DTEND;TZID=Europe/Berlin:20240707T234500
DTSTAMP:20260421T121239Z
DTSTART;TZID=Europe/Berlin:20240707T110000
GEO:50.003871;12.308006
LOCATION:Waldsassen\, Basilikaplatz 3\, Waldsassen
ORGANIZER;CN=Stadt Waldsassen:mailto:stadt@waldsassen.de
PRIORITY:4
SEQUENCE:0
SUMMARY:Bürgerfest in Waldsassen
UID:e_100000912_iv9
URL:http://pages.destination.one/de/oberpfaelzerwald/streaming/detail/Event
 /e_100000912/b-rgerfest-in-waldsassen
END:VEVENT
BEGIN:VEVENT
CATEGORIES:Feste/Bälle/Tanz
DESCRIPTION:Jeden 1. Sonntag im Juli findet das Bürgerfest in Waldsassen st
 att.\n\nmehr Informationen unter http://pages.destination.one/de/oberpfael
 zerwald/streaming/detail/Event/e_100000912/b-rgerfest-in-waldsassen
DTEND;TZID=Europe/Berlin:20250706T234500
DTSTAMP:20260421T121239Z
DTSTART;TZID=Europe/Berlin:20250706T110000
GEO:50.003871;12.308006
LOCATION:Waldsassen\, Basilikaplatz 3\, Waldsassen
ORGANIZER;CN=Stadt Waldsassen:mailto:stadt@waldsassen.de
PRIORITY:4
SEQUENCE:0
SUMMARY:Bürgerfest in Waldsassen
UID:e_100000912_iv10
URL:http://pages.destination.one/de/oberpfaelzerwald/streaming/detail/Event
 /e_100000912/b-rgerfest-in-waldsassen
END:VEVENT
BEGIN:VEVENT
CATEGORIES:Feste/Bälle/Tanz
DESCRIPTION:Jeden 1. Sonntag im Juli findet das Bürgerfest in Waldsassen st
 att.\n\nmehr Informationen unter http://pages.destination.one/de/oberpfael
 zerwald/streaming/detail/Event/e_100000912/b-rgerfest-in-waldsassen
DTEND;TZID=Europe/Berlin:20260705T234500
DTSTAMP:20260421T121239Z
DTSTART;TZID=Europe/Berlin:20260705T110000
GEO:50.003871;12.308006
LOCATION:Waldsassen\, Basilikaplatz 3\, Waldsassen
ORGANIZER;CN=Stadt Waldsassen:mailto:stadt@waldsassen.de
PRIORITY:4
SEQUENCE:0
SUMMARY:Bürgerfest in Waldsassen
UID:e_100000912_iv11
URL:http://pages.destination.one/de/oberpfaelzerwald/streaming/detail/Event
 /e_100000912/b-rgerfest-in-waldsassen
END:VEVENT
BEGIN:VTIMEZONE
TZID:Europe/Berlin
X-LIC-LOCATION:Europe/Berlin
BEGIN:DAYLIGHT
DTSTART:19700329T020000
RRULE:FREQ=YEARLY;BYDAY=-1SU;BYMONTH=3
TZNAME:CEST
TZOFFSETFROM:+0100
TZOFFSETTO:+0200
END:DAYLIGHT
BEGIN:STANDARD
DTSTART:19701025T030000
RRULE:FREQ=YEARLY;BYDAY=-1SU;BYMONTH=10
TZNAME:CET
TZOFFSETFROM:+0200
TZOFFSETTO:+0100
END:STANDARD
END:VTIMEZONE
END:VCALENDAR
