BEGIN:VCALENDAR
VERSION:2.0
PRODID:-//destination.one//NONSGML destination.meta API//DE
X-WR-CALDESC:A calendar powered by destination.meta
X-WR-CALNAME:oberpfaelzerwald Kalender via destination.meta
BEGIN:VEVENT
CATEGORIES:Weihnachten / Advent
DESCRIPTION:\n\nmehr Informationen unter http://pages.destination.one/de/ob
 erpfaelzerwald/streaming/detail/Event/e_100005588/waldweihnacht-am-hackels
 tein
DTEND;TZID=Europe/Berlin:20231225T200000
DTSTAMP:20260421T101903Z
DTSTART;TZID=Europe/Berlin:20231225T163000
GEO:49.917437;12.120624
LOCATION:Hackelstein\, \, Fuchsmühl
ORGANIZER;CN=Bergwacht Fuchsmühl:mailto:fuchsmuehl@bergwacht-bayern.de
RRULE:FREQ=YEARLY;UNTIL=20331225T190000;BYMONTH=12;BYMONTHDAY=25
SEQUENCE:0
SUMMARY:Waldweihnacht am Hackelstein
UID:e_100005588_iv0
URL:http://pages.destination.one/de/oberpfaelzerwald/streaming/detail/Event
 /e_100005588/waldweihnacht-am-hackelstein
END:VEVENT
BEGIN:VTIMEZONE
TZID:Europe/Berlin
X-LIC-LOCATION:Europe/Berlin
BEGIN:DAYLIGHT
DTSTART:19700329T020000
RRULE:FREQ=YEARLY;BYDAY=-1SU;BYMONTH=3
TZNAME:CEST
TZOFFSETFROM:+0100
TZOFFSETTO:+0200
END:DAYLIGHT
BEGIN:STANDARD
DTSTART:19701025T030000
RRULE:FREQ=YEARLY;BYDAY=-1SU;BYMONTH=10
TZNAME:CET
TZOFFSETFROM:+0200
TZOFFSETTO:+0100
END:STANDARD
END:VTIMEZONE
END:VCALENDAR
