BEGIN:VCALENDAR
VERSION:2.0
PRODID:-//destination.one//NONSGML destination.meta API//DE
X-WR-CALDESC:A calendar powered by destination.meta
X-WR-CALNAME:oberpfaelzerwald Kalender via destination.meta
BEGIN:VEVENT
CATEGORIES:Feste/Bälle/Tanz
CATEGORIES:Sonstiges
DESCRIPTION:Wir laden recht herzlich ein zum Landerer Fest nach Reichenau.\
 n\nmehr Informationen unter http://pages.destination.one/de/oberpfaelzerwa
 ld/streaming/detail/Event/e_100010857/landerer-fest
DTEND;TZID=Europe/Berlin:20150628T190000
DTSTAMP:20260423T090317Z
DTSTART;TZID=Europe/Berlin:20150628T143000
GEO:49.676745;12.516367
LOCATION:Schützenverein Reichenau\, Reichenau\, Waidhaus
SEQUENCE:0
SUMMARY:Landerer Fest
UID:e_100010857_iv0
URL:http://pages.destination.one/de/oberpfaelzerwald/streaming/detail/Event
 /e_100010857/landerer-fest
END:VEVENT
BEGIN:VEVENT
CATEGORIES:Feste/Bälle/Tanz
CATEGORIES:Sonstiges
DESCRIPTION:Wir laden recht herzlich ein zum Landerer Fest nach Reichenau.\
 n\nmehr Informationen unter http://pages.destination.one/de/oberpfaelzerwa
 ld/streaming/detail/Event/e_100010857/landerer-fest
DTEND;TZID=Europe/Berlin:20230625T235900
DTSTAMP:20260423T090317Z
DTSTART;TZID=Europe/Berlin:20230625T150000
GEO:49.676745;12.516367
LOCATION:Schützenverein Reichenau\, Reichenau\, Waidhaus
SEQUENCE:0
SUMMARY:Landerer Fest
UID:e_100010857_iv1
URL:http://pages.destination.one/de/oberpfaelzerwald/streaming/detail/Event
 /e_100010857/landerer-fest
END:VEVENT
BEGIN:VEVENT
CATEGORIES:Feste/Bälle/Tanz
CATEGORIES:Sonstiges
DESCRIPTION:Wir laden recht herzlich ein zum Landerer Fest nach Reichenau.\
 n\nmehr Informationen unter http://pages.destination.one/de/oberpfaelzerwa
 ld/streaming/detail/Event/e_100010857/landerer-fest
DTEND;TZID=Europe/Berlin:20240623T235900
DTSTAMP:20260423T090317Z
DTSTART;TZID=Europe/Berlin:20240623T150000
GEO:49.676745;12.516367
LOCATION:Schützenverein Reichenau\, Reichenau\, Waidhaus
SEQUENCE:0
SUMMARY:Landerer Fest
UID:e_100010857_iv2
URL:http://pages.destination.one/de/oberpfaelzerwald/streaming/detail/Event
 /e_100010857/landerer-fest
END:VEVENT
BEGIN:VEVENT
CATEGORIES:Feste/Bälle/Tanz
CATEGORIES:Sonstiges
DESCRIPTION:Wir laden recht herzlich ein zum Landerer Fest nach Reichenau.\
 n\nmehr Informationen unter http://pages.destination.one/de/oberpfaelzerwa
 ld/streaming/detail/Event/e_100010857/landerer-fest
DTEND;TZID=Europe/Berlin:20250629T235900
DTSTAMP:20260423T090317Z
DTSTART;TZID=Europe/Berlin:20250629T150000
GEO:49.676745;12.516367
LOCATION:Schützenverein Reichenau\, Reichenau\, Waidhaus
SEQUENCE:0
SUMMARY:Landerer Fest
UID:e_100010857_iv3
URL:http://pages.destination.one/de/oberpfaelzerwald/streaming/detail/Event
 /e_100010857/landerer-fest
END:VEVENT
BEGIN:VEVENT
CATEGORIES:Feste/Bälle/Tanz
CATEGORIES:Sonstiges
DESCRIPTION:Wir laden recht herzlich ein zum Landerer Fest nach Reichenau.\
 n\nmehr Informationen unter http://pages.destination.one/de/oberpfaelzerwa
 ld/streaming/detail/Event/e_100010857/landerer-fest
DTEND;TZID=Europe/Berlin:20260628T235900
DTSTAMP:20260423T090317Z
DTSTART;TZID=Europe/Berlin:20260628T150000
GEO:49.676745;12.516367
LOCATION:Schützenverein Reichenau\, Reichenau\, Waidhaus
SEQUENCE:0
SUMMARY:Landerer Fest
UID:e_100010857_iv4
URL:http://pages.destination.one/de/oberpfaelzerwald/streaming/detail/Event
 /e_100010857/landerer-fest
END:VEVENT
BEGIN:VTIMEZONE
TZID:Europe/Berlin
X-LIC-LOCATION:Europe/Berlin
BEGIN:DAYLIGHT
DTSTART:19700329T020000
RRULE:FREQ=YEARLY;BYDAY=-1SU;BYMONTH=3
TZNAME:CEST
TZOFFSETFROM:+0100
TZOFFSETTO:+0200
END:DAYLIGHT
BEGIN:STANDARD
DTSTART:19701025T030000
RRULE:FREQ=YEARLY;BYDAY=-1SU;BYMONTH=10
TZNAME:CET
TZOFFSETFROM:+0200
TZOFFSETTO:+0100
END:STANDARD
END:VTIMEZONE
END:VCALENDAR
