BEGIN:VCALENDAR
VERSION:2.0
PRODID:-//destination.one//NONSGML destination.meta API//DE
X-WR-CALDESC:A calendar powered by destination.meta
X-WR-CALNAME:oberpfaelzerwald Kalender via destination.meta
BEGIN:VEVENT
CATEGORIES:Sonstiges
CATEGORIES:Markt
DESCRIPTION:Herbst-/Erntemarkt in Waldsassen\n\nmehr Informationen unter ht
 tp://pages.destination.one/de/oberpfaelzerwald/streaming/detail/Event/e_10
 0013049/herbst-erntemarkt
DTEND;TZID=Europe/Berlin:20150906T170000
DTSTAMP:20260423T090315Z
DTSTART;TZID=Europe/Berlin:20150906T080000
GEO:50.004388;12.306919
LOCATION:Johannisplatz - Altstadtgebiet\, Basilikaplatz 3\, Waldsassen
ORGANIZER;CN=Stadt Waldsassen:mailto:stadt@waldsassen.de
SEQUENCE:0
SUMMARY:Herbst-/Erntemarkt
UID:e_100013049_iv0
URL:http://pages.destination.one/de/oberpfaelzerwald/streaming/detail/Event
 /e_100013049/herbst-erntemarkt
END:VEVENT
BEGIN:VEVENT
CATEGORIES:Sonstiges
CATEGORIES:Markt
DESCRIPTION:Herbst-/Erntemarkt in Waldsassen\n\nmehr Informationen unter ht
 tp://pages.destination.one/de/oberpfaelzerwald/streaming/detail/Event/e_10
 0013049/herbst-erntemarkt
DTEND;TZID=Europe/Berlin:20160904T170000
DTSTAMP:20260423T090315Z
DTSTART;TZID=Europe/Berlin:20160904T080000
GEO:50.004388;12.306919
LOCATION:Johannisplatz - Altstadtgebiet\, Basilikaplatz 3\, Waldsassen
ORGANIZER;CN=Stadt Waldsassen:mailto:stadt@waldsassen.de
SEQUENCE:0
SUMMARY:Herbst-/Erntemarkt
UID:e_100013049_iv1
URL:http://pages.destination.one/de/oberpfaelzerwald/streaming/detail/Event
 /e_100013049/herbst-erntemarkt
END:VEVENT
BEGIN:VEVENT
CATEGORIES:Sonstiges
CATEGORIES:Markt
DESCRIPTION:Herbst-/Erntemarkt in Waldsassen\n\nmehr Informationen unter ht
 tp://pages.destination.one/de/oberpfaelzerwald/streaming/detail/Event/e_10
 0013049/herbst-erntemarkt
DTEND;TZID=Europe/Berlin:20170903T170000
DTSTAMP:20260423T090315Z
DTSTART;TZID=Europe/Berlin:20170903T080000
GEO:50.004388;12.306919
LOCATION:Johannisplatz - Altstadtgebiet\, Basilikaplatz 3\, Waldsassen
ORGANIZER;CN=Stadt Waldsassen:mailto:stadt@waldsassen.de
SEQUENCE:0
SUMMARY:Herbst-/Erntemarkt
UID:e_100013049_iv2
URL:http://pages.destination.one/de/oberpfaelzerwald/streaming/detail/Event
 /e_100013049/herbst-erntemarkt
END:VEVENT
BEGIN:VEVENT
CATEGORIES:Sonstiges
CATEGORIES:Markt
DESCRIPTION:Herbst-/Erntemarkt in Waldsassen\n\nmehr Informationen unter ht
 tp://pages.destination.one/de/oberpfaelzerwald/streaming/detail/Event/e_10
 0013049/herbst-erntemarkt
DTEND;TZID=Europe/Berlin:20180902T170000
DTSTAMP:20260423T090315Z
DTSTART;TZID=Europe/Berlin:20180902T080000
GEO:50.004388;12.306919
LOCATION:Johannisplatz - Altstadtgebiet\, Basilikaplatz 3\, Waldsassen
ORGANIZER;CN=Stadt Waldsassen:mailto:stadt@waldsassen.de
SEQUENCE:0
SUMMARY:Herbst-/Erntemarkt
UID:e_100013049_iv3
URL:http://pages.destination.one/de/oberpfaelzerwald/streaming/detail/Event
 /e_100013049/herbst-erntemarkt
END:VEVENT
BEGIN:VEVENT
CATEGORIES:Sonstiges
CATEGORIES:Markt
DESCRIPTION:Herbst-/Erntemarkt in Waldsassen\n\nmehr Informationen unter ht
 tp://pages.destination.one/de/oberpfaelzerwald/streaming/detail/Event/e_10
 0013049/herbst-erntemarkt
DTEND;TZID=Europe/Berlin:20190901T170000
DTSTAMP:20260423T090315Z
DTSTART;TZID=Europe/Berlin:20190901T080000
GEO:50.004388;12.306919
LOCATION:Johannisplatz - Altstadtgebiet\, Basilikaplatz 3\, Waldsassen
ORGANIZER;CN=Stadt Waldsassen:mailto:stadt@waldsassen.de
SEQUENCE:0
SUMMARY:Herbst-/Erntemarkt
UID:e_100013049_iv4
URL:http://pages.destination.one/de/oberpfaelzerwald/streaming/detail/Event
 /e_100013049/herbst-erntemarkt
END:VEVENT
BEGIN:VEVENT
CATEGORIES:Sonstiges
CATEGORIES:Markt
DESCRIPTION:Herbst-/Erntemarkt in Waldsassen\n\nmehr Informationen unter ht
 tp://pages.destination.one/de/oberpfaelzerwald/streaming/detail/Event/e_10
 0013049/herbst-erntemarkt
DTEND;TZID=Europe/Berlin:20200906T170000
DTSTAMP:20260423T090315Z
DTSTART;TZID=Europe/Berlin:20200906T080000
GEO:50.004388;12.306919
LOCATION:Johannisplatz - Altstadtgebiet\, Basilikaplatz 3\, Waldsassen
ORGANIZER;CN=Stadt Waldsassen:mailto:stadt@waldsassen.de
SEQUENCE:0
SUMMARY:Herbst-/Erntemarkt
UID:e_100013049_iv5
URL:http://pages.destination.one/de/oberpfaelzerwald/streaming/detail/Event
 /e_100013049/herbst-erntemarkt
END:VEVENT
BEGIN:VEVENT
CATEGORIES:Sonstiges
CATEGORIES:Markt
DESCRIPTION:Herbst-/Erntemarkt in Waldsassen\n\nmehr Informationen unter ht
 tp://pages.destination.one/de/oberpfaelzerwald/streaming/detail/Event/e_10
 0013049/herbst-erntemarkt
DTEND;TZID=Europe/Berlin:20210905T170000
DTSTAMP:20260423T090315Z
DTSTART;TZID=Europe/Berlin:20210905T080000
GEO:50.004388;12.306919
LOCATION:Johannisplatz - Altstadtgebiet\, Basilikaplatz 3\, Waldsassen
ORGANIZER;CN=Stadt Waldsassen:mailto:stadt@waldsassen.de
SEQUENCE:0
SUMMARY:Herbst-/Erntemarkt
UID:e_100013049_iv6
URL:http://pages.destination.one/de/oberpfaelzerwald/streaming/detail/Event
 /e_100013049/herbst-erntemarkt
END:VEVENT
BEGIN:VEVENT
CATEGORIES:Sonstiges
CATEGORIES:Markt
DESCRIPTION:Herbst-/Erntemarkt in Waldsassen\n\nmehr Informationen unter ht
 tp://pages.destination.one/de/oberpfaelzerwald/streaming/detail/Event/e_10
 0013049/herbst-erntemarkt
DTEND;TZID=Europe/Berlin:20220904T170000
DTSTAMP:20260423T090315Z
DTSTART;TZID=Europe/Berlin:20220904T080000
GEO:50.004388;12.306919
LOCATION:Johannisplatz - Altstadtgebiet\, Basilikaplatz 3\, Waldsassen
ORGANIZER;CN=Stadt Waldsassen:mailto:stadt@waldsassen.de
SEQUENCE:0
SUMMARY:Herbst-/Erntemarkt
UID:e_100013049_iv7
URL:http://pages.destination.one/de/oberpfaelzerwald/streaming/detail/Event
 /e_100013049/herbst-erntemarkt
END:VEVENT
BEGIN:VEVENT
CATEGORIES:Sonstiges
CATEGORIES:Markt
DESCRIPTION:Herbst-/Erntemarkt in Waldsassen\n\nmehr Informationen unter ht
 tp://pages.destination.one/de/oberpfaelzerwald/streaming/detail/Event/e_10
 0013049/herbst-erntemarkt
DTEND;TZID=Europe/Berlin:20230903T235900
DTSTAMP:20260423T090315Z
DTSTART;TZID=Europe/Berlin:20230903T080000
GEO:50.004388;12.306919
LOCATION:Johannisplatz - Altstadtgebiet\, Basilikaplatz 3\, Waldsassen
ORGANIZER;CN=Stadt Waldsassen:mailto:stadt@waldsassen.de
SEQUENCE:0
SUMMARY:Herbst-/Erntemarkt
UID:e_100013049_iv8
URL:http://pages.destination.one/de/oberpfaelzerwald/streaming/detail/Event
 /e_100013049/herbst-erntemarkt
END:VEVENT
BEGIN:VEVENT
CATEGORIES:Sonstiges
CATEGORIES:Markt
DESCRIPTION:Herbst-/Erntemarkt in Waldsassen\n\nmehr Informationen unter ht
 tp://pages.destination.one/de/oberpfaelzerwald/streaming/detail/Event/e_10
 0013049/herbst-erntemarkt
DTEND;TZID=Europe/Berlin:20240901T170000
DTSTAMP:20260423T090315Z
DTSTART;TZID=Europe/Berlin:20240901T080000
GEO:50.004388;12.306919
LOCATION:Johannisplatz - Altstadtgebiet\, Basilikaplatz 3\, Waldsassen
ORGANIZER;CN=Stadt Waldsassen:mailto:stadt@waldsassen.de
SEQUENCE:0
SUMMARY:Herbst-/Erntemarkt
UID:e_100013049_iv9
URL:http://pages.destination.one/de/oberpfaelzerwald/streaming/detail/Event
 /e_100013049/herbst-erntemarkt
END:VEVENT
BEGIN:VEVENT
CATEGORIES:Sonstiges
CATEGORIES:Markt
DESCRIPTION:Herbst-/Erntemarkt in Waldsassen\n\nmehr Informationen unter ht
 tp://pages.destination.one/de/oberpfaelzerwald/streaming/detail/Event/e_10
 0013049/herbst-erntemarkt
DTEND;TZID=Europe/Berlin:20250907T170000
DTSTAMP:20260423T090315Z
DTSTART;TZID=Europe/Berlin:20250907T080000
GEO:50.004388;12.306919
LOCATION:Johannisplatz - Altstadtgebiet\, Basilikaplatz 3\, Waldsassen
ORGANIZER;CN=Stadt Waldsassen:mailto:stadt@waldsassen.de
SEQUENCE:0
SUMMARY:Herbst-/Erntemarkt
UID:e_100013049_iv10
URL:http://pages.destination.one/de/oberpfaelzerwald/streaming/detail/Event
 /e_100013049/herbst-erntemarkt
END:VEVENT
BEGIN:VEVENT
CATEGORIES:Sonstiges
CATEGORIES:Markt
DESCRIPTION:Herbst-/Erntemarkt in Waldsassen\n\nmehr Informationen unter ht
 tp://pages.destination.one/de/oberpfaelzerwald/streaming/detail/Event/e_10
 0013049/herbst-erntemarkt
DTEND;TZID=Europe/Berlin:20260906T170000
DTSTAMP:20260423T090315Z
DTSTART;TZID=Europe/Berlin:20260906T080000
GEO:50.004388;12.306919
LOCATION:Johannisplatz - Altstadtgebiet\, Basilikaplatz 3\, Waldsassen
ORGANIZER;CN=Stadt Waldsassen:mailto:stadt@waldsassen.de
SEQUENCE:0
SUMMARY:Herbst-/Erntemarkt
UID:e_100013049_iv11
URL:http://pages.destination.one/de/oberpfaelzerwald/streaming/detail/Event
 /e_100013049/herbst-erntemarkt
END:VEVENT
BEGIN:VTIMEZONE
TZID:Europe/Berlin
X-LIC-LOCATION:Europe/Berlin
BEGIN:DAYLIGHT
DTSTART:19700329T020000
RRULE:FREQ=YEARLY;BYDAY=-1SU;BYMONTH=3
TZNAME:CEST
TZOFFSETFROM:+0100
TZOFFSETTO:+0200
END:DAYLIGHT
BEGIN:STANDARD
DTSTART:19701025T030000
RRULE:FREQ=YEARLY;BYDAY=-1SU;BYMONTH=10
TZNAME:CET
TZOFFSETFROM:+0200
TZOFFSETTO:+0100
END:STANDARD
END:VTIMEZONE
END:VCALENDAR
