BEGIN:VCALENDAR
VERSION:2.0
PRODID:-//destination.one//NONSGML destination.meta API//DE
X-WR-CALDESC:A calendar powered by destination.meta
X-WR-CALNAME:oberpfaelzerwald Kalender via destination.meta
BEGIN:VEVENT
CATEGORIES:Kirche
CATEGORIES:Brauchtum/Kultur
CATEGORIES:Volks- und Straßenfeste
DESCRIPTION:um 09:30 Uhr Pontifkalgottesdienst mit Hwst. Herrn Weihbischof 
 Dr. Josef Graf\n\nmehr Informationen unter http://pages.destination.one/de
 /oberpfaelzerwald/streaming/detail/Event/e_100013566/kleines-kapplfest
DTEND;TZID=Europe/Berlin;VALUE=DATE:20150515
DTSTAMP:20260421T122911Z
DTSTART;TZID=Europe/Berlin;VALUE=DATE:20150514
GEO:50.029413;12.276964
LOCATION:Dreifaltigkeitskirche Kappl\, Kappl 2\, Waldsassen
ORGANIZER;CN=Kath. Pfarramt Münchenreuth:http://www.kapplkirche.de/
SEQUENCE:0
SUMMARY:Kleines Kapplfest
UID:e_100013566_iv0
URL:http://pages.destination.one/de/oberpfaelzerwald/streaming/detail/Event
 /e_100013566/kleines-kapplfest
END:VEVENT
BEGIN:VEVENT
CATEGORIES:Kirche
CATEGORIES:Brauchtum/Kultur
CATEGORIES:Volks- und Straßenfeste
DESCRIPTION:um 09:30 Uhr Pontifkalgottesdienst mit Hwst. Herrn Weihbischof 
 Dr. Josef Graf\n\nmehr Informationen unter http://pages.destination.one/de
 /oberpfaelzerwald/streaming/detail/Event/e_100013566/kleines-kapplfest
DTEND;TZID=Europe/Berlin;VALUE=DATE:20160506
DTSTAMP:20260421T122911Z
DTSTART;TZID=Europe/Berlin;VALUE=DATE:20160505
GEO:50.029413;12.276964
LOCATION:Dreifaltigkeitskirche Kappl\, Kappl 2\, Waldsassen
ORGANIZER;CN=Kath. Pfarramt Münchenreuth:http://www.kapplkirche.de/
SEQUENCE:0
SUMMARY:Kleines Kapplfest
UID:e_100013566_iv1
URL:http://pages.destination.one/de/oberpfaelzerwald/streaming/detail/Event
 /e_100013566/kleines-kapplfest
END:VEVENT
BEGIN:VEVENT
CATEGORIES:Kirche
CATEGORIES:Brauchtum/Kultur
CATEGORIES:Volks- und Straßenfeste
DESCRIPTION:um 09:30 Uhr Pontifkalgottesdienst mit Hwst. Herrn Weihbischof 
 Dr. Josef Graf\n\nmehr Informationen unter http://pages.destination.one/de
 /oberpfaelzerwald/streaming/detail/Event/e_100013566/kleines-kapplfest
DTEND;TZID=Europe/Berlin;VALUE=DATE:20170526
DTSTAMP:20260421T122911Z
DTSTART;TZID=Europe/Berlin;VALUE=DATE:20170525
GEO:50.029413;12.276964
LOCATION:Dreifaltigkeitskirche Kappl\, Kappl 2\, Waldsassen
ORGANIZER;CN=Kath. Pfarramt Münchenreuth:http://www.kapplkirche.de/
SEQUENCE:0
SUMMARY:Kleines Kapplfest
UID:e_100013566_iv2
URL:http://pages.destination.one/de/oberpfaelzerwald/streaming/detail/Event
 /e_100013566/kleines-kapplfest
END:VEVENT
BEGIN:VEVENT
CATEGORIES:Kirche
CATEGORIES:Brauchtum/Kultur
CATEGORIES:Volks- und Straßenfeste
DESCRIPTION:um 09:30 Uhr Pontifkalgottesdienst mit Hwst. Herrn Weihbischof 
 Dr. Josef Graf\n\nmehr Informationen unter http://pages.destination.one/de
 /oberpfaelzerwald/streaming/detail/Event/e_100013566/kleines-kapplfest
DTEND;TZID=Europe/Berlin;VALUE=DATE:20180511
DTSTAMP:20260421T122911Z
DTSTART;TZID=Europe/Berlin;VALUE=DATE:20180510
GEO:50.029413;12.276964
LOCATION:Dreifaltigkeitskirche Kappl\, Kappl 2\, Waldsassen
ORGANIZER;CN=Kath. Pfarramt Münchenreuth:http://www.kapplkirche.de/
SEQUENCE:0
SUMMARY:Kleines Kapplfest
UID:e_100013566_iv3
URL:http://pages.destination.one/de/oberpfaelzerwald/streaming/detail/Event
 /e_100013566/kleines-kapplfest
END:VEVENT
BEGIN:VEVENT
CATEGORIES:Kirche
CATEGORIES:Brauchtum/Kultur
CATEGORIES:Volks- und Straßenfeste
DESCRIPTION:um 09:30 Uhr Pontifkalgottesdienst mit Hwst. Herrn Weihbischof 
 Dr. Josef Graf\n\nmehr Informationen unter http://pages.destination.one/de
 /oberpfaelzerwald/streaming/detail/Event/e_100013566/kleines-kapplfest
DTEND;TZID=Europe/Berlin;VALUE=DATE:20190531
DTSTAMP:20260421T122911Z
DTSTART;TZID=Europe/Berlin;VALUE=DATE:20190530
GEO:50.029413;12.276964
LOCATION:Dreifaltigkeitskirche Kappl\, Kappl 2\, Waldsassen
ORGANIZER;CN=Kath. Pfarramt Münchenreuth:http://www.kapplkirche.de/
SEQUENCE:0
SUMMARY:Kleines Kapplfest
UID:e_100013566_iv4
URL:http://pages.destination.one/de/oberpfaelzerwald/streaming/detail/Event
 /e_100013566/kleines-kapplfest
END:VEVENT
BEGIN:VEVENT
CATEGORIES:Kirche
CATEGORIES:Brauchtum/Kultur
CATEGORIES:Volks- und Straßenfeste
DESCRIPTION:um 09:30 Uhr Pontifkalgottesdienst mit Hwst. Herrn Weihbischof 
 Dr. Josef Graf\n\nmehr Informationen unter http://pages.destination.one/de
 /oberpfaelzerwald/streaming/detail/Event/e_100013566/kleines-kapplfest
DTEND;TZID=Europe/Berlin:20200521T180000
DTSTAMP:20260421T122911Z
DTSTART;TZID=Europe/Berlin:20200521T103000
GEO:50.029413;12.276964
LOCATION:Dreifaltigkeitskirche Kappl\, Kappl 2\, Waldsassen
ORGANIZER;CN=Kath. Pfarramt Münchenreuth:http://www.kapplkirche.de/
SEQUENCE:0
SUMMARY:Kleines Kapplfest
UID:e_100013566_iv5
URL:http://pages.destination.one/de/oberpfaelzerwald/streaming/detail/Event
 /e_100013566/kleines-kapplfest
END:VEVENT
BEGIN:VEVENT
CATEGORIES:Kirche
CATEGORIES:Brauchtum/Kultur
CATEGORIES:Volks- und Straßenfeste
DESCRIPTION:um 09:30 Uhr Pontifkalgottesdienst mit Hwst. Herrn Weihbischof 
 Dr. Josef Graf\n\nmehr Informationen unter http://pages.destination.one/de
 /oberpfaelzerwald/streaming/detail/Event/e_100013566/kleines-kapplfest
DTEND;TZID=Europe/Berlin:20210513T180000
DTSTAMP:20260421T122911Z
DTSTART;TZID=Europe/Berlin:20210513T103000
GEO:50.029413;12.276964
LOCATION:Dreifaltigkeitskirche Kappl\, Kappl 2\, Waldsassen
ORGANIZER;CN=Kath. Pfarramt Münchenreuth:http://www.kapplkirche.de/
SEQUENCE:0
SUMMARY:Kleines Kapplfest
UID:e_100013566_iv6
URL:http://pages.destination.one/de/oberpfaelzerwald/streaming/detail/Event
 /e_100013566/kleines-kapplfest
END:VEVENT
BEGIN:VEVENT
CATEGORIES:Kirche
CATEGORIES:Brauchtum/Kultur
CATEGORIES:Volks- und Straßenfeste
DESCRIPTION:um 09:30 Uhr Pontifkalgottesdienst mit Hwst. Herrn Weihbischof 
 Dr. Josef Graf\n\nmehr Informationen unter http://pages.destination.one/de
 /oberpfaelzerwald/streaming/detail/Event/e_100013566/kleines-kapplfest
DTEND;TZID=Europe/Berlin:20220526T180000
DTSTAMP:20260421T122911Z
DTSTART;TZID=Europe/Berlin:20220526T103000
GEO:50.029413;12.276964
LOCATION:Dreifaltigkeitskirche Kappl\, Kappl 2\, Waldsassen
ORGANIZER;CN=Kath. Pfarramt Münchenreuth:http://www.kapplkirche.de/
SEQUENCE:0
SUMMARY:Kleines Kapplfest
UID:e_100013566_iv7
URL:http://pages.destination.one/de/oberpfaelzerwald/streaming/detail/Event
 /e_100013566/kleines-kapplfest
END:VEVENT
BEGIN:VEVENT
CATEGORIES:Kirche
CATEGORIES:Brauchtum/Kultur
CATEGORIES:Volks- und Straßenfeste
DESCRIPTION:um 09:30 Uhr Pontifkalgottesdienst mit Hwst. Herrn Weihbischof 
 Dr. Josef Graf\n\nmehr Informationen unter http://pages.destination.one/de
 /oberpfaelzerwald/streaming/detail/Event/e_100013566/kleines-kapplfest
DTEND;TZID=Europe/Berlin;VALUE=DATE:20230519
DTSTAMP:20260421T122911Z
DTSTART;TZID=Europe/Berlin;VALUE=DATE:20230518
GEO:50.029413;12.276964
LOCATION:Dreifaltigkeitskirche Kappl\, Kappl 2\, Waldsassen
ORGANIZER;CN=Kath. Pfarramt Münchenreuth:http://www.kapplkirche.de/
SEQUENCE:0
SUMMARY:Kleines Kapplfest
UID:e_100013566_iv8
URL:http://pages.destination.one/de/oberpfaelzerwald/streaming/detail/Event
 /e_100013566/kleines-kapplfest
END:VEVENT
BEGIN:VEVENT
CATEGORIES:Kirche
CATEGORIES:Brauchtum/Kultur
CATEGORIES:Volks- und Straßenfeste
DESCRIPTION:um 09:30 Uhr Pontifkalgottesdienst mit Hwst. Herrn Weihbischof 
 Dr. Josef Graf\n\nmehr Informationen unter http://pages.destination.one/de
 /oberpfaelzerwald/streaming/detail/Event/e_100013566/kleines-kapplfest
DTEND;TZID=Europe/Berlin:20240509T180000
DTSTAMP:20260421T122911Z
DTSTART;TZID=Europe/Berlin:20240509T093000
GEO:50.029413;12.276964
LOCATION:Dreifaltigkeitskirche Kappl\, Kappl 2\, Waldsassen
ORGANIZER;CN=Kath. Pfarramt Münchenreuth:http://www.kapplkirche.de/
SEQUENCE:0
SUMMARY:Kleines Kapplfest
UID:e_100013566_iv9
URL:http://pages.destination.one/de/oberpfaelzerwald/streaming/detail/Event
 /e_100013566/kleines-kapplfest
END:VEVENT
BEGIN:VEVENT
CATEGORIES:Kirche
CATEGORIES:Brauchtum/Kultur
CATEGORIES:Volks- und Straßenfeste
DESCRIPTION:um 09:30 Uhr Pontifkalgottesdienst mit Hwst. Herrn Weihbischof 
 Dr. Josef Graf\n\nmehr Informationen unter http://pages.destination.one/de
 /oberpfaelzerwald/streaming/detail/Event/e_100013566/kleines-kapplfest
DTEND;TZID=Europe/Berlin:20250529T180000
DTSTAMP:20260421T122911Z
DTSTART;TZID=Europe/Berlin:20250529T093000
GEO:50.029413;12.276964
LOCATION:Dreifaltigkeitskirche Kappl\, Kappl 2\, Waldsassen
ORGANIZER;CN=Kath. Pfarramt Münchenreuth:http://www.kapplkirche.de/
SEQUENCE:0
SUMMARY:Kleines Kapplfest
UID:e_100013566_iv10
URL:http://pages.destination.one/de/oberpfaelzerwald/streaming/detail/Event
 /e_100013566/kleines-kapplfest
END:VEVENT
BEGIN:VEVENT
CATEGORIES:Kirche
CATEGORIES:Brauchtum/Kultur
CATEGORIES:Volks- und Straßenfeste
DESCRIPTION:um 09:30 Uhr Pontifkalgottesdienst mit Hwst. Herrn Weihbischof 
 Dr. Josef Graf\n\nmehr Informationen unter http://pages.destination.one/de
 /oberpfaelzerwald/streaming/detail/Event/e_100013566/kleines-kapplfest
DTEND;TZID=Europe/Berlin:20260514T235900
DTSTAMP:20260421T122911Z
DTSTART;TZID=Europe/Berlin:20260514T093000
GEO:50.029413;12.276964
LOCATION:Dreifaltigkeitskirche Kappl\, Kappl 2\, Waldsassen
ORGANIZER;CN=Kath. Pfarramt Münchenreuth:http://www.kapplkirche.de/
SEQUENCE:0
SUMMARY:Kleines Kapplfest
UID:e_100013566_iv11
URL:http://pages.destination.one/de/oberpfaelzerwald/streaming/detail/Event
 /e_100013566/kleines-kapplfest
END:VEVENT
BEGIN:VTIMEZONE
TZID:Europe/Berlin
X-LIC-LOCATION:Europe/Berlin
BEGIN:DAYLIGHT
DTSTART:19700329T020000
RRULE:FREQ=YEARLY;BYDAY=-1SU;BYMONTH=3
TZNAME:CEST
TZOFFSETFROM:+0100
TZOFFSETTO:+0200
END:DAYLIGHT
BEGIN:STANDARD
DTSTART:19701025T030000
RRULE:FREQ=YEARLY;BYDAY=-1SU;BYMONTH=10
TZNAME:CET
TZOFFSETFROM:+0200
TZOFFSETTO:+0100
END:STANDARD
END:VTIMEZONE
END:VCALENDAR
