BEGIN:VCALENDAR
VERSION:2.0
PRODID:-//destination.one//NONSGML destination.meta API//DE
X-WR-CALDESC:A calendar powered by destination.meta
X-WR-CALNAME:oberpfaelzerwald Kalender via destination.meta
BEGIN:VEVENT
CATEGORIES:Kirche
CATEGORIES:Brauchtum/Kultur
CATEGORIES:Volks- und Straßenfeste
CATEGORIES:Feste/Bälle/Tanz
CATEGORIES:Sonstiges
DESCRIPTION:9:30 Uhr Festgottesdienst zum Patrozinium mit Chorgesang.\n11:0
 0 Uhr Gottesdienst mit der Müncheneuther Bauernkapelle.\n\nmehr Informatio
 nen unter http://pages.destination.one/de/oberpfaelzerwald/streaming/detai
 l/Event/e_100013569/gro-es-kapplfest
DTEND;TZID=Europe/Berlin;VALUE=DATE:20150601
DTSTAMP:20260421T135753Z
DTSTART;TZID=Europe/Berlin;VALUE=DATE:20150531
GEO:50.029413;12.276964
LOCATION:Dreifaltigkeitskirche Kappl\, Kappl 2\, Waldsassen
ORGANIZER;CN=Kath. Pfarramt Münchenreuth:http://www.kapplkirche.de/
SEQUENCE:0
SUMMARY:Großes Kapplfest
UID:e_100013569_iv0
URL:http://pages.destination.one/de/oberpfaelzerwald/streaming/detail/Event
 /e_100013569/gro-es-kapplfest
END:VEVENT
BEGIN:VEVENT
CATEGORIES:Kirche
CATEGORIES:Brauchtum/Kultur
CATEGORIES:Volks- und Straßenfeste
CATEGORIES:Feste/Bälle/Tanz
CATEGORIES:Sonstiges
DESCRIPTION:9:30 Uhr Festgottesdienst zum Patrozinium mit Chorgesang.\n11:0
 0 Uhr Gottesdienst mit der Müncheneuther Bauernkapelle.\n\nmehr Informatio
 nen unter http://pages.destination.one/de/oberpfaelzerwald/streaming/detai
 l/Event/e_100013569/gro-es-kapplfest
DTEND;TZID=Europe/Berlin;VALUE=DATE:20160523
DTSTAMP:20260421T135753Z
DTSTART;TZID=Europe/Berlin;VALUE=DATE:20160522
GEO:50.029413;12.276964
LOCATION:Dreifaltigkeitskirche Kappl\, Kappl 2\, Waldsassen
ORGANIZER;CN=Kath. Pfarramt Münchenreuth:http://www.kapplkirche.de/
SEQUENCE:0
SUMMARY:Großes Kapplfest
UID:e_100013569_iv1
URL:http://pages.destination.one/de/oberpfaelzerwald/streaming/detail/Event
 /e_100013569/gro-es-kapplfest
END:VEVENT
BEGIN:VEVENT
CATEGORIES:Kirche
CATEGORIES:Brauchtum/Kultur
CATEGORIES:Volks- und Straßenfeste
CATEGORIES:Feste/Bälle/Tanz
CATEGORIES:Sonstiges
DESCRIPTION:9:30 Uhr Festgottesdienst zum Patrozinium mit Chorgesang.\n11:0
 0 Uhr Gottesdienst mit der Müncheneuther Bauernkapelle.\n\nmehr Informatio
 nen unter http://pages.destination.one/de/oberpfaelzerwald/streaming/detai
 l/Event/e_100013569/gro-es-kapplfest
DTEND;TZID=Europe/Berlin;VALUE=DATE:20170612
DTSTAMP:20260421T135753Z
DTSTART;TZID=Europe/Berlin;VALUE=DATE:20170611
GEO:50.029413;12.276964
LOCATION:Dreifaltigkeitskirche Kappl\, Kappl 2\, Waldsassen
ORGANIZER;CN=Kath. Pfarramt Münchenreuth:http://www.kapplkirche.de/
SEQUENCE:0
SUMMARY:Großes Kapplfest
UID:e_100013569_iv2
URL:http://pages.destination.one/de/oberpfaelzerwald/streaming/detail/Event
 /e_100013569/gro-es-kapplfest
END:VEVENT
BEGIN:VEVENT
CATEGORIES:Kirche
CATEGORIES:Brauchtum/Kultur
CATEGORIES:Volks- und Straßenfeste
CATEGORIES:Feste/Bälle/Tanz
CATEGORIES:Sonstiges
DESCRIPTION:9:30 Uhr Festgottesdienst zum Patrozinium mit Chorgesang.\n11:0
 0 Uhr Gottesdienst mit der Müncheneuther Bauernkapelle.\n\nmehr Informatio
 nen unter http://pages.destination.one/de/oberpfaelzerwald/streaming/detai
 l/Event/e_100013569/gro-es-kapplfest
DTEND;TZID=Europe/Berlin;VALUE=DATE:20180528
DTSTAMP:20260421T135753Z
DTSTART;TZID=Europe/Berlin;VALUE=DATE:20180527
GEO:50.029413;12.276964
LOCATION:Dreifaltigkeitskirche Kappl\, Kappl 2\, Waldsassen
ORGANIZER;CN=Kath. Pfarramt Münchenreuth:http://www.kapplkirche.de/
SEQUENCE:0
SUMMARY:Großes Kapplfest
UID:e_100013569_iv3
URL:http://pages.destination.one/de/oberpfaelzerwald/streaming/detail/Event
 /e_100013569/gro-es-kapplfest
END:VEVENT
BEGIN:VEVENT
CATEGORIES:Kirche
CATEGORIES:Brauchtum/Kultur
CATEGORIES:Volks- und Straßenfeste
CATEGORIES:Feste/Bälle/Tanz
CATEGORIES:Sonstiges
DESCRIPTION:9:30 Uhr Festgottesdienst zum Patrozinium mit Chorgesang.\n11:0
 0 Uhr Gottesdienst mit der Müncheneuther Bauernkapelle.\n\nmehr Informatio
 nen unter http://pages.destination.one/de/oberpfaelzerwald/streaming/detai
 l/Event/e_100013569/gro-es-kapplfest
DTEND;TZID=Europe/Berlin;VALUE=DATE:20190617
DTSTAMP:20260421T135753Z
DTSTART;TZID=Europe/Berlin;VALUE=DATE:20190616
GEO:50.029413;12.276964
LOCATION:Dreifaltigkeitskirche Kappl\, Kappl 2\, Waldsassen
ORGANIZER;CN=Kath. Pfarramt Münchenreuth:http://www.kapplkirche.de/
SEQUENCE:0
SUMMARY:Großes Kapplfest
UID:e_100013569_iv4
URL:http://pages.destination.one/de/oberpfaelzerwald/streaming/detail/Event
 /e_100013569/gro-es-kapplfest
END:VEVENT
BEGIN:VEVENT
CATEGORIES:Kirche
CATEGORIES:Brauchtum/Kultur
CATEGORIES:Volks- und Straßenfeste
CATEGORIES:Feste/Bälle/Tanz
CATEGORIES:Sonstiges
DESCRIPTION:9:30 Uhr Festgottesdienst zum Patrozinium mit Chorgesang.\n11:0
 0 Uhr Gottesdienst mit der Müncheneuther Bauernkapelle.\n\nmehr Informatio
 nen unter http://pages.destination.one/de/oberpfaelzerwald/streaming/detai
 l/Event/e_100013569/gro-es-kapplfest
DTEND;TZID=Europe/Berlin:20200607T180000
DTSTAMP:20260421T135753Z
DTSTART;TZID=Europe/Berlin:20200607T103000
GEO:50.029413;12.276964
LOCATION:Dreifaltigkeitskirche Kappl\, Kappl 2\, Waldsassen
ORGANIZER;CN=Kath. Pfarramt Münchenreuth:http://www.kapplkirche.de/
SEQUENCE:0
SUMMARY:Großes Kapplfest
UID:e_100013569_iv5
URL:http://pages.destination.one/de/oberpfaelzerwald/streaming/detail/Event
 /e_100013569/gro-es-kapplfest
END:VEVENT
BEGIN:VEVENT
CATEGORIES:Kirche
CATEGORIES:Brauchtum/Kultur
CATEGORIES:Volks- und Straßenfeste
CATEGORIES:Feste/Bälle/Tanz
CATEGORIES:Sonstiges
DESCRIPTION:9:30 Uhr Festgottesdienst zum Patrozinium mit Chorgesang.\n11:0
 0 Uhr Gottesdienst mit der Müncheneuther Bauernkapelle.\n\nmehr Informatio
 nen unter http://pages.destination.one/de/oberpfaelzerwald/streaming/detai
 l/Event/e_100013569/gro-es-kapplfest
DTEND;TZID=Europe/Berlin:20210531T180000
DTSTAMP:20260421T135753Z
DTSTART;TZID=Europe/Berlin:20210530T103000
GEO:50.029413;12.276964
LOCATION:Dreifaltigkeitskirche Kappl\, Kappl 2\, Waldsassen
ORGANIZER;CN=Kath. Pfarramt Münchenreuth:http://www.kapplkirche.de/
SEQUENCE:0
SUMMARY:Großes Kapplfest
UID:e_100013569_iv6
URL:http://pages.destination.one/de/oberpfaelzerwald/streaming/detail/Event
 /e_100013569/gro-es-kapplfest
END:VEVENT
BEGIN:VEVENT
CATEGORIES:Kirche
CATEGORIES:Brauchtum/Kultur
CATEGORIES:Volks- und Straßenfeste
CATEGORIES:Feste/Bälle/Tanz
CATEGORIES:Sonstiges
DESCRIPTION:9:30 Uhr Festgottesdienst zum Patrozinium mit Chorgesang.\n11:0
 0 Uhr Gottesdienst mit der Müncheneuther Bauernkapelle.\n\nmehr Informatio
 nen unter http://pages.destination.one/de/oberpfaelzerwald/streaming/detai
 l/Event/e_100013569/gro-es-kapplfest
DTEND;TZID=Europe/Berlin;VALUE=DATE:20220613
DTSTAMP:20260421T135753Z
DTSTART;TZID=Europe/Berlin;VALUE=DATE:20220612
GEO:50.029413;12.276964
LOCATION:Dreifaltigkeitskirche Kappl\, Kappl 2\, Waldsassen
ORGANIZER;CN=Kath. Pfarramt Münchenreuth:http://www.kapplkirche.de/
SEQUENCE:0
SUMMARY:Großes Kapplfest
UID:e_100013569_iv7
URL:http://pages.destination.one/de/oberpfaelzerwald/streaming/detail/Event
 /e_100013569/gro-es-kapplfest
END:VEVENT
BEGIN:VEVENT
CATEGORIES:Kirche
CATEGORIES:Brauchtum/Kultur
CATEGORIES:Volks- und Straßenfeste
CATEGORIES:Feste/Bälle/Tanz
CATEGORIES:Sonstiges
DESCRIPTION:9:30 Uhr Festgottesdienst zum Patrozinium mit Chorgesang.\n11:0
 0 Uhr Gottesdienst mit der Müncheneuther Bauernkapelle.\n\nmehr Informatio
 nen unter http://pages.destination.one/de/oberpfaelzerwald/streaming/detai
 l/Event/e_100013569/gro-es-kapplfest
DTEND;TZID=Europe/Berlin;VALUE=DATE:20230605
DTSTAMP:20260421T135753Z
DTSTART;TZID=Europe/Berlin;VALUE=DATE:20230604
GEO:50.029413;12.276964
LOCATION:Dreifaltigkeitskirche Kappl\, Kappl 2\, Waldsassen
ORGANIZER;CN=Kath. Pfarramt Münchenreuth:http://www.kapplkirche.de/
SEQUENCE:0
SUMMARY:Großes Kapplfest
UID:e_100013569_iv8
URL:http://pages.destination.one/de/oberpfaelzerwald/streaming/detail/Event
 /e_100013569/gro-es-kapplfest
END:VEVENT
BEGIN:VEVENT
CATEGORIES:Kirche
CATEGORIES:Brauchtum/Kultur
CATEGORIES:Volks- und Straßenfeste
CATEGORIES:Feste/Bälle/Tanz
CATEGORIES:Sonstiges
DESCRIPTION:9:30 Uhr Festgottesdienst zum Patrozinium mit Chorgesang.\n11:0
 0 Uhr Gottesdienst mit der Müncheneuther Bauernkapelle.\n\nmehr Informatio
 nen unter http://pages.destination.one/de/oberpfaelzerwald/streaming/detai
 l/Event/e_100013569/gro-es-kapplfest
DTEND;TZID=Europe/Berlin:20240526T180000
DTSTAMP:20260421T135753Z
DTSTART;TZID=Europe/Berlin:20240526T080000
GEO:50.029413;12.276964
LOCATION:Dreifaltigkeitskirche Kappl\, Kappl 2\, Waldsassen
ORGANIZER;CN=Kath. Pfarramt Münchenreuth:http://www.kapplkirche.de/
SEQUENCE:0
SUMMARY:Großes Kapplfest
UID:e_100013569_iv9
URL:http://pages.destination.one/de/oberpfaelzerwald/streaming/detail/Event
 /e_100013569/gro-es-kapplfest
END:VEVENT
BEGIN:VEVENT
CATEGORIES:Kirche
CATEGORIES:Brauchtum/Kultur
CATEGORIES:Volks- und Straßenfeste
CATEGORIES:Feste/Bälle/Tanz
CATEGORIES:Sonstiges
DESCRIPTION:9:30 Uhr Festgottesdienst zum Patrozinium mit Chorgesang.\n11:0
 0 Uhr Gottesdienst mit der Müncheneuther Bauernkapelle.\n\nmehr Informatio
 nen unter http://pages.destination.one/de/oberpfaelzerwald/streaming/detai
 l/Event/e_100013569/gro-es-kapplfest
DTEND;TZID=Europe/Berlin:20250615T180000
DTSTAMP:20260421T135753Z
DTSTART;TZID=Europe/Berlin:20250615T093000
GEO:50.029413;12.276964
LOCATION:Dreifaltigkeitskirche Kappl\, Kappl 2\, Waldsassen
ORGANIZER;CN=Kath. Pfarramt Münchenreuth:http://www.kapplkirche.de/
SEQUENCE:0
SUMMARY:Großes Kapplfest
UID:e_100013569_iv10
URL:http://pages.destination.one/de/oberpfaelzerwald/streaming/detail/Event
 /e_100013569/gro-es-kapplfest
END:VEVENT
BEGIN:VEVENT
CATEGORIES:Kirche
CATEGORIES:Brauchtum/Kultur
CATEGORIES:Volks- und Straßenfeste
CATEGORIES:Feste/Bälle/Tanz
CATEGORIES:Sonstiges
DESCRIPTION:9:30 Uhr Festgottesdienst zum Patrozinium mit Chorgesang.\n11:0
 0 Uhr Gottesdienst mit der Müncheneuther Bauernkapelle.\n\nmehr Informatio
 nen unter http://pages.destination.one/de/oberpfaelzerwald/streaming/detai
 l/Event/e_100013569/gro-es-kapplfest
DTEND;TZID=Europe/Berlin:20260531T180000
DTSTAMP:20260421T135753Z
DTSTART;TZID=Europe/Berlin:20260531T093000
GEO:50.029413;12.276964
LOCATION:Dreifaltigkeitskirche Kappl\, Kappl 2\, Waldsassen
ORGANIZER;CN=Kath. Pfarramt Münchenreuth:http://www.kapplkirche.de/
SEQUENCE:0
SUMMARY:Großes Kapplfest
UID:e_100013569_iv11
URL:http://pages.destination.one/de/oberpfaelzerwald/streaming/detail/Event
 /e_100013569/gro-es-kapplfest
END:VEVENT
BEGIN:VTIMEZONE
TZID:Europe/Berlin
X-LIC-LOCATION:Europe/Berlin
BEGIN:DAYLIGHT
DTSTART:19700329T020000
RRULE:FREQ=YEARLY;BYDAY=-1SU;BYMONTH=3
TZNAME:CEST
TZOFFSETFROM:+0100
TZOFFSETTO:+0200
END:DAYLIGHT
BEGIN:STANDARD
DTSTART:19701025T030000
RRULE:FREQ=YEARLY;BYDAY=-1SU;BYMONTH=10
TZNAME:CET
TZOFFSETFROM:+0200
TZOFFSETTO:+0100
END:STANDARD
END:VTIMEZONE
END:VCALENDAR
