BEGIN:VCALENDAR
VERSION:2.0
PRODID:-//destination.one//NONSGML destination.meta API//DE
X-WR-CALDESC:A calendar powered by destination.meta
X-WR-CALNAME:oberpfaelzerwald Kalender via destination.meta
BEGIN:VEVENT
CATEGORIES:Sonstiges
CATEGORIES:Kirche
DESCRIPTION:Um 14 Uhr feierliche Reliquienandacht zum Heilige-Leiber-Fest.\
 n\nmehr Informationen unter http://pages.destination.one/de/oberpfaelzerwa
 ld/streaming/detail/Event/e_100013571/heilige-leiber-fest
DTEND;TZID=Europe/Berlin:20150802T110000
DTSTAMP:20260423T090306Z
DTSTART;TZID=Europe/Berlin:20150802T093000
GEO:50.003943;12.308915
LOCATION:Stiftsbasilika \, Basilikaplatz 6\, Waldsassen
ORGANIZER;CN=Kath. Pfarrei Waldsassen:mailto:info@pfarrei-waldsassen.de
SEQUENCE:0
SUMMARY:Heilige-Leiber-Fest 
UID:e_100013571_iv0
URL:http://pages.destination.one/de/oberpfaelzerwald/streaming/detail/Event
 /e_100013571/heilige-leiber-fest
END:VEVENT
BEGIN:VEVENT
CATEGORIES:Sonstiges
CATEGORIES:Kirche
DESCRIPTION:Um 14 Uhr feierliche Reliquienandacht zum Heilige-Leiber-Fest.\
 n\nmehr Informationen unter http://pages.destination.one/de/oberpfaelzerwa
 ld/streaming/detail/Event/e_100013571/heilige-leiber-fest
DTEND;TZID=Europe/Berlin:20160807T103000
DTSTAMP:20260423T090306Z
DTSTART;TZID=Europe/Berlin:20160807T093000
GEO:50.003943;12.308915
LOCATION:Stiftsbasilika \, Basilikaplatz 6\, Waldsassen
ORGANIZER;CN=Kath. Pfarrei Waldsassen:mailto:info@pfarrei-waldsassen.de
SEQUENCE:0
SUMMARY:Heilige-Leiber-Fest 
UID:e_100013571_iv1
URL:http://pages.destination.one/de/oberpfaelzerwald/streaming/detail/Event
 /e_100013571/heilige-leiber-fest
END:VEVENT
BEGIN:VEVENT
CATEGORIES:Sonstiges
CATEGORIES:Kirche
DESCRIPTION:Um 14 Uhr feierliche Reliquienandacht zum Heilige-Leiber-Fest.\
 n\nmehr Informationen unter http://pages.destination.one/de/oberpfaelzerwa
 ld/streaming/detail/Event/e_100013571/heilige-leiber-fest
DTEND;TZID=Europe/Berlin:20170806T104500
DTSTAMP:20260423T090306Z
DTSTART;TZID=Europe/Berlin:20170806T093000
GEO:50.003943;12.308915
LOCATION:Stiftsbasilika \, Basilikaplatz 6\, Waldsassen
ORGANIZER;CN=Kath. Pfarrei Waldsassen:mailto:info@pfarrei-waldsassen.de
SEQUENCE:0
SUMMARY:Heilige-Leiber-Fest 
UID:e_100013571_iv2
URL:http://pages.destination.one/de/oberpfaelzerwald/streaming/detail/Event
 /e_100013571/heilige-leiber-fest
END:VEVENT
BEGIN:VEVENT
CATEGORIES:Sonstiges
CATEGORIES:Kirche
DESCRIPTION:Um 14 Uhr feierliche Reliquienandacht zum Heilige-Leiber-Fest.\
 n\nmehr Informationen unter http://pages.destination.one/de/oberpfaelzerwa
 ld/streaming/detail/Event/e_100013571/heilige-leiber-fest
DTEND;TZID=Europe/Berlin:20180805T110000
DTSTAMP:20260423T090306Z
DTSTART;TZID=Europe/Berlin:20180805T093000
GEO:50.003943;12.308915
LOCATION:Stiftsbasilika \, Basilikaplatz 6\, Waldsassen
ORGANIZER;CN=Kath. Pfarrei Waldsassen:mailto:info@pfarrei-waldsassen.de
SEQUENCE:0
SUMMARY:Heilige-Leiber-Fest 
UID:e_100013571_iv3
URL:http://pages.destination.one/de/oberpfaelzerwald/streaming/detail/Event
 /e_100013571/heilige-leiber-fest
END:VEVENT
BEGIN:VEVENT
CATEGORIES:Sonstiges
CATEGORIES:Kirche
DESCRIPTION:Um 14 Uhr feierliche Reliquienandacht zum Heilige-Leiber-Fest.\
 n\nmehr Informationen unter http://pages.destination.one/de/oberpfaelzerwa
 ld/streaming/detail/Event/e_100013571/heilige-leiber-fest
DTEND;TZID=Europe/Berlin:20190804T110000
DTSTAMP:20260423T090306Z
DTSTART;TZID=Europe/Berlin:20190804T093000
GEO:50.003943;12.308915
LOCATION:Stiftsbasilika \, Basilikaplatz 6\, Waldsassen
ORGANIZER;CN=Kath. Pfarrei Waldsassen:mailto:info@pfarrei-waldsassen.de
SEQUENCE:0
SUMMARY:Heilige-Leiber-Fest 
UID:e_100013571_iv4
URL:http://pages.destination.one/de/oberpfaelzerwald/streaming/detail/Event
 /e_100013571/heilige-leiber-fest
END:VEVENT
BEGIN:VEVENT
CATEGORIES:Sonstiges
CATEGORIES:Kirche
DESCRIPTION:Um 14 Uhr feierliche Reliquienandacht zum Heilige-Leiber-Fest.\
 n\nmehr Informationen unter http://pages.destination.one/de/oberpfaelzerwa
 ld/streaming/detail/Event/e_100013571/heilige-leiber-fest
DTEND;TZID=Europe/Berlin:20200801T103000
DTSTAMP:20260423T090306Z
DTSTART;TZID=Europe/Berlin:20200801T093000
GEO:50.003943;12.308915
LOCATION:Stiftsbasilika \, Basilikaplatz 6\, Waldsassen
ORGANIZER;CN=Kath. Pfarrei Waldsassen:mailto:info@pfarrei-waldsassen.de
SEQUENCE:0
SUMMARY:Heilige-Leiber-Fest 
UID:e_100013571_iv5
URL:http://pages.destination.one/de/oberpfaelzerwald/streaming/detail/Event
 /e_100013571/heilige-leiber-fest
END:VEVENT
BEGIN:VEVENT
CATEGORIES:Sonstiges
CATEGORIES:Kirche
DESCRIPTION:Um 14 Uhr feierliche Reliquienandacht zum Heilige-Leiber-Fest.\
 n\nmehr Informationen unter http://pages.destination.one/de/oberpfaelzerwa
 ld/streaming/detail/Event/e_100013571/heilige-leiber-fest
DTEND;TZID=Europe/Berlin:20200802T110000
DTSTAMP:20260423T090306Z
DTSTART;TZID=Europe/Berlin:20200802T093000
GEO:50.003943;12.308915
LOCATION:Stiftsbasilika \, Basilikaplatz 6\, Waldsassen
ORGANIZER;CN=Kath. Pfarrei Waldsassen:mailto:info@pfarrei-waldsassen.de
SEQUENCE:0
SUMMARY:Heilige-Leiber-Fest 
UID:e_100013571_iv6
URL:http://pages.destination.one/de/oberpfaelzerwald/streaming/detail/Event
 /e_100013571/heilige-leiber-fest
END:VEVENT
BEGIN:VEVENT
CATEGORIES:Sonstiges
CATEGORIES:Kirche
DESCRIPTION:Um 14 Uhr feierliche Reliquienandacht zum Heilige-Leiber-Fest.\
 n\nmehr Informationen unter http://pages.destination.one/de/oberpfaelzerwa
 ld/streaming/detail/Event/e_100013571/heilige-leiber-fest
DTEND;TZID=Europe/Berlin:20220807T113000
DTSTAMP:20260423T090306Z
DTSTART;TZID=Europe/Berlin:20220807T100000
GEO:50.003943;12.308915
LOCATION:Stiftsbasilika \, Basilikaplatz 6\, Waldsassen
ORGANIZER;CN=Kath. Pfarrei Waldsassen:mailto:info@pfarrei-waldsassen.de
SEQUENCE:0
SUMMARY:Heilige-Leiber-Fest 
UID:e_100013571_iv7
URL:http://pages.destination.one/de/oberpfaelzerwald/streaming/detail/Event
 /e_100013571/heilige-leiber-fest
END:VEVENT
BEGIN:VEVENT
CATEGORIES:Sonstiges
CATEGORIES:Kirche
DESCRIPTION:Um 14 Uhr feierliche Reliquienandacht zum Heilige-Leiber-Fest.\
 n\nmehr Informationen unter http://pages.destination.one/de/oberpfaelzerwa
 ld/streaming/detail/Event/e_100013571/heilige-leiber-fest
DTEND;TZID=Europe/Berlin:20230806T110000
DTSTAMP:20260423T090306Z
DTSTART;TZID=Europe/Berlin:20230806T093000
GEO:50.003943;12.308915
LOCATION:Stiftsbasilika \, Basilikaplatz 6\, Waldsassen
ORGANIZER;CN=Kath. Pfarrei Waldsassen:mailto:info@pfarrei-waldsassen.de
SEQUENCE:0
SUMMARY:Heilige-Leiber-Fest 
UID:e_100013571_iv8
URL:http://pages.destination.one/de/oberpfaelzerwald/streaming/detail/Event
 /e_100013571/heilige-leiber-fest
END:VEVENT
BEGIN:VEVENT
CATEGORIES:Sonstiges
CATEGORIES:Kirche
DESCRIPTION:Um 14 Uhr feierliche Reliquienandacht zum Heilige-Leiber-Fest.\
 n\nmehr Informationen unter http://pages.destination.one/de/oberpfaelzerwa
 ld/streaming/detail/Event/e_100013571/heilige-leiber-fest
DTEND;TZID=Europe/Berlin:20240804T113000
DTSTAMP:20260423T090306Z
DTSTART;TZID=Europe/Berlin:20240804T100000
GEO:50.003943;12.308915
LOCATION:Stiftsbasilika \, Basilikaplatz 6\, Waldsassen
ORGANIZER;CN=Kath. Pfarrei Waldsassen:mailto:info@pfarrei-waldsassen.de
SEQUENCE:0
SUMMARY:Heilige-Leiber-Fest 
UID:e_100013571_iv9
URL:http://pages.destination.one/de/oberpfaelzerwald/streaming/detail/Event
 /e_100013571/heilige-leiber-fest
END:VEVENT
BEGIN:VEVENT
CATEGORIES:Sonstiges
CATEGORIES:Kirche
DESCRIPTION:Um 14 Uhr feierliche Reliquienandacht zum Heilige-Leiber-Fest.\
 n\nmehr Informationen unter http://pages.destination.one/de/oberpfaelzerwa
 ld/streaming/detail/Event/e_100013571/heilige-leiber-fest
DTEND;TZID=Europe/Berlin:20250803T110000
DTSTAMP:20260423T090306Z
DTSTART;TZID=Europe/Berlin:20250803T093000
GEO:50.003943;12.308915
LOCATION:Stiftsbasilika \, Basilikaplatz 6\, Waldsassen
ORGANIZER;CN=Kath. Pfarrei Waldsassen:mailto:info@pfarrei-waldsassen.de
SEQUENCE:0
SUMMARY:Heilige-Leiber-Fest 
UID:e_100013571_iv10
URL:http://pages.destination.one/de/oberpfaelzerwald/streaming/detail/Event
 /e_100013571/heilige-leiber-fest
END:VEVENT
BEGIN:VEVENT
CATEGORIES:Sonstiges
CATEGORIES:Kirche
DESCRIPTION:Um 14 Uhr feierliche Reliquienandacht zum Heilige-Leiber-Fest.\
 n\nmehr Informationen unter http://pages.destination.one/de/oberpfaelzerwa
 ld/streaming/detail/Event/e_100013571/heilige-leiber-fest
DTEND;TZID=Europe/Berlin:20260802T104500
DTSTAMP:20260423T090306Z
DTSTART;TZID=Europe/Berlin:20260802T093000
GEO:50.003943;12.308915
LOCATION:Stiftsbasilika \, Basilikaplatz 6\, Waldsassen
ORGANIZER;CN=Kath. Pfarrei Waldsassen:mailto:info@pfarrei-waldsassen.de
SEQUENCE:0
SUMMARY:Heilige-Leiber-Fest 
UID:e_100013571_iv11
URL:http://pages.destination.one/de/oberpfaelzerwald/streaming/detail/Event
 /e_100013571/heilige-leiber-fest
END:VEVENT
BEGIN:VTIMEZONE
TZID:Europe/Berlin
X-LIC-LOCATION:Europe/Berlin
BEGIN:DAYLIGHT
DTSTART:19700329T020000
RRULE:FREQ=YEARLY;BYDAY=-1SU;BYMONTH=3
TZNAME:CEST
TZOFFSETFROM:+0100
TZOFFSETTO:+0200
END:DAYLIGHT
BEGIN:STANDARD
DTSTART:19701025T030000
RRULE:FREQ=YEARLY;BYDAY=-1SU;BYMONTH=10
TZNAME:CET
TZOFFSETFROM:+0200
TZOFFSETTO:+0100
END:STANDARD
END:VTIMEZONE
END:VCALENDAR
