BEGIN:VCALENDAR
VERSION:2.0
PRODID:-//destination.one//NONSGML destination.meta API//DE
X-WR-CALDESC:A calendar powered by destination.meta
X-WR-CALNAME:oberpfaelzerwald Kalender via destination.meta
BEGIN:VEVENT
CATEGORIES:Kirche
CATEGORIES:Weihnachten / Advent
DESCRIPTION:Karl Kempter (1819 - 1871) Pastoralmesse in G\, op. 24 (für Sol
 i\, Chor und Orchester)\n\nmehr Informationen unter http://pages.destinati
 on.one/de/oberpfaelzerwald/streaming/detail/Event/e_100013595/feierliche-c
 hristmette
DTEND;TZID=Europe/Berlin:20201225T010000
DTSTAMP:20260421T122911Z
DTSTART;TZID=Europe/Berlin:20201224T235900
GEO:50.003943;12.308915
LOCATION:Stiftsbasilika \, Basilikaplatz 6\, Waldsassen
ORGANIZER;CN=Kath. Pfarrei Waldsassen:mailto:info@pfarrei-waldsassen.de
SEQUENCE:0
SUMMARY:Feierliche Christmette 
UID:e_100013595_iv0
URL:http://pages.destination.one/de/oberpfaelzerwald/streaming/detail/Event
 /e_100013595/feierliche-christmette
END:VEVENT
BEGIN:VEVENT
CATEGORIES:Kirche
CATEGORIES:Weihnachten / Advent
DESCRIPTION:Karl Kempter (1819 - 1871) Pastoralmesse in G\, op. 24 (für Sol
 i\, Chor und Orchester)\n\nmehr Informationen unter http://pages.destinati
 on.one/de/oberpfaelzerwald/streaming/detail/Event/e_100013595/feierliche-c
 hristmette
DTEND;TZID=Europe/Berlin:20211225T013000
DTSTAMP:20260421T122911Z
DTSTART;TZID=Europe/Berlin:20211224T235500
GEO:50.003943;12.308915
LOCATION:Stiftsbasilika \, Basilikaplatz 6\, Waldsassen
ORGANIZER;CN=Kath. Pfarrei Waldsassen:mailto:info@pfarrei-waldsassen.de
RRULE:FREQ=YEARLY;BYMONTH=12;BYMONTHDAY=24
SEQUENCE:0
SUMMARY:Feierliche Christmette 
UID:e_100013595_iv1
URL:http://pages.destination.one/de/oberpfaelzerwald/streaming/detail/Event
 /e_100013595/feierliche-christmette
END:VEVENT
BEGIN:VTIMEZONE
TZID:Europe/Berlin
X-LIC-LOCATION:Europe/Berlin
BEGIN:DAYLIGHT
DTSTART:19700329T020000
RRULE:FREQ=YEARLY;BYDAY=-1SU;BYMONTH=3
TZNAME:CEST
TZOFFSETFROM:+0100
TZOFFSETTO:+0200
END:DAYLIGHT
BEGIN:STANDARD
DTSTART:19701025T030000
RRULE:FREQ=YEARLY;BYDAY=-1SU;BYMONTH=10
TZNAME:CET
TZOFFSETFROM:+0200
TZOFFSETTO:+0100
END:STANDARD
END:VTIMEZONE
END:VCALENDAR
