BEGIN:VCALENDAR
VERSION:2.0
PRODID:-//destination.one//NONSGML destination.meta API//DE
X-WR-CALDESC:A calendar powered by destination.meta
X-WR-CALNAME:oberpfaelzerwald Kalender via destination.meta
BEGIN:VEVENT
CATEGORIES:Konzert
CATEGORIES:Sonstiges
DESCRIPTION:\n\nmehr Informationen unter http://pages.destination.one/de/ob
 erpfaelzerwald/streaming/detail/Event/e_100019976/herbstkonzert
DTEND;TZID=Europe/Berlin:20161022T235900
DTSTAMP:20260423T090318Z
DTSTART;TZID=Europe/Berlin:20161022T190000
GEO:50.003586;12.308240
LOCATION:Aula des Klosters Waldsassen\, Basilikaplatz 2\, Waldsassen
ORGANIZER;CN=1. Akkordeonorchester Waldsassen e.V.:mailto:info@akkordeon-wa
 ldsassen.de
SEQUENCE:0
SUMMARY:Herbstkonzert
UID:e_100019976_iv0
URL:http://pages.destination.one/de/oberpfaelzerwald/streaming/detail/Event
 /e_100019976/herbstkonzert
END:VEVENT
BEGIN:VEVENT
CATEGORIES:Konzert
CATEGORIES:Sonstiges
DESCRIPTION:\n\nmehr Informationen unter http://pages.destination.one/de/ob
 erpfaelzerwald/streaming/detail/Event/e_100019976/herbstkonzert
DTEND;TZID=Europe/Berlin:20171021T235900
DTSTAMP:20260423T090318Z
DTSTART;TZID=Europe/Berlin:20171021T190000
GEO:50.003586;12.308240
LOCATION:Aula des Klosters Waldsassen\, Basilikaplatz 2\, Waldsassen
ORGANIZER;CN=1. Akkordeonorchester Waldsassen e.V.:mailto:info@akkordeon-wa
 ldsassen.de
SEQUENCE:0
SUMMARY:Herbstkonzert
UID:e_100019976_iv1
URL:http://pages.destination.one/de/oberpfaelzerwald/streaming/detail/Event
 /e_100019976/herbstkonzert
END:VEVENT
BEGIN:VEVENT
CATEGORIES:Konzert
CATEGORIES:Sonstiges
DESCRIPTION:\n\nmehr Informationen unter http://pages.destination.one/de/ob
 erpfaelzerwald/streaming/detail/Event/e_100019976/herbstkonzert
DTEND;TZID=Europe/Berlin:20181027T210000
DTSTAMP:20260423T090318Z
DTSTART;TZID=Europe/Berlin:20181027T190000
GEO:50.003586;12.308240
LOCATION:Aula des Klosters Waldsassen\, Basilikaplatz 2\, Waldsassen
ORGANIZER;CN=1. Akkordeonorchester Waldsassen e.V.:mailto:info@akkordeon-wa
 ldsassen.de
SEQUENCE:0
SUMMARY:Herbstkonzert
UID:e_100019976_iv2
URL:http://pages.destination.one/de/oberpfaelzerwald/streaming/detail/Event
 /e_100019976/herbstkonzert
END:VEVENT
BEGIN:VEVENT
CATEGORIES:Konzert
CATEGORIES:Sonstiges
DESCRIPTION:\n\nmehr Informationen unter http://pages.destination.one/de/ob
 erpfaelzerwald/streaming/detail/Event/e_100019976/herbstkonzert
DTEND;TZID=Europe/Berlin:20191019T210000
DTSTAMP:20260423T090318Z
DTSTART;TZID=Europe/Berlin:20191019T190000
GEO:50.003586;12.308240
LOCATION:Aula des Klosters Waldsassen\, Basilikaplatz 2\, Waldsassen
ORGANIZER;CN=1. Akkordeonorchester Waldsassen e.V.:mailto:info@akkordeon-wa
 ldsassen.de
SEQUENCE:0
SUMMARY:Herbstkonzert
UID:e_100019976_iv3
URL:http://pages.destination.one/de/oberpfaelzerwald/streaming/detail/Event
 /e_100019976/herbstkonzert
END:VEVENT
BEGIN:VEVENT
CATEGORIES:Konzert
CATEGORIES:Sonstiges
DESCRIPTION:\n\nmehr Informationen unter http://pages.destination.one/de/ob
 erpfaelzerwald/streaming/detail/Event/e_100019976/herbstkonzert
DTEND;TZID=Europe/Berlin:20201017T235900
DTSTAMP:20260423T090318Z
DTSTART;TZID=Europe/Berlin:20201017T190000
GEO:50.003586;12.308240
LOCATION:Aula des Klosters Waldsassen\, Basilikaplatz 2\, Waldsassen
ORGANIZER;CN=1. Akkordeonorchester Waldsassen e.V.:mailto:info@akkordeon-wa
 ldsassen.de
SEQUENCE:0
SUMMARY:Herbstkonzert
UID:e_100019976_iv4
URL:http://pages.destination.one/de/oberpfaelzerwald/streaming/detail/Event
 /e_100019976/herbstkonzert
END:VEVENT
BEGIN:VEVENT
CATEGORIES:Konzert
CATEGORIES:Sonstiges
DESCRIPTION:\n\nmehr Informationen unter http://pages.destination.one/de/ob
 erpfaelzerwald/streaming/detail/Event/e_100019976/herbstkonzert
DTEND;TZID=Europe/Berlin:20211023T235900
DTSTAMP:20260423T090318Z
DTSTART;TZID=Europe/Berlin:20211023T190000
GEO:50.003586;12.308240
LOCATION:Aula des Klosters Waldsassen\, Basilikaplatz 2\, Waldsassen
ORGANIZER;CN=1. Akkordeonorchester Waldsassen e.V.:mailto:info@akkordeon-wa
 ldsassen.de
SEQUENCE:0
SUMMARY:Herbstkonzert
UID:e_100019976_iv5
URL:http://pages.destination.one/de/oberpfaelzerwald/streaming/detail/Event
 /e_100019976/herbstkonzert
END:VEVENT
BEGIN:VEVENT
CATEGORIES:Konzert
CATEGORIES:Sonstiges
DESCRIPTION:\n\nmehr Informationen unter http://pages.destination.one/de/ob
 erpfaelzerwald/streaming/detail/Event/e_100019976/herbstkonzert
DTEND;TZID=Europe/Berlin:20221029T210000
DTSTAMP:20260423T090318Z
DTSTART;TZID=Europe/Berlin:20221029T190000
GEO:50.003586;12.308240
LOCATION:Aula des Klosters Waldsassen\, Basilikaplatz 2\, Waldsassen
ORGANIZER;CN=1. Akkordeonorchester Waldsassen e.V.:mailto:info@akkordeon-wa
 ldsassen.de
SEQUENCE:0
SUMMARY:Herbstkonzert
UID:e_100019976_iv6
URL:http://pages.destination.one/de/oberpfaelzerwald/streaming/detail/Event
 /e_100019976/herbstkonzert
END:VEVENT
BEGIN:VEVENT
CATEGORIES:Konzert
CATEGORIES:Sonstiges
DESCRIPTION:\n\nmehr Informationen unter http://pages.destination.one/de/ob
 erpfaelzerwald/streaming/detail/Event/e_100019976/herbstkonzert
DTEND;TZID=Europe/Berlin:20231028T210000
DTSTAMP:20260423T090318Z
DTSTART;TZID=Europe/Berlin:20231028T190000
GEO:50.003586;12.308240
LOCATION:Aula des Klosters Waldsassen\, Basilikaplatz 2\, Waldsassen
ORGANIZER;CN=1. Akkordeonorchester Waldsassen e.V.:mailto:info@akkordeon-wa
 ldsassen.de
SEQUENCE:0
SUMMARY:Herbstkonzert
UID:e_100019976_iv7
URL:http://pages.destination.one/de/oberpfaelzerwald/streaming/detail/Event
 /e_100019976/herbstkonzert
END:VEVENT
BEGIN:VEVENT
CATEGORIES:Konzert
CATEGORIES:Sonstiges
DESCRIPTION:\n\nmehr Informationen unter http://pages.destination.one/de/ob
 erpfaelzerwald/streaming/detail/Event/e_100019976/herbstkonzert
DTEND;TZID=Europe/Berlin:20241026T210000
DTSTAMP:20260423T090318Z
DTSTART;TZID=Europe/Berlin:20241026T190000
GEO:50.003586;12.308240
LOCATION:Aula des Klosters Waldsassen\, Basilikaplatz 2\, Waldsassen
ORGANIZER;CN=1. Akkordeonorchester Waldsassen e.V.:mailto:info@akkordeon-wa
 ldsassen.de
SEQUENCE:0
SUMMARY:Herbstkonzert
UID:e_100019976_iv8
URL:http://pages.destination.one/de/oberpfaelzerwald/streaming/detail/Event
 /e_100019976/herbstkonzert
END:VEVENT
BEGIN:VEVENT
CATEGORIES:Konzert
CATEGORIES:Sonstiges
DESCRIPTION:\n\nmehr Informationen unter http://pages.destination.one/de/ob
 erpfaelzerwald/streaming/detail/Event/e_100019976/herbstkonzert
DTEND;TZID=Europe/Berlin:20251025T220000
DTSTAMP:20260423T090318Z
DTSTART;TZID=Europe/Berlin:20251025T190000
GEO:50.003586;12.308240
LOCATION:Aula des Klosters Waldsassen\, Basilikaplatz 2\, Waldsassen
ORGANIZER;CN=1. Akkordeonorchester Waldsassen e.V.:mailto:info@akkordeon-wa
 ldsassen.de
SEQUENCE:0
SUMMARY:Herbstkonzert
UID:e_100019976_iv9
URL:http://pages.destination.one/de/oberpfaelzerwald/streaming/detail/Event
 /e_100019976/herbstkonzert
END:VEVENT
BEGIN:VEVENT
CATEGORIES:Konzert
CATEGORIES:Sonstiges
DESCRIPTION:\n\nmehr Informationen unter http://pages.destination.one/de/ob
 erpfaelzerwald/streaming/detail/Event/e_100019976/herbstkonzert
DTEND;TZID=Europe/Berlin:20261024T220000
DTSTAMP:20260423T090318Z
DTSTART;TZID=Europe/Berlin:20261024T190000
GEO:50.003586;12.308240
LOCATION:Aula des Klosters Waldsassen\, Basilikaplatz 2\, Waldsassen
ORGANIZER;CN=1. Akkordeonorchester Waldsassen e.V.:mailto:info@akkordeon-wa
 ldsassen.de
SEQUENCE:0
SUMMARY:Herbstkonzert
UID:e_100019976_iv10
URL:http://pages.destination.one/de/oberpfaelzerwald/streaming/detail/Event
 /e_100019976/herbstkonzert
END:VEVENT
BEGIN:VTIMEZONE
TZID:Europe/Berlin
X-LIC-LOCATION:Europe/Berlin
BEGIN:DAYLIGHT
DTSTART:19700329T020000
RRULE:FREQ=YEARLY;BYDAY=-1SU;BYMONTH=3
TZNAME:CEST
TZOFFSETFROM:+0100
TZOFFSETTO:+0200
END:DAYLIGHT
BEGIN:STANDARD
DTSTART:19701025T030000
RRULE:FREQ=YEARLY;BYDAY=-1SU;BYMONTH=10
TZNAME:CET
TZOFFSETFROM:+0200
TZOFFSETTO:+0100
END:STANDARD
END:VTIMEZONE
END:VCALENDAR
