BEGIN:VCALENDAR
VERSION:2.0
PRODID:-//destination.one//NONSGML destination.meta API//DE
X-WR-CALDESC:A calendar powered by destination.meta
X-WR-CALNAME:oberpfaelzerwald Kalender via destination.meta
BEGIN:VEVENT
CATEGORIES:Sonstiges
CATEGORIES:Weihnachten / Advent
DESCRIPTION:\n\nmehr Informationen unter http://pages.destination.one/de/ob
 erpfaelzerwald/streaming/detail/Event/e_100026312/adventsbasar-im-pfarrhei
 m-st-marien
DTEND;TZID=Europe/Berlin:20151128T180000
DTSTAMP:20260421T120222Z
DTSTART;TZID=Europe/Berlin:20151128T143000
GEO:49.581899;12.521228
LOCATION:Pfarrheim "St. Marien"\, Kirchenstraße\, Eslarn
SEQUENCE:0
SUMMARY:Adventsbasar im Pfarrheim "St. Marien"
UID:e_100026312_iv0
URL:http://pages.destination.one/de/oberpfaelzerwald/streaming/detail/Event
 /e_100026312/adventsbasar-im-pfarrheim-st-marien
END:VEVENT
BEGIN:VEVENT
CATEGORIES:Sonstiges
CATEGORIES:Weihnachten / Advent
DESCRIPTION:\n\nmehr Informationen unter http://pages.destination.one/de/ob
 erpfaelzerwald/streaming/detail/Event/e_100026312/adventsbasar-im-pfarrhei
 m-st-marien
DTEND;TZID=Europe/Berlin:20171202T190000
DTSTAMP:20260421T120222Z
DTSTART;TZID=Europe/Berlin:20171202T150000
GEO:49.581899;12.521228
LOCATION:Pfarrheim "St. Marien"\, Kirchenstraße\, Eslarn
SEQUENCE:0
SUMMARY:Adventsbasar im Pfarrheim "St. Marien"
UID:e_100026312_iv1
URL:http://pages.destination.one/de/oberpfaelzerwald/streaming/detail/Event
 /e_100026312/adventsbasar-im-pfarrheim-st-marien
END:VEVENT
BEGIN:VEVENT
CATEGORIES:Sonstiges
CATEGORIES:Weihnachten / Advent
DESCRIPTION:\n\nmehr Informationen unter http://pages.destination.one/de/ob
 erpfaelzerwald/streaming/detail/Event/e_100026312/adventsbasar-im-pfarrhei
 m-st-marien
DTEND;TZID=Europe/Berlin:20241130T180000
DTSTAMP:20260421T120222Z
DTSTART;TZID=Europe/Berlin:20241130T150000
GEO:49.581899;12.521228
LOCATION:Pfarrheim "St. Marien"\, Kirchenstraße\, Eslarn
SEQUENCE:0
SUMMARY:Adventsbasar im Pfarrheim "St. Marien"
UID:e_100026312_iv2
URL:http://pages.destination.one/de/oberpfaelzerwald/streaming/detail/Event
 /e_100026312/adventsbasar-im-pfarrheim-st-marien
END:VEVENT
BEGIN:VEVENT
CATEGORIES:Sonstiges
CATEGORIES:Weihnachten / Advent
DESCRIPTION:\n\nmehr Informationen unter http://pages.destination.one/de/ob
 erpfaelzerwald/streaming/detail/Event/e_100026312/adventsbasar-im-pfarrhei
 m-st-marien
DTEND;TZID=Europe/Berlin:20251129T180000
DTSTAMP:20260421T120222Z
DTSTART;TZID=Europe/Berlin:20251129T150000
GEO:49.581899;12.521228
LOCATION:Pfarrheim "St. Marien"\, Kirchenstraße\, Eslarn
SEQUENCE:0
SUMMARY:Adventsbasar im Pfarrheim "St. Marien"
UID:e_100026312_iv3
URL:http://pages.destination.one/de/oberpfaelzerwald/streaming/detail/Event
 /e_100026312/adventsbasar-im-pfarrheim-st-marien
END:VEVENT
BEGIN:VEVENT
CATEGORIES:Sonstiges
CATEGORIES:Weihnachten / Advent
DESCRIPTION:\n\nmehr Informationen unter http://pages.destination.one/de/ob
 erpfaelzerwald/streaming/detail/Event/e_100026312/adventsbasar-im-pfarrhei
 m-st-marien
DTEND;TZID=Europe/Berlin:20261128T180000
DTSTAMP:20260421T120222Z
DTSTART;TZID=Europe/Berlin:20261128T150000
GEO:49.581899;12.521228
LOCATION:Pfarrheim "St. Marien"\, Kirchenstraße\, Eslarn
SEQUENCE:0
SUMMARY:Adventsbasar im Pfarrheim "St. Marien"
UID:e_100026312_iv4
URL:http://pages.destination.one/de/oberpfaelzerwald/streaming/detail/Event
 /e_100026312/adventsbasar-im-pfarrheim-st-marien
END:VEVENT
BEGIN:VTIMEZONE
TZID:Europe/Berlin
X-LIC-LOCATION:Europe/Berlin
BEGIN:DAYLIGHT
DTSTART:19700329T020000
RRULE:FREQ=YEARLY;BYDAY=-1SU;BYMONTH=3
TZNAME:CEST
TZOFFSETFROM:+0100
TZOFFSETTO:+0200
END:DAYLIGHT
BEGIN:STANDARD
DTSTART:19701025T030000
RRULE:FREQ=YEARLY;BYDAY=-1SU;BYMONTH=10
TZNAME:CET
TZOFFSETFROM:+0200
TZOFFSETTO:+0100
END:STANDARD
END:VTIMEZONE
END:VCALENDAR
