BEGIN:VCALENDAR
VERSION:2.0
PRODID:-//destination.one//NONSGML destination.meta API//DE
X-WR-CALDESC:A calendar powered by destination.meta
X-WR-CALNAME:oberpfaelzerwald Kalender via destination.meta
BEGIN:VEVENT
CATEGORIES:Weihnachten / Advent
CATEGORIES:Konzert
DESCRIPTION:"Adventsingen" in der Kapplkirche\n\nmehr Informationen unter h
 ttp://pages.destination.one/de/oberpfaelzerwald/streaming/detail/Event/e_1
 00026569/stiftl-nder-adventsingen
DTEND;TZID=Europe/Berlin:20151206T163000
DTSTAMP:20260422T095440Z
DTSTART;TZID=Europe/Berlin:20151206T150000
GEO:50.029413;12.276964
LOCATION:Dreifaltigkeitskirche Kappl\, Kappl 2\, Waldsassen
ORGANIZER;CN=Kath. Pfarramt Münchenreuth:http://www.kapplkirche.de/
SEQUENCE:0
SUMMARY:Stiftländer Adventsingen
UID:e_100026569_iv0
URL:http://pages.destination.one/de/oberpfaelzerwald/streaming/detail/Event
 /e_100026569/stiftl-nder-adventsingen
END:VEVENT
BEGIN:VEVENT
CATEGORIES:Weihnachten / Advent
CATEGORIES:Konzert
DESCRIPTION:"Adventsingen" in der Kapplkirche\n\nmehr Informationen unter h
 ttp://pages.destination.one/de/oberpfaelzerwald/streaming/detail/Event/e_1
 00026569/stiftl-nder-adventsingen
DTEND;TZID=Europe/Berlin:20161204T163000
DTSTAMP:20260422T095440Z
DTSTART;TZID=Europe/Berlin:20161204T150000
GEO:50.029413;12.276964
LOCATION:Dreifaltigkeitskirche Kappl\, Kappl 2\, Waldsassen
ORGANIZER;CN=Kath. Pfarramt Münchenreuth:http://www.kapplkirche.de/
SEQUENCE:0
SUMMARY:Stiftländer Adventsingen
UID:e_100026569_iv1
URL:http://pages.destination.one/de/oberpfaelzerwald/streaming/detail/Event
 /e_100026569/stiftl-nder-adventsingen
END:VEVENT
BEGIN:VEVENT
CATEGORIES:Weihnachten / Advent
CATEGORIES:Konzert
DESCRIPTION:"Adventsingen" in der Kapplkirche\n\nmehr Informationen unter h
 ttp://pages.destination.one/de/oberpfaelzerwald/streaming/detail/Event/e_1
 00026569/stiftl-nder-adventsingen
DTEND;TZID=Europe/Berlin:20171210T170000
DTSTAMP:20260422T095440Z
DTSTART;TZID=Europe/Berlin:20171210T150000
GEO:50.029413;12.276964
LOCATION:Dreifaltigkeitskirche Kappl\, Kappl 2\, Waldsassen
ORGANIZER;CN=Kath. Pfarramt Münchenreuth:http://www.kapplkirche.de/
SEQUENCE:0
SUMMARY:Stiftländer Adventsingen
UID:e_100026569_iv2
URL:http://pages.destination.one/de/oberpfaelzerwald/streaming/detail/Event
 /e_100026569/stiftl-nder-adventsingen
END:VEVENT
BEGIN:VEVENT
CATEGORIES:Weihnachten / Advent
CATEGORIES:Konzert
DESCRIPTION:"Adventsingen" in der Kapplkirche\n\nmehr Informationen unter h
 ttp://pages.destination.one/de/oberpfaelzerwald/streaming/detail/Event/e_1
 00026569/stiftl-nder-adventsingen
DTEND;TZID=Europe/Berlin:20181209T170000
DTSTAMP:20260422T095440Z
DTSTART;TZID=Europe/Berlin:20181209T150000
GEO:50.029413;12.276964
LOCATION:Dreifaltigkeitskirche Kappl\, Kappl 2\, Waldsassen
ORGANIZER;CN=Kath. Pfarramt Münchenreuth:http://www.kapplkirche.de/
SEQUENCE:0
SUMMARY:Stiftländer Adventsingen
UID:e_100026569_iv3
URL:http://pages.destination.one/de/oberpfaelzerwald/streaming/detail/Event
 /e_100026569/stiftl-nder-adventsingen
END:VEVENT
BEGIN:VEVENT
CATEGORIES:Weihnachten / Advent
CATEGORIES:Konzert
DESCRIPTION:"Adventsingen" in der Kapplkirche\n\nmehr Informationen unter h
 ttp://pages.destination.one/de/oberpfaelzerwald/streaming/detail/Event/e_1
 00026569/stiftl-nder-adventsingen
DTEND;TZID=Europe/Berlin:20191208T170000
DTSTAMP:20260422T095440Z
DTSTART;TZID=Europe/Berlin:20191208T150000
GEO:50.029413;12.276964
LOCATION:Dreifaltigkeitskirche Kappl\, Kappl 2\, Waldsassen
ORGANIZER;CN=Kath. Pfarramt Münchenreuth:http://www.kapplkirche.de/
SEQUENCE:0
SUMMARY:Stiftländer Adventsingen
UID:e_100026569_iv4
URL:http://pages.destination.one/de/oberpfaelzerwald/streaming/detail/Event
 /e_100026569/stiftl-nder-adventsingen
END:VEVENT
BEGIN:VEVENT
CATEGORIES:Weihnachten / Advent
CATEGORIES:Konzert
DESCRIPTION:"Adventsingen" in der Kapplkirche\n\nmehr Informationen unter h
 ttp://pages.destination.one/de/oberpfaelzerwald/streaming/detail/Event/e_1
 00026569/stiftl-nder-adventsingen
DTEND;TZID=Europe/Berlin:20201206T163000
DTSTAMP:20260422T095440Z
DTSTART;TZID=Europe/Berlin:20201206T150000
GEO:50.029413;12.276964
LOCATION:Dreifaltigkeitskirche Kappl\, Kappl 2\, Waldsassen
ORGANIZER;CN=Kath. Pfarramt Münchenreuth:http://www.kapplkirche.de/
SEQUENCE:0
SUMMARY:Stiftländer Adventsingen
UID:e_100026569_iv5
URL:http://pages.destination.one/de/oberpfaelzerwald/streaming/detail/Event
 /e_100026569/stiftl-nder-adventsingen
END:VEVENT
BEGIN:VEVENT
CATEGORIES:Weihnachten / Advent
CATEGORIES:Konzert
DESCRIPTION:"Adventsingen" in der Kapplkirche\n\nmehr Informationen unter h
 ttp://pages.destination.one/de/oberpfaelzerwald/streaming/detail/Event/e_1
 00026569/stiftl-nder-adventsingen
DTEND;TZID=Europe/Berlin:20221204T163000
DTSTAMP:20260422T095440Z
DTSTART;TZID=Europe/Berlin:20221204T150000
GEO:50.029413;12.276964
LOCATION:Dreifaltigkeitskirche Kappl\, Kappl 2\, Waldsassen
ORGANIZER;CN=Kath. Pfarramt Münchenreuth:http://www.kapplkirche.de/
SEQUENCE:0
SUMMARY:Stiftländer Adventsingen
UID:e_100026569_iv6
URL:http://pages.destination.one/de/oberpfaelzerwald/streaming/detail/Event
 /e_100026569/stiftl-nder-adventsingen
END:VEVENT
BEGIN:VEVENT
CATEGORIES:Weihnachten / Advent
CATEGORIES:Konzert
DESCRIPTION:"Adventsingen" in der Kapplkirche\n\nmehr Informationen unter h
 ttp://pages.destination.one/de/oberpfaelzerwald/streaming/detail/Event/e_1
 00026569/stiftl-nder-adventsingen
DTEND;TZID=Europe/Berlin:20231210T235900
DTSTAMP:20260422T095440Z
DTSTART;TZID=Europe/Berlin:20231210T150000
GEO:50.029413;12.276964
LOCATION:Dreifaltigkeitskirche Kappl\, Kappl 2\, Waldsassen
ORGANIZER;CN=Kath. Pfarramt Münchenreuth:http://www.kapplkirche.de/
SEQUENCE:0
SUMMARY:Stiftländer Adventsingen
UID:e_100026569_iv7
URL:http://pages.destination.one/de/oberpfaelzerwald/streaming/detail/Event
 /e_100026569/stiftl-nder-adventsingen
END:VEVENT
BEGIN:VEVENT
CATEGORIES:Weihnachten / Advent
CATEGORIES:Konzert
DESCRIPTION:"Adventsingen" in der Kapplkirche\n\nmehr Informationen unter h
 ttp://pages.destination.one/de/oberpfaelzerwald/streaming/detail/Event/e_1
 00026569/stiftl-nder-adventsingen
DTEND;TZID=Europe/Berlin:20241208T161500
DTSTAMP:20260422T095440Z
DTSTART;TZID=Europe/Berlin:20241208T150000
GEO:50.029413;12.276964
LOCATION:Dreifaltigkeitskirche Kappl\, Kappl 2\, Waldsassen
ORGANIZER;CN=Kath. Pfarramt Münchenreuth:http://www.kapplkirche.de/
SEQUENCE:0
SUMMARY:Stiftländer Adventsingen
UID:e_100026569_iv8
URL:http://pages.destination.one/de/oberpfaelzerwald/streaming/detail/Event
 /e_100026569/stiftl-nder-adventsingen
END:VEVENT
BEGIN:VEVENT
CATEGORIES:Weihnachten / Advent
CATEGORIES:Konzert
DESCRIPTION:"Adventsingen" in der Kapplkirche\n\nmehr Informationen unter h
 ttp://pages.destination.one/de/oberpfaelzerwald/streaming/detail/Event/e_1
 00026569/stiftl-nder-adventsingen
DTEND;TZID=Europe/Berlin:20251207T163000
DTSTAMP:20260422T095440Z
DTSTART;TZID=Europe/Berlin:20251207T150000
GEO:50.029413;12.276964
LOCATION:Dreifaltigkeitskirche Kappl\, Kappl 2\, Waldsassen
ORGANIZER;CN=Kath. Pfarramt Münchenreuth:http://www.kapplkirche.de/
SEQUENCE:0
SUMMARY:Stiftländer Adventsingen
UID:e_100026569_iv9
URL:http://pages.destination.one/de/oberpfaelzerwald/streaming/detail/Event
 /e_100026569/stiftl-nder-adventsingen
END:VEVENT
BEGIN:VEVENT
CATEGORIES:Weihnachten / Advent
CATEGORIES:Konzert
DESCRIPTION:"Adventsingen" in der Kapplkirche\n\nmehr Informationen unter h
 ttp://pages.destination.one/de/oberpfaelzerwald/streaming/detail/Event/e_1
 00026569/stiftl-nder-adventsingen
DTEND;TZID=Europe/Berlin:20261206T170000
DTSTAMP:20260422T095440Z
DTSTART;TZID=Europe/Berlin:20261206T150000
GEO:50.029413;12.276964
LOCATION:Dreifaltigkeitskirche Kappl\, Kappl 2\, Waldsassen
ORGANIZER;CN=Kath. Pfarramt Münchenreuth:http://www.kapplkirche.de/
SEQUENCE:0
SUMMARY:Stiftländer Adventsingen
UID:e_100026569_iv10
URL:http://pages.destination.one/de/oberpfaelzerwald/streaming/detail/Event
 /e_100026569/stiftl-nder-adventsingen
END:VEVENT
BEGIN:VTIMEZONE
TZID:Europe/Berlin
X-LIC-LOCATION:Europe/Berlin
BEGIN:DAYLIGHT
DTSTART:19700329T020000
RRULE:FREQ=YEARLY;BYDAY=-1SU;BYMONTH=3
TZNAME:CEST
TZOFFSETFROM:+0100
TZOFFSETTO:+0200
END:DAYLIGHT
BEGIN:STANDARD
DTSTART:19701025T030000
RRULE:FREQ=YEARLY;BYDAY=-1SU;BYMONTH=10
TZNAME:CET
TZOFFSETFROM:+0200
TZOFFSETTO:+0100
END:STANDARD
END:VTIMEZONE
END:VCALENDAR
