BEGIN:VCALENDAR
VERSION:2.0
PRODID:-//destination.one//NONSGML destination.meta API//DE
X-WR-CALDESC:A calendar powered by destination.meta
X-WR-CALNAME:oberpfaelzerwald Kalender via destination.meta
BEGIN:VEVENT
CATEGORIES:Rund um den Fisch
CATEGORIES:Feste/Bälle/Tanz
CATEGORIES:Geselligkeit/Spiele/Treffen
DESCRIPTION:\n\nmehr Informationen unter http://pages.destination.one/de/ob
 erpfaelzerwald/streaming/detail/Event/e_100028020/fischerfest
DTEND;TZID=Europe/Berlin:20210613T235900
DTSTAMP:20260423T090318Z
DTSTART;TZID=Europe/Berlin:20210613T100000
GEO:49.891980;12.186499
LOCATION:Wiesauer Waldseen / Badesee Kipp\, Kornthaner Weg - Schönhaid\, Wi
 esau
ORGANIZER;CN=Fischereiverein Wiesau:http://www.fischereiverein-wiesau.de/
SEQUENCE:0
SUMMARY:Fischerfest
UID:e_100028020_iv0
URL:http://pages.destination.one/de/oberpfaelzerwald/streaming/detail/Event
 /e_100028020/fischerfest
END:VEVENT
BEGIN:VEVENT
CATEGORIES:Rund um den Fisch
CATEGORIES:Feste/Bälle/Tanz
CATEGORIES:Geselligkeit/Spiele/Treffen
DESCRIPTION:\n\nmehr Informationen unter http://pages.destination.one/de/ob
 erpfaelzerwald/streaming/detail/Event/e_100028020/fischerfest
DTEND;TZID=Europe/Berlin:20220612T235900
DTSTAMP:20260423T090318Z
DTSTART;TZID=Europe/Berlin:20220612T100000
GEO:49.891980;12.186499
LOCATION:Wiesauer Waldseen / Badesee Kipp\, Kornthaner Weg - Schönhaid\, Wi
 esau
ORGANIZER;CN=Fischereiverein Wiesau:http://www.fischereiverein-wiesau.de/
SEQUENCE:0
SUMMARY:Fischerfest
UID:e_100028020_iv1
URL:http://pages.destination.one/de/oberpfaelzerwald/streaming/detail/Event
 /e_100028020/fischerfest
END:VEVENT
BEGIN:VEVENT
CATEGORIES:Rund um den Fisch
CATEGORIES:Feste/Bälle/Tanz
CATEGORIES:Geselligkeit/Spiele/Treffen
DESCRIPTION:\n\nmehr Informationen unter http://pages.destination.one/de/ob
 erpfaelzerwald/streaming/detail/Event/e_100028020/fischerfest
DTEND;TZID=Europe/Berlin:20230610T230000
DTSTAMP:20260423T090318Z
DTSTART;TZID=Europe/Berlin:20230610T180000
GEO:49.891980;12.186499
LOCATION:Wiesauer Waldseen / Badesee Kipp\, Kornthaner Weg - Schönhaid\, Wi
 esau
ORGANIZER;CN=Fischereiverein Wiesau:http://www.fischereiverein-wiesau.de/
SEQUENCE:0
SUMMARY:Fischerfest
UID:e_100028020_iv2
URL:http://pages.destination.one/de/oberpfaelzerwald/streaming/detail/Event
 /e_100028020/fischerfest
END:VEVENT
BEGIN:VEVENT
CATEGORIES:Rund um den Fisch
CATEGORIES:Feste/Bälle/Tanz
CATEGORIES:Geselligkeit/Spiele/Treffen
DESCRIPTION:\n\nmehr Informationen unter http://pages.destination.one/de/ob
 erpfaelzerwald/streaming/detail/Event/e_100028020/fischerfest
DTEND;TZID=Europe/Berlin:20230610T235900
DTSTAMP:20260423T090318Z
DTSTART;TZID=Europe/Berlin:20230610T180000
GEO:49.891980;12.186499
LOCATION:Wiesauer Waldseen / Badesee Kipp\, Kornthaner Weg - Schönhaid\, Wi
 esau
ORGANIZER;CN=Fischereiverein Wiesau:http://www.fischereiverein-wiesau.de/
SEQUENCE:0
SUMMARY:Fischerfest
UID:e_100028020_iv3
URL:http://pages.destination.one/de/oberpfaelzerwald/streaming/detail/Event
 /e_100028020/fischerfest
END:VEVENT
BEGIN:VEVENT
CATEGORIES:Rund um den Fisch
CATEGORIES:Feste/Bälle/Tanz
CATEGORIES:Geselligkeit/Spiele/Treffen
DESCRIPTION:\n\nmehr Informationen unter http://pages.destination.one/de/ob
 erpfaelzerwald/streaming/detail/Event/e_100028020/fischerfest
DTEND;TZID=Europe/Berlin:20240608T235900
DTSTAMP:20260423T090318Z
DTSTART;TZID=Europe/Berlin:20240608T180000
GEO:49.891980;12.186499
LOCATION:Wiesauer Waldseen / Badesee Kipp\, Kornthaner Weg - Schönhaid\, Wi
 esau
ORGANIZER;CN=Fischereiverein Wiesau:http://www.fischereiverein-wiesau.de/
SEQUENCE:0
SUMMARY:Fischerfest
UID:e_100028020_iv4
URL:http://pages.destination.one/de/oberpfaelzerwald/streaming/detail/Event
 /e_100028020/fischerfest
END:VEVENT
BEGIN:VEVENT
CATEGORIES:Rund um den Fisch
CATEGORIES:Feste/Bälle/Tanz
CATEGORIES:Geselligkeit/Spiele/Treffen
DESCRIPTION:\n\nmehr Informationen unter http://pages.destination.one/de/ob
 erpfaelzerwald/streaming/detail/Event/e_100028020/fischerfest
DTEND;TZID=Europe/Berlin:20250531T235900
DTSTAMP:20260423T090318Z
DTSTART;TZID=Europe/Berlin:20250531T180000
GEO:49.891980;12.186499
LOCATION:Wiesauer Waldseen / Badesee Kipp\, Kornthaner Weg - Schönhaid\, Wi
 esau
ORGANIZER;CN=Fischereiverein Wiesau:http://www.fischereiverein-wiesau.de/
SEQUENCE:0
SUMMARY:Fischerfest
UID:e_100028020_iv5
URL:http://pages.destination.one/de/oberpfaelzerwald/streaming/detail/Event
 /e_100028020/fischerfest
END:VEVENT
BEGIN:VEVENT
CATEGORIES:Rund um den Fisch
CATEGORIES:Feste/Bälle/Tanz
CATEGORIES:Geselligkeit/Spiele/Treffen
DESCRIPTION:\n\nmehr Informationen unter http://pages.destination.one/de/ob
 erpfaelzerwald/streaming/detail/Event/e_100028020/fischerfest
DTEND;TZID=Europe/Berlin:20250531T235900
DTSTAMP:20260423T090318Z
DTSTART;TZID=Europe/Berlin:20250531T180000
GEO:49.891980;12.186499
LOCATION:Wiesauer Waldseen / Badesee Kipp\, Kornthaner Weg - Schönhaid\, Wi
 esau
ORGANIZER;CN=Fischereiverein Wiesau:http://www.fischereiverein-wiesau.de/
SEQUENCE:0
SUMMARY:Fischerfest
UID:e_100028020_iv6
URL:http://pages.destination.one/de/oberpfaelzerwald/streaming/detail/Event
 /e_100028020/fischerfest
END:VEVENT
BEGIN:VEVENT
CATEGORIES:Rund um den Fisch
CATEGORIES:Feste/Bälle/Tanz
CATEGORIES:Geselligkeit/Spiele/Treffen
DESCRIPTION:\n\nmehr Informationen unter http://pages.destination.one/de/ob
 erpfaelzerwald/streaming/detail/Event/e_100028020/fischerfest
DTEND;TZID=Europe/Berlin:20250601T235900
DTSTAMP:20260423T090318Z
DTSTART;TZID=Europe/Berlin:20250601T100000
GEO:49.891980;12.186499
LOCATION:Wiesauer Waldseen / Badesee Kipp\, Kornthaner Weg - Schönhaid\, Wi
 esau
ORGANIZER;CN=Fischereiverein Wiesau:http://www.fischereiverein-wiesau.de/
SEQUENCE:0
SUMMARY:Fischerfest
UID:e_100028020_iv7
URL:http://pages.destination.one/de/oberpfaelzerwald/streaming/detail/Event
 /e_100028020/fischerfest
END:VEVENT
BEGIN:VEVENT
CATEGORIES:Rund um den Fisch
CATEGORIES:Feste/Bälle/Tanz
CATEGORIES:Geselligkeit/Spiele/Treffen
DESCRIPTION:\n\nmehr Informationen unter http://pages.destination.one/de/ob
 erpfaelzerwald/streaming/detail/Event/e_100028020/fischerfest
DTEND;TZID=Europe/Berlin:20260613T235900
DTSTAMP:20260423T090318Z
DTSTART;TZID=Europe/Berlin:20260613T170000
GEO:49.891980;12.186499
LOCATION:Wiesauer Waldseen / Badesee Kipp\, Kornthaner Weg - Schönhaid\, Wi
 esau
ORGANIZER;CN=Fischereiverein Wiesau:http://www.fischereiverein-wiesau.de/
SEQUENCE:0
SUMMARY:Fischerfest
UID:e_100028020_iv8
URL:http://pages.destination.one/de/oberpfaelzerwald/streaming/detail/Event
 /e_100028020/fischerfest
END:VEVENT
BEGIN:VEVENT
CATEGORIES:Rund um den Fisch
CATEGORIES:Feste/Bälle/Tanz
CATEGORIES:Geselligkeit/Spiele/Treffen
DESCRIPTION:\n\nmehr Informationen unter http://pages.destination.one/de/ob
 erpfaelzerwald/streaming/detail/Event/e_100028020/fischerfest
DTEND;TZID=Europe/Berlin:20260614T235900
DTSTAMP:20260423T090318Z
DTSTART;TZID=Europe/Berlin:20260614T100000
GEO:49.891980;12.186499
LOCATION:Wiesauer Waldseen / Badesee Kipp\, Kornthaner Weg - Schönhaid\, Wi
 esau
ORGANIZER;CN=Fischereiverein Wiesau:http://www.fischereiverein-wiesau.de/
SEQUENCE:0
SUMMARY:Fischerfest
UID:e_100028020_iv9
URL:http://pages.destination.one/de/oberpfaelzerwald/streaming/detail/Event
 /e_100028020/fischerfest
END:VEVENT
BEGIN:VEVENT
CATEGORIES:Rund um den Fisch
CATEGORIES:Feste/Bälle/Tanz
CATEGORIES:Geselligkeit/Spiele/Treffen
DESCRIPTION:\n\nmehr Informationen unter http://pages.destination.one/de/ob
 erpfaelzerwald/streaming/detail/Event/e_100028020/fischerfest
DTEND;TZID=Europe/Berlin:20260614T235900
DTSTAMP:20260423T090318Z
DTSTART;TZID=Europe/Berlin:20260614T100000
GEO:49.891980;12.186499
LOCATION:Wiesauer Waldseen / Badesee Kipp\, Kornthaner Weg - Schönhaid\, Wi
 esau
ORGANIZER;CN=Fischereiverein Wiesau:http://www.fischereiverein-wiesau.de/
SEQUENCE:0
SUMMARY:Fischerfest
UID:e_100028020_iv10
URL:http://pages.destination.one/de/oberpfaelzerwald/streaming/detail/Event
 /e_100028020/fischerfest
END:VEVENT
BEGIN:VTIMEZONE
TZID:Europe/Berlin
X-LIC-LOCATION:Europe/Berlin
BEGIN:DAYLIGHT
DTSTART:19700329T020000
RRULE:FREQ=YEARLY;BYDAY=-1SU;BYMONTH=3
TZNAME:CEST
TZOFFSETFROM:+0100
TZOFFSETTO:+0200
END:DAYLIGHT
BEGIN:STANDARD
DTSTART:19701025T030000
RRULE:FREQ=YEARLY;BYDAY=-1SU;BYMONTH=10
TZNAME:CET
TZOFFSETFROM:+0200
TZOFFSETTO:+0100
END:STANDARD
END:VTIMEZONE
END:VCALENDAR
