BEGIN:VCALENDAR
VERSION:2.0
PRODID:-//destination.one//NONSGML destination.meta API//DE
X-WR-CALDESC:A calendar powered by destination.meta
X-WR-CALNAME:oberpfaelzerwald Kalender via destination.meta
BEGIN:VEVENT
CATEGORIES:Brauchtum/Kultur
CATEGORIES:Geselligkeit/Spiele/Treffen
CATEGORIES:Sonstiges
DESCRIPTION:\n\nmehr Informationen unter http://pages.destination.one/de/ob
 erpfaelzerwald/streaming/detail/Event/e_100034478/sonnwendfeuer-in-pechbru
 nn
DTEND;TZID=Europe/Berlin:20150620T230000
DTSTAMP:20260421T121241Z
DTSTART;TZID=Europe/Berlin:20150620T190000
GEO:49.966902;12.162917
LOCATION:SV Pechbrunn-Groschlattengrün Vereinsheim\, Teichelbergstr. 1\, Pe
 chbrunn
SEQUENCE:0
SUMMARY:Sonnwendfeuer in Pechbrunn
UID:e_100034478_iv0
URL:http://pages.destination.one/de/oberpfaelzerwald/streaming/detail/Event
 /e_100034478/sonnwendfeuer-in-pechbrunn
END:VEVENT
BEGIN:VEVENT
CATEGORIES:Brauchtum/Kultur
CATEGORIES:Geselligkeit/Spiele/Treffen
CATEGORIES:Sonstiges
DESCRIPTION:\n\nmehr Informationen unter http://pages.destination.one/de/ob
 erpfaelzerwald/streaming/detail/Event/e_100034478/sonnwendfeuer-in-pechbru
 nn
DTEND;TZID=Europe/Berlin:20160618T230000
DTSTAMP:20260421T121241Z
DTSTART;TZID=Europe/Berlin:20160618T190000
GEO:49.966902;12.162917
LOCATION:SV Pechbrunn-Groschlattengrün Vereinsheim\, Teichelbergstr. 1\, Pe
 chbrunn
SEQUENCE:0
SUMMARY:Sonnwendfeuer in Pechbrunn
UID:e_100034478_iv1
URL:http://pages.destination.one/de/oberpfaelzerwald/streaming/detail/Event
 /e_100034478/sonnwendfeuer-in-pechbrunn
END:VEVENT
BEGIN:VEVENT
CATEGORIES:Brauchtum/Kultur
CATEGORIES:Geselligkeit/Spiele/Treffen
CATEGORIES:Sonstiges
DESCRIPTION:\n\nmehr Informationen unter http://pages.destination.one/de/ob
 erpfaelzerwald/streaming/detail/Event/e_100034478/sonnwendfeuer-in-pechbru
 nn
DTEND;TZID=Europe/Berlin:20170624T230000
DTSTAMP:20260421T121241Z
DTSTART;TZID=Europe/Berlin:20170624T190000
GEO:49.966902;12.162917
LOCATION:SV Pechbrunn-Groschlattengrün Vereinsheim\, Teichelbergstr. 1\, Pe
 chbrunn
SEQUENCE:0
SUMMARY:Sonnwendfeuer in Pechbrunn
UID:e_100034478_iv2
URL:http://pages.destination.one/de/oberpfaelzerwald/streaming/detail/Event
 /e_100034478/sonnwendfeuer-in-pechbrunn
END:VEVENT
BEGIN:VEVENT
CATEGORIES:Brauchtum/Kultur
CATEGORIES:Geselligkeit/Spiele/Treffen
CATEGORIES:Sonstiges
DESCRIPTION:\n\nmehr Informationen unter http://pages.destination.one/de/ob
 erpfaelzerwald/streaming/detail/Event/e_100034478/sonnwendfeuer-in-pechbru
 nn
DTEND;TZID=Europe/Berlin:20180623T230000
DTSTAMP:20260421T121241Z
DTSTART;TZID=Europe/Berlin:20180623T190000
GEO:49.966902;12.162917
LOCATION:SV Pechbrunn-Groschlattengrün Vereinsheim\, Teichelbergstr. 1\, Pe
 chbrunn
SEQUENCE:0
SUMMARY:Sonnwendfeuer in Pechbrunn
UID:e_100034478_iv3
URL:http://pages.destination.one/de/oberpfaelzerwald/streaming/detail/Event
 /e_100034478/sonnwendfeuer-in-pechbrunn
END:VEVENT
BEGIN:VEVENT
CATEGORIES:Brauchtum/Kultur
CATEGORIES:Geselligkeit/Spiele/Treffen
CATEGORIES:Sonstiges
DESCRIPTION:\n\nmehr Informationen unter http://pages.destination.one/de/ob
 erpfaelzerwald/streaming/detail/Event/e_100034478/sonnwendfeuer-in-pechbru
 nn
DTEND;TZID=Europe/Berlin:20230623T234500
DTSTAMP:20260421T121241Z
DTSTART;TZID=Europe/Berlin:20230623T190000
GEO:49.966902;12.162917
LOCATION:SV Pechbrunn-Groschlattengrün Vereinsheim\, Teichelbergstr. 1\, Pe
 chbrunn
SEQUENCE:0
SUMMARY:Sonnwendfeuer in Pechbrunn
UID:e_100034478_iv4
URL:http://pages.destination.one/de/oberpfaelzerwald/streaming/detail/Event
 /e_100034478/sonnwendfeuer-in-pechbrunn
END:VEVENT
BEGIN:VEVENT
CATEGORIES:Brauchtum/Kultur
CATEGORIES:Geselligkeit/Spiele/Treffen
CATEGORIES:Sonstiges
DESCRIPTION:\n\nmehr Informationen unter http://pages.destination.one/de/ob
 erpfaelzerwald/streaming/detail/Event/e_100034478/sonnwendfeuer-in-pechbru
 nn
DTEND;TZID=Europe/Berlin:20250621T234500
DTSTAMP:20260421T121241Z
DTSTART;TZID=Europe/Berlin:20250621T170000
GEO:49.966902;12.162917
LOCATION:SV Pechbrunn-Groschlattengrün Vereinsheim\, Teichelbergstr. 1\, Pe
 chbrunn
SEQUENCE:0
SUMMARY:Sonnwendfeuer in Pechbrunn
UID:e_100034478_iv5
URL:http://pages.destination.one/de/oberpfaelzerwald/streaming/detail/Event
 /e_100034478/sonnwendfeuer-in-pechbrunn
END:VEVENT
BEGIN:VEVENT
CATEGORIES:Brauchtum/Kultur
CATEGORIES:Geselligkeit/Spiele/Treffen
CATEGORIES:Sonstiges
DESCRIPTION:\n\nmehr Informationen unter http://pages.destination.one/de/ob
 erpfaelzerwald/streaming/detail/Event/e_100034478/sonnwendfeuer-in-pechbru
 nn
DTEND;TZID=Europe/Berlin:20260620T235500
DTSTAMP:20260421T121241Z
DTSTART;TZID=Europe/Berlin:20260620T170000
GEO:49.966902;12.162917
LOCATION:SV Pechbrunn-Groschlattengrün Vereinsheim\, Teichelbergstr. 1\, Pe
 chbrunn
SEQUENCE:0
SUMMARY:Sonnwendfeuer in Pechbrunn
UID:e_100034478_iv6
URL:http://pages.destination.one/de/oberpfaelzerwald/streaming/detail/Event
 /e_100034478/sonnwendfeuer-in-pechbrunn
END:VEVENT
BEGIN:VTIMEZONE
TZID:Europe/Berlin
X-LIC-LOCATION:Europe/Berlin
BEGIN:DAYLIGHT
DTSTART:19700329T020000
RRULE:FREQ=YEARLY;BYDAY=-1SU;BYMONTH=3
TZNAME:CEST
TZOFFSETFROM:+0100
TZOFFSETTO:+0200
END:DAYLIGHT
BEGIN:STANDARD
DTSTART:19701025T030000
RRULE:FREQ=YEARLY;BYDAY=-1SU;BYMONTH=10
TZNAME:CET
TZOFFSETFROM:+0200
TZOFFSETTO:+0100
END:STANDARD
END:VTIMEZONE
END:VCALENDAR
