BEGIN:VCALENDAR
VERSION:2.0
PRODID:-//destination.one//NONSGML destination.meta API//DE
X-WR-CALDESC:A calendar powered by destination.meta
X-WR-CALNAME:oberpfaelzerwald Kalender via destination.meta
BEGIN:VEVENT
CATEGORIES:Brauchtum/Kultur
CATEGORIES:Feste/Bälle/Tanz
CATEGORIES:Genuss/Gourmet
CATEGORIES:Konzert
CATEGORIES:Sonstiges
DESCRIPTION:\n\nmehr Informationen unter http://pages.destination.one/de/ob
 erpfaelzerwald/streaming/detail/Event/e_100036929/kulturnacht-vohenstrau-2
 026
DTEND;TZID=Europe/Berlin:20180713T235900
DTSTAMP:20260420T001721Z
DTSTART;TZID=Europe/Berlin:20180713T180000
GEO:49.623118;12.341648
LOCATION:Oberer Markt\, \, Vohenstrauß
ORGANIZER;CN=Mittelständischer Wirtschaftskreis Vohenstrauß:http://www.mwvo
 h.de/
SEQUENCE:0
SUMMARY:Kulturnacht Vohenstrauß 2026
UID:e_100036929_iv0
URL:http://pages.destination.one/de/oberpfaelzerwald/streaming/detail/Event
 /e_100036929/kulturnacht-vohenstrau-2026
END:VEVENT
BEGIN:VEVENT
CATEGORIES:Brauchtum/Kultur
CATEGORIES:Feste/Bälle/Tanz
CATEGORIES:Genuss/Gourmet
CATEGORIES:Konzert
CATEGORIES:Sonstiges
DESCRIPTION:\n\nmehr Informationen unter http://pages.destination.one/de/ob
 erpfaelzerwald/streaming/detail/Event/e_100036929/kulturnacht-vohenstrau-2
 026
DTEND;TZID=Europe/Berlin:20190712T235900
DTSTAMP:20260420T001721Z
DTSTART;TZID=Europe/Berlin:20190712T180000
GEO:49.623118;12.341648
LOCATION:Oberer Markt\, \, Vohenstrauß
ORGANIZER;CN=Mittelständischer Wirtschaftskreis Vohenstrauß:http://www.mwvo
 h.de/
SEQUENCE:0
SUMMARY:Kulturnacht Vohenstrauß 2026
UID:e_100036929_iv1
URL:http://pages.destination.one/de/oberpfaelzerwald/streaming/detail/Event
 /e_100036929/kulturnacht-vohenstrau-2026
END:VEVENT
BEGIN:VEVENT
CATEGORIES:Brauchtum/Kultur
CATEGORIES:Feste/Bälle/Tanz
CATEGORIES:Genuss/Gourmet
CATEGORIES:Konzert
CATEGORIES:Sonstiges
DESCRIPTION:\n\nmehr Informationen unter http://pages.destination.one/de/ob
 erpfaelzerwald/streaming/detail/Event/e_100036929/kulturnacht-vohenstrau-2
 026
DTEND;TZID=Europe/Berlin:20200710T235900
DTSTAMP:20260420T001721Z
DTSTART;TZID=Europe/Berlin:20200710T180000
GEO:49.623118;12.341648
LOCATION:Oberer Markt\, \, Vohenstrauß
ORGANIZER;CN=Mittelständischer Wirtschaftskreis Vohenstrauß:http://www.mwvo
 h.de/
SEQUENCE:0
SUMMARY:Kulturnacht Vohenstrauß 2026
UID:e_100036929_iv2
URL:http://pages.destination.one/de/oberpfaelzerwald/streaming/detail/Event
 /e_100036929/kulturnacht-vohenstrau-2026
END:VEVENT
BEGIN:VEVENT
CATEGORIES:Brauchtum/Kultur
CATEGORIES:Feste/Bälle/Tanz
CATEGORIES:Genuss/Gourmet
CATEGORIES:Konzert
CATEGORIES:Sonstiges
DESCRIPTION:\n\nmehr Informationen unter http://pages.destination.one/de/ob
 erpfaelzerwald/streaming/detail/Event/e_100036929/kulturnacht-vohenstrau-2
 026
DTEND;TZID=Europe/Berlin:20220610T235900
DTSTAMP:20260420T001721Z
DTSTART;TZID=Europe/Berlin:20220610T180000
GEO:49.623118;12.341648
LOCATION:Oberer Markt\, \, Vohenstrauß
ORGANIZER;CN=Mittelständischer Wirtschaftskreis Vohenstrauß:http://www.mwvo
 h.de/
SEQUENCE:0
SUMMARY:Kulturnacht Vohenstrauß 2026
UID:e_100036929_iv3
URL:http://pages.destination.one/de/oberpfaelzerwald/streaming/detail/Event
 /e_100036929/kulturnacht-vohenstrau-2026
END:VEVENT
BEGIN:VEVENT
CATEGORIES:Brauchtum/Kultur
CATEGORIES:Feste/Bälle/Tanz
CATEGORIES:Genuss/Gourmet
CATEGORIES:Konzert
CATEGORIES:Sonstiges
DESCRIPTION:\n\nmehr Informationen unter http://pages.destination.one/de/ob
 erpfaelzerwald/streaming/detail/Event/e_100036929/kulturnacht-vohenstrau-2
 026
DTEND;TZID=Europe/Berlin:20230602T235900
DTSTAMP:20260420T001721Z
DTSTART;TZID=Europe/Berlin:20230602T170000
GEO:49.623118;12.341648
LOCATION:Oberer Markt\, \, Vohenstrauß
ORGANIZER;CN=Mittelständischer Wirtschaftskreis Vohenstrauß:http://www.mwvo
 h.de/
SEQUENCE:0
SUMMARY:Kulturnacht Vohenstrauß 2026
UID:e_100036929_iv4
URL:http://pages.destination.one/de/oberpfaelzerwald/streaming/detail/Event
 /e_100036929/kulturnacht-vohenstrau-2026
END:VEVENT
BEGIN:VEVENT
CATEGORIES:Brauchtum/Kultur
CATEGORIES:Feste/Bälle/Tanz
CATEGORIES:Genuss/Gourmet
CATEGORIES:Konzert
CATEGORIES:Sonstiges
DESCRIPTION:\n\nmehr Informationen unter http://pages.destination.one/de/ob
 erpfaelzerwald/streaming/detail/Event/e_100036929/kulturnacht-vohenstrau-2
 026
DTEND;TZID=Europe/Berlin:20240726T235900
DTSTAMP:20260420T001721Z
DTSTART;TZID=Europe/Berlin:20240726T170000
GEO:49.623118;12.341648
LOCATION:Oberer Markt\, \, Vohenstrauß
ORGANIZER;CN=Mittelständischer Wirtschaftskreis Vohenstrauß:http://www.mwvo
 h.de/
SEQUENCE:0
SUMMARY:Kulturnacht Vohenstrauß 2026
UID:e_100036929_iv5
URL:http://pages.destination.one/de/oberpfaelzerwald/streaming/detail/Event
 /e_100036929/kulturnacht-vohenstrau-2026
END:VEVENT
BEGIN:VEVENT
CATEGORIES:Brauchtum/Kultur
CATEGORIES:Feste/Bälle/Tanz
CATEGORIES:Genuss/Gourmet
CATEGORIES:Konzert
CATEGORIES:Sonstiges
DESCRIPTION:\n\nmehr Informationen unter http://pages.destination.one/de/ob
 erpfaelzerwald/streaming/detail/Event/e_100036929/kulturnacht-vohenstrau-2
 026
DTEND;TZID=Europe/Berlin:20250528T235900
DTSTAMP:20260420T001721Z
DTSTART;TZID=Europe/Berlin:20250528T180000
GEO:49.623118;12.341648
LOCATION:Oberer Markt\, \, Vohenstrauß
ORGANIZER;CN=Mittelständischer Wirtschaftskreis Vohenstrauß:http://www.mwvo
 h.de/
SEQUENCE:0
SUMMARY:Kulturnacht Vohenstrauß 2026
UID:e_100036929_iv6
URL:http://pages.destination.one/de/oberpfaelzerwald/streaming/detail/Event
 /e_100036929/kulturnacht-vohenstrau-2026
END:VEVENT
BEGIN:VEVENT
CATEGORIES:Brauchtum/Kultur
CATEGORIES:Feste/Bälle/Tanz
CATEGORIES:Genuss/Gourmet
CATEGORIES:Konzert
CATEGORIES:Sonstiges
DESCRIPTION:\n\nmehr Informationen unter http://pages.destination.one/de/ob
 erpfaelzerwald/streaming/detail/Event/e_100036929/kulturnacht-vohenstrau-2
 026
DTEND;TZID=Europe/Berlin:20260522T235900
DTSTAMP:20260420T001721Z
DTSTART;TZID=Europe/Berlin:20260522T180000
GEO:49.623118;12.341648
LOCATION:Oberer Markt\, \, Vohenstrauß
ORGANIZER;CN=Mittelständischer Wirtschaftskreis Vohenstrauß:http://www.mwvo
 h.de/
SEQUENCE:0
SUMMARY:Kulturnacht Vohenstrauß 2026
UID:e_100036929_iv7
URL:http://pages.destination.one/de/oberpfaelzerwald/streaming/detail/Event
 /e_100036929/kulturnacht-vohenstrau-2026
END:VEVENT
BEGIN:VTIMEZONE
TZID:Europe/Berlin
X-LIC-LOCATION:Europe/Berlin
BEGIN:DAYLIGHT
DTSTART:19700329T020000
RRULE:FREQ=YEARLY;BYDAY=-1SU;BYMONTH=3
TZNAME:CEST
TZOFFSETFROM:+0100
TZOFFSETTO:+0200
END:DAYLIGHT
BEGIN:STANDARD
DTSTART:19701025T030000
RRULE:FREQ=YEARLY;BYDAY=-1SU;BYMONTH=10
TZNAME:CET
TZOFFSETFROM:+0200
TZOFFSETTO:+0100
END:STANDARD
END:VTIMEZONE
END:VCALENDAR
