BEGIN:VCALENDAR
VERSION:2.0
PRODID:-//destination.one//NONSGML destination.meta API//DE
X-WR-CALDESC:A calendar powered by destination.meta
X-WR-CALNAME:oberpfaelzerwald Kalender via destination.meta
BEGIN:VEVENT
CATEGORIES:Weihnachten / Advent
DESCRIPTION:\n\nmehr Informationen unter http://pages.destination.one/de/ob
 erpfaelzerwald/streaming/detail/Event/e_100054292/fischbacher-schlossweihn
 acht
DTEND;TZID=Europe/Berlin:20161125T200000
DTSTAMP:20260424T093234Z
DTSTART;TZID=Europe/Berlin:20161125T170000
GEO:49.235429;12.204416
LOCATION:Schlosshof Fischbach\, Nittenauer Str. 20\, Nittenau
PRIORITY:4
SEQUENCE:0
SUMMARY:Fischbacher Schlossweihnacht
UID:e_100054292_iv0
URL:http://pages.destination.one/de/oberpfaelzerwald/streaming/detail/Event
 /e_100054292/fischbacher-schlossweihnacht
END:VEVENT
BEGIN:VEVENT
CATEGORIES:Weihnachten / Advent
DESCRIPTION:\n\nmehr Informationen unter http://pages.destination.one/de/ob
 erpfaelzerwald/streaming/detail/Event/e_100054292/fischbacher-schlossweihn
 acht
DTEND;TZID=Europe/Berlin:20161126T200000
DTSTAMP:20260424T093234Z
DTSTART;TZID=Europe/Berlin:20161126T150000
GEO:49.235429;12.204416
LOCATION:Schlosshof Fischbach\, Nittenauer Str. 20\, Nittenau
PRIORITY:4
SEQUENCE:0
SUMMARY:Fischbacher Schlossweihnacht
UID:e_100054292_iv1
URL:http://pages.destination.one/de/oberpfaelzerwald/streaming/detail/Event
 /e_100054292/fischbacher-schlossweihnacht
END:VEVENT
BEGIN:VEVENT
CATEGORIES:Weihnachten / Advent
DESCRIPTION:\n\nmehr Informationen unter http://pages.destination.one/de/ob
 erpfaelzerwald/streaming/detail/Event/e_100054292/fischbacher-schlossweihn
 acht
DTEND;TZID=Europe/Berlin:20161127T200000
DTSTAMP:20260424T093234Z
DTSTART;TZID=Europe/Berlin:20161127T140000
GEO:49.235429;12.204416
LOCATION:Schlosshof Fischbach\, Nittenauer Str. 20\, Nittenau
PRIORITY:4
SEQUENCE:0
SUMMARY:Fischbacher Schlossweihnacht
UID:e_100054292_iv2
URL:http://pages.destination.one/de/oberpfaelzerwald/streaming/detail/Event
 /e_100054292/fischbacher-schlossweihnacht
END:VEVENT
BEGIN:VEVENT
CATEGORIES:Weihnachten / Advent
DESCRIPTION:\n\nmehr Informationen unter http://pages.destination.one/de/ob
 erpfaelzerwald/streaming/detail/Event/e_100054292/fischbacher-schlossweihn
 acht
DTEND;TZID=Europe/Berlin:20221125T220000
DTSTAMP:20260424T093234Z
DTSTART;TZID=Europe/Berlin:20221125T170000
GEO:49.235429;12.204416
LOCATION:Schlosshof Fischbach\, Nittenauer Str. 20\, Nittenau
PRIORITY:4
SEQUENCE:0
SUMMARY:Fischbacher Schlossweihnacht
UID:e_100054292_iv3
URL:http://pages.destination.one/de/oberpfaelzerwald/streaming/detail/Event
 /e_100054292/fischbacher-schlossweihnacht
END:VEVENT
BEGIN:VEVENT
CATEGORIES:Weihnachten / Advent
DESCRIPTION:\n\nmehr Informationen unter http://pages.destination.one/de/ob
 erpfaelzerwald/streaming/detail/Event/e_100054292/fischbacher-schlossweihn
 acht
DTEND;TZID=Europe/Berlin:20221126T220000
DTSTAMP:20260424T093234Z
DTSTART;TZID=Europe/Berlin:20221126T150000
GEO:49.235429;12.204416
LOCATION:Schlosshof Fischbach\, Nittenauer Str. 20\, Nittenau
PRIORITY:4
SEQUENCE:0
SUMMARY:Fischbacher Schlossweihnacht
UID:e_100054292_iv4
URL:http://pages.destination.one/de/oberpfaelzerwald/streaming/detail/Event
 /e_100054292/fischbacher-schlossweihnacht
END:VEVENT
BEGIN:VEVENT
CATEGORIES:Weihnachten / Advent
DESCRIPTION:\n\nmehr Informationen unter http://pages.destination.one/de/ob
 erpfaelzerwald/streaming/detail/Event/e_100054292/fischbacher-schlossweihn
 acht
DTEND;TZID=Europe/Berlin:20221127T200000
DTSTAMP:20260424T093234Z
DTSTART;TZID=Europe/Berlin:20221127T140000
GEO:49.235429;12.204416
LOCATION:Schlosshof Fischbach\, Nittenauer Str. 20\, Nittenau
PRIORITY:4
SEQUENCE:0
SUMMARY:Fischbacher Schlossweihnacht
UID:e_100054292_iv5
URL:http://pages.destination.one/de/oberpfaelzerwald/streaming/detail/Event
 /e_100054292/fischbacher-schlossweihnacht
END:VEVENT
BEGIN:VEVENT
CATEGORIES:Weihnachten / Advent
DESCRIPTION:\n\nmehr Informationen unter http://pages.destination.one/de/ob
 erpfaelzerwald/streaming/detail/Event/e_100054292/fischbacher-schlossweihn
 acht
DTEND;TZID=Europe/Berlin:20241129T220000
DTSTAMP:20260424T093234Z
DTSTART;TZID=Europe/Berlin:20241129T170000
GEO:49.235429;12.204416
LOCATION:Schlosshof Fischbach\, Nittenauer Str. 20\, Nittenau
PRIORITY:4
SEQUENCE:0
SUMMARY:Fischbacher Schlossweihnacht
UID:e_100054292_iv6
URL:http://pages.destination.one/de/oberpfaelzerwald/streaming/detail/Event
 /e_100054292/fischbacher-schlossweihnacht
END:VEVENT
BEGIN:VEVENT
CATEGORIES:Weihnachten / Advent
DESCRIPTION:\n\nmehr Informationen unter http://pages.destination.one/de/ob
 erpfaelzerwald/streaming/detail/Event/e_100054292/fischbacher-schlossweihn
 acht
DTEND;TZID=Europe/Berlin:20241130T220000
DTSTAMP:20260424T093234Z
DTSTART;TZID=Europe/Berlin:20241130T150000
GEO:49.235429;12.204416
LOCATION:Schlosshof Fischbach\, Nittenauer Str. 20\, Nittenau
PRIORITY:4
SEQUENCE:0
SUMMARY:Fischbacher Schlossweihnacht
UID:e_100054292_iv7
URL:http://pages.destination.one/de/oberpfaelzerwald/streaming/detail/Event
 /e_100054292/fischbacher-schlossweihnacht
END:VEVENT
BEGIN:VEVENT
CATEGORIES:Weihnachten / Advent
DESCRIPTION:\n\nmehr Informationen unter http://pages.destination.one/de/ob
 erpfaelzerwald/streaming/detail/Event/e_100054292/fischbacher-schlossweihn
 acht
DTEND;TZID=Europe/Berlin:20241201T200000
DTSTAMP:20260424T093234Z
DTSTART;TZID=Europe/Berlin:20241201T140000
GEO:49.235429;12.204416
LOCATION:Schlosshof Fischbach\, Nittenauer Str. 20\, Nittenau
PRIORITY:4
SEQUENCE:0
SUMMARY:Fischbacher Schlossweihnacht
UID:e_100054292_iv8
URL:http://pages.destination.one/de/oberpfaelzerwald/streaming/detail/Event
 /e_100054292/fischbacher-schlossweihnacht
END:VEVENT
BEGIN:VEVENT
CATEGORIES:Weihnachten / Advent
DESCRIPTION:\n\nmehr Informationen unter http://pages.destination.one/de/ob
 erpfaelzerwald/streaming/detail/Event/e_100054292/fischbacher-schlossweihn
 acht
DTEND;TZID=Europe/Berlin:20261127T220000
DTSTAMP:20260424T093234Z
DTSTART;TZID=Europe/Berlin:20261127T170000
GEO:49.235429;12.204416
LOCATION:Schlosshof Fischbach\, Nittenauer Str. 20\, Nittenau
PRIORITY:4
SEQUENCE:0
SUMMARY:Fischbacher Schlossweihnacht
UID:e_100054292_iv9
URL:http://pages.destination.one/de/oberpfaelzerwald/streaming/detail/Event
 /e_100054292/fischbacher-schlossweihnacht
END:VEVENT
BEGIN:VEVENT
CATEGORIES:Weihnachten / Advent
DESCRIPTION:\n\nmehr Informationen unter http://pages.destination.one/de/ob
 erpfaelzerwald/streaming/detail/Event/e_100054292/fischbacher-schlossweihn
 acht
DTEND;TZID=Europe/Berlin:20261128T220000
DTSTAMP:20260424T093234Z
DTSTART;TZID=Europe/Berlin:20261128T150000
GEO:49.235429;12.204416
LOCATION:Schlosshof Fischbach\, Nittenauer Str. 20\, Nittenau
PRIORITY:4
SEQUENCE:0
SUMMARY:Fischbacher Schlossweihnacht
UID:e_100054292_iv10
URL:http://pages.destination.one/de/oberpfaelzerwald/streaming/detail/Event
 /e_100054292/fischbacher-schlossweihnacht
END:VEVENT
BEGIN:VEVENT
CATEGORIES:Weihnachten / Advent
DESCRIPTION:\n\nmehr Informationen unter http://pages.destination.one/de/ob
 erpfaelzerwald/streaming/detail/Event/e_100054292/fischbacher-schlossweihn
 acht
DTEND;TZID=Europe/Berlin:20261129T200000
DTSTAMP:20260424T093234Z
DTSTART;TZID=Europe/Berlin:20261129T140000
GEO:49.235429;12.204416
LOCATION:Schlosshof Fischbach\, Nittenauer Str. 20\, Nittenau
PRIORITY:4
SEQUENCE:0
SUMMARY:Fischbacher Schlossweihnacht
UID:e_100054292_iv11
URL:http://pages.destination.one/de/oberpfaelzerwald/streaming/detail/Event
 /e_100054292/fischbacher-schlossweihnacht
END:VEVENT
BEGIN:VTIMEZONE
TZID:Europe/Berlin
X-LIC-LOCATION:Europe/Berlin
BEGIN:DAYLIGHT
DTSTART:19700329T020000
RRULE:FREQ=YEARLY;BYDAY=-1SU;BYMONTH=3
TZNAME:CEST
TZOFFSETFROM:+0100
TZOFFSETTO:+0200
END:DAYLIGHT
BEGIN:STANDARD
DTSTART:19701025T030000
RRULE:FREQ=YEARLY;BYDAY=-1SU;BYMONTH=10
TZNAME:CET
TZOFFSETFROM:+0200
TZOFFSETTO:+0100
END:STANDARD
END:VTIMEZONE
END:VCALENDAR
