BEGIN:VCALENDAR
VERSION:2.0
PRODID:-//destination.one//NONSGML destination.meta API//DE
X-WR-CALDESC:A calendar powered by destination.meta
X-WR-CALNAME:oberpfaelzerwald Kalender via destination.meta
BEGIN:VEVENT
CATEGORIES:Genuss/Gourmet
CATEGORIES:Sonstiges
DESCRIPTION:\n\nmehr Informationen unter http://pages.destination.one/de/ob
 erpfaelzerwald/streaming/detail/Event/e_100054454/weinfest-unplugged
DTEND;TZID=Europe/Berlin:20160730T235900
DTSTAMP:20260421T135732Z
DTSTART;TZID=Europe/Berlin:20160730T180000
GEO:49.618343;12.345328
LOCATION:Stadthalle Vohenstrauß\, Neuwirtshauser Weg 11\, Vohenstrauß
SEQUENCE:0
SUMMARY:WEINFEST UNPLUGGED
UID:e_100054454_iv0
URL:http://pages.destination.one/de/oberpfaelzerwald/streaming/detail/Event
 /e_100054454/weinfest-unplugged
END:VEVENT
BEGIN:VEVENT
CATEGORIES:Genuss/Gourmet
CATEGORIES:Sonstiges
DESCRIPTION:\n\nmehr Informationen unter http://pages.destination.one/de/ob
 erpfaelzerwald/streaming/detail/Event/e_100054454/weinfest-unplugged
DTEND;TZID=Europe/Berlin:20180728T235900
DTSTAMP:20260421T135732Z
DTSTART;TZID=Europe/Berlin:20180728T200000
GEO:49.618343;12.345328
LOCATION:Stadthalle Vohenstrauß\, Neuwirtshauser Weg 11\, Vohenstrauß
SEQUENCE:0
SUMMARY:WEINFEST UNPLUGGED
UID:e_100054454_iv1
URL:http://pages.destination.one/de/oberpfaelzerwald/streaming/detail/Event
 /e_100054454/weinfest-unplugged
END:VEVENT
BEGIN:VEVENT
CATEGORIES:Genuss/Gourmet
CATEGORIES:Sonstiges
DESCRIPTION:\n\nmehr Informationen unter http://pages.destination.one/de/ob
 erpfaelzerwald/streaming/detail/Event/e_100054454/weinfest-unplugged
DTEND;TZID=Europe/Berlin:20190727T235900
DTSTAMP:20260421T135732Z
DTSTART;TZID=Europe/Berlin:20190727T200000
GEO:49.618343;12.345328
LOCATION:Stadthalle Vohenstrauß\, Neuwirtshauser Weg 11\, Vohenstrauß
SEQUENCE:0
SUMMARY:WEINFEST UNPLUGGED
UID:e_100054454_iv2
URL:http://pages.destination.one/de/oberpfaelzerwald/streaming/detail/Event
 /e_100054454/weinfest-unplugged
END:VEVENT
BEGIN:VEVENT
CATEGORIES:Genuss/Gourmet
CATEGORIES:Sonstiges
DESCRIPTION:\n\nmehr Informationen unter http://pages.destination.one/de/ob
 erpfaelzerwald/streaming/detail/Event/e_100054454/weinfest-unplugged
DTEND;TZID=Europe/Berlin:20200725T235900
DTSTAMP:20260421T135732Z
DTSTART;TZID=Europe/Berlin:20200725T190000
GEO:49.618343;12.345328
LOCATION:Stadthalle Vohenstrauß\, Neuwirtshauser Weg 11\, Vohenstrauß
SEQUENCE:0
SUMMARY:WEINFEST UNPLUGGED
UID:e_100054454_iv3
URL:http://pages.destination.one/de/oberpfaelzerwald/streaming/detail/Event
 /e_100054454/weinfest-unplugged
END:VEVENT
BEGIN:VEVENT
CATEGORIES:Genuss/Gourmet
CATEGORIES:Sonstiges
DESCRIPTION:\n\nmehr Informationen unter http://pages.destination.one/de/ob
 erpfaelzerwald/streaming/detail/Event/e_100054454/weinfest-unplugged
DTEND;TZID=Europe/Berlin:20210731T235900
DTSTAMP:20260421T135732Z
DTSTART;TZID=Europe/Berlin:20210731T190000
GEO:49.618343;12.345328
LOCATION:Stadthalle Vohenstrauß\, Neuwirtshauser Weg 11\, Vohenstrauß
SEQUENCE:0
SUMMARY:WEINFEST UNPLUGGED
UID:e_100054454_iv4
URL:http://pages.destination.one/de/oberpfaelzerwald/streaming/detail/Event
 /e_100054454/weinfest-unplugged
END:VEVENT
BEGIN:VEVENT
CATEGORIES:Genuss/Gourmet
CATEGORIES:Sonstiges
DESCRIPTION:\n\nmehr Informationen unter http://pages.destination.one/de/ob
 erpfaelzerwald/streaming/detail/Event/e_100054454/weinfest-unplugged
DTEND;TZID=Europe/Berlin:20220730T235900
DTSTAMP:20260421T135732Z
DTSTART;TZID=Europe/Berlin:20220730T180000
GEO:49.618343;12.345328
LOCATION:Stadthalle Vohenstrauß\, Neuwirtshauser Weg 11\, Vohenstrauß
SEQUENCE:0
SUMMARY:WEINFEST UNPLUGGED
UID:e_100054454_iv5
URL:http://pages.destination.one/de/oberpfaelzerwald/streaming/detail/Event
 /e_100054454/weinfest-unplugged
END:VEVENT
BEGIN:VEVENT
CATEGORIES:Genuss/Gourmet
CATEGORIES:Sonstiges
DESCRIPTION:\n\nmehr Informationen unter http://pages.destination.one/de/ob
 erpfaelzerwald/streaming/detail/Event/e_100054454/weinfest-unplugged
DTEND;TZID=Europe/Berlin:20230722T235900
DTSTAMP:20260421T135732Z
DTSTART;TZID=Europe/Berlin:20230722T180000
GEO:49.618343;12.345328
LOCATION:Stadthalle Vohenstrauß\, Neuwirtshauser Weg 11\, Vohenstrauß
SEQUENCE:0
SUMMARY:WEINFEST UNPLUGGED
UID:e_100054454_iv6
URL:http://pages.destination.one/de/oberpfaelzerwald/streaming/detail/Event
 /e_100054454/weinfest-unplugged
END:VEVENT
BEGIN:VEVENT
CATEGORIES:Genuss/Gourmet
CATEGORIES:Sonstiges
DESCRIPTION:\n\nmehr Informationen unter http://pages.destination.one/de/ob
 erpfaelzerwald/streaming/detail/Event/e_100054454/weinfest-unplugged
DTEND;TZID=Europe/Berlin:20240727T235900
DTSTAMP:20260421T135732Z
DTSTART;TZID=Europe/Berlin:20240727T180000
GEO:49.618343;12.345328
LOCATION:Stadthalle Vohenstrauß\, Neuwirtshauser Weg 11\, Vohenstrauß
SEQUENCE:0
SUMMARY:WEINFEST UNPLUGGED
UID:e_100054454_iv7
URL:http://pages.destination.one/de/oberpfaelzerwald/streaming/detail/Event
 /e_100054454/weinfest-unplugged
END:VEVENT
BEGIN:VEVENT
CATEGORIES:Genuss/Gourmet
CATEGORIES:Sonstiges
DESCRIPTION:\n\nmehr Informationen unter http://pages.destination.one/de/ob
 erpfaelzerwald/streaming/detail/Event/e_100054454/weinfest-unplugged
DTEND;TZID=Europe/Berlin:20250726T235900
DTSTAMP:20260421T135732Z
DTSTART;TZID=Europe/Berlin:20250726T180000
GEO:49.618343;12.345328
LOCATION:Stadthalle Vohenstrauß\, Neuwirtshauser Weg 11\, Vohenstrauß
SEQUENCE:0
SUMMARY:WEINFEST UNPLUGGED
UID:e_100054454_iv8
URL:http://pages.destination.one/de/oberpfaelzerwald/streaming/detail/Event
 /e_100054454/weinfest-unplugged
END:VEVENT
BEGIN:VEVENT
CATEGORIES:Genuss/Gourmet
CATEGORIES:Sonstiges
DESCRIPTION:\n\nmehr Informationen unter http://pages.destination.one/de/ob
 erpfaelzerwald/streaming/detail/Event/e_100054454/weinfest-unplugged
DTEND;TZID=Europe/Berlin:20260725T235900
DTSTAMP:20260421T135732Z
DTSTART;TZID=Europe/Berlin:20260725T180000
GEO:49.618343;12.345328
LOCATION:Stadthalle Vohenstrauß\, Neuwirtshauser Weg 11\, Vohenstrauß
SEQUENCE:0
SUMMARY:WEINFEST UNPLUGGED
UID:e_100054454_iv9
URL:http://pages.destination.one/de/oberpfaelzerwald/streaming/detail/Event
 /e_100054454/weinfest-unplugged
END:VEVENT
BEGIN:VTIMEZONE
TZID:Europe/Berlin
X-LIC-LOCATION:Europe/Berlin
BEGIN:DAYLIGHT
DTSTART:19700329T020000
RRULE:FREQ=YEARLY;BYDAY=-1SU;BYMONTH=3
TZNAME:CEST
TZOFFSETFROM:+0100
TZOFFSETTO:+0200
END:DAYLIGHT
BEGIN:STANDARD
DTSTART:19701025T030000
RRULE:FREQ=YEARLY;BYDAY=-1SU;BYMONTH=10
TZNAME:CET
TZOFFSETFROM:+0200
TZOFFSETTO:+0100
END:STANDARD
END:VTIMEZONE
END:VCALENDAR
