BEGIN:VCALENDAR
VERSION:2.0
PRODID:-//destination.one//NONSGML destination.meta API//DE
X-WR-CALDESC:A calendar powered by destination.meta
X-WR-CALNAME:oberpfaelzerwald Kalender via destination.meta
BEGIN:VEVENT
CATEGORIES:Sonstiges
CATEGORIES:Sport/Freizeit
DESCRIPTION:Auf nach Oberviechtach! Ein Fest der Bürger für die Bürger!\n\n
 mehr Informationen unter http://pages.destination.one/de/oberpfaelzerwald/
 streaming/detail/Event/e_100058900/b-rgerfest-auf-nach-oberviechtach
DTEND;TZID=Europe/Berlin:20170708T235900
DTSTAMP:20260422T101330Z
DTSTART;TZID=Europe/Berlin:20170708T180000
GEO:49.460300;12.418821
LOCATION:Marktplatz \, Marktplatz\, Oberviechtach
ORGANIZER;CN=Stadt Oberviechtach:mailto:rathaus@oberviechtach.de
SEQUENCE:0
SUMMARY:Bürgerfest - Auf nach Oberviechtach!
UID:e_100058900_iv0
URL:http://pages.destination.one/de/oberpfaelzerwald/streaming/detail/Event
 /e_100058900/b-rgerfest-auf-nach-oberviechtach
END:VEVENT
BEGIN:VEVENT
CATEGORIES:Sonstiges
CATEGORIES:Sport/Freizeit
DESCRIPTION:Auf nach Oberviechtach! Ein Fest der Bürger für die Bürger!\n\n
 mehr Informationen unter http://pages.destination.one/de/oberpfaelzerwald/
 streaming/detail/Event/e_100058900/b-rgerfest-auf-nach-oberviechtach
DTEND;TZID=Europe/Berlin:20170709T220000
DTSTAMP:20260422T101330Z
DTSTART;TZID=Europe/Berlin:20170709T090000
GEO:49.460300;12.418821
LOCATION:Marktplatz \, Marktplatz\, Oberviechtach
ORGANIZER;CN=Stadt Oberviechtach:mailto:rathaus@oberviechtach.de
SEQUENCE:0
SUMMARY:Bürgerfest - Auf nach Oberviechtach!
UID:e_100058900_iv1
URL:http://pages.destination.one/de/oberpfaelzerwald/streaming/detail/Event
 /e_100058900/b-rgerfest-auf-nach-oberviechtach
END:VEVENT
BEGIN:VEVENT
CATEGORIES:Sonstiges
CATEGORIES:Sport/Freizeit
DESCRIPTION:Auf nach Oberviechtach! Ein Fest der Bürger für die Bürger!\n\n
 mehr Informationen unter http://pages.destination.one/de/oberpfaelzerwald/
 streaming/detail/Event/e_100058900/b-rgerfest-auf-nach-oberviechtach
DTEND;TZID=Europe/Berlin:20190714T230000
DTSTAMP:20260422T101330Z
DTSTART;TZID=Europe/Berlin:20190713T180000
GEO:49.460300;12.418821
LOCATION:Marktplatz \, Marktplatz\, Oberviechtach
ORGANIZER;CN=Stadt Oberviechtach:mailto:rathaus@oberviechtach.de
SEQUENCE:0
SUMMARY:Bürgerfest - Auf nach Oberviechtach!
UID:e_100058900_iv2
URL:http://pages.destination.one/de/oberpfaelzerwald/streaming/detail/Event
 /e_100058900/b-rgerfest-auf-nach-oberviechtach
END:VEVENT
BEGIN:VEVENT
CATEGORIES:Sonstiges
CATEGORIES:Sport/Freizeit
DESCRIPTION:Auf nach Oberviechtach! Ein Fest der Bürger für die Bürger!\n\n
 mehr Informationen unter http://pages.destination.one/de/oberpfaelzerwald/
 streaming/detail/Event/e_100058900/b-rgerfest-auf-nach-oberviechtach
DTEND;TZID=Europe/Berlin;VALUE=DATE:20190715
DTSTAMP:20260422T101330Z
DTSTART;TZID=Europe/Berlin;VALUE=DATE:20190714
GEO:49.460300;12.418821
LOCATION:Marktplatz \, Marktplatz\, Oberviechtach
ORGANIZER;CN=Stadt Oberviechtach:mailto:rathaus@oberviechtach.de
SEQUENCE:0
SUMMARY:Bürgerfest - Auf nach Oberviechtach!
UID:e_100058900_iv3
URL:http://pages.destination.one/de/oberpfaelzerwald/streaming/detail/Event
 /e_100058900/b-rgerfest-auf-nach-oberviechtach
END:VEVENT
BEGIN:VEVENT
CATEGORIES:Sonstiges
CATEGORIES:Sport/Freizeit
DESCRIPTION:Auf nach Oberviechtach! Ein Fest der Bürger für die Bürger!\n\n
 mehr Informationen unter http://pages.destination.one/de/oberpfaelzerwald/
 streaming/detail/Event/e_100058900/b-rgerfest-auf-nach-oberviechtach
DTEND;TZID=Europe/Berlin;VALUE=DATE:20220711
DTSTAMP:20260422T101330Z
DTSTART;TZID=Europe/Berlin;VALUE=DATE:20220710
GEO:49.460300;12.418821
LOCATION:Marktplatz \, Marktplatz\, Oberviechtach
ORGANIZER;CN=Stadt Oberviechtach:mailto:rathaus@oberviechtach.de
SEQUENCE:0
SUMMARY:Bürgerfest - Auf nach Oberviechtach!
UID:e_100058900_iv4
URL:http://pages.destination.one/de/oberpfaelzerwald/streaming/detail/Event
 /e_100058900/b-rgerfest-auf-nach-oberviechtach
END:VEVENT
BEGIN:VEVENT
CATEGORIES:Sonstiges
CATEGORIES:Sport/Freizeit
DESCRIPTION:Auf nach Oberviechtach! Ein Fest der Bürger für die Bürger!\n\n
 mehr Informationen unter http://pages.destination.one/de/oberpfaelzerwald/
 streaming/detail/Event/e_100058900/b-rgerfest-auf-nach-oberviechtach
DTEND;TZID=Europe/Berlin:20240713T235900
DTSTAMP:20260422T101330Z
DTSTART;TZID=Europe/Berlin:20240713T000000
GEO:49.460300;12.418821
LOCATION:Marktplatz \, Marktplatz\, Oberviechtach
ORGANIZER;CN=Stadt Oberviechtach:mailto:rathaus@oberviechtach.de
SEQUENCE:0
SUMMARY:Bürgerfest - Auf nach Oberviechtach!
UID:e_100058900_iv5
URL:http://pages.destination.one/de/oberpfaelzerwald/streaming/detail/Event
 /e_100058900/b-rgerfest-auf-nach-oberviechtach
END:VEVENT
BEGIN:VEVENT
CATEGORIES:Sonstiges
CATEGORIES:Sport/Freizeit
DESCRIPTION:Auf nach Oberviechtach! Ein Fest der Bürger für die Bürger!\n\n
 mehr Informationen unter http://pages.destination.one/de/oberpfaelzerwald/
 streaming/detail/Event/e_100058900/b-rgerfest-auf-nach-oberviechtach
DTEND;TZID=Europe/Berlin;VALUE=DATE:20240715
DTSTAMP:20260422T101330Z
DTSTART;TZID=Europe/Berlin;VALUE=DATE:20240714
GEO:49.460300;12.418821
LOCATION:Marktplatz \, Marktplatz\, Oberviechtach
ORGANIZER;CN=Stadt Oberviechtach:mailto:rathaus@oberviechtach.de
SEQUENCE:0
SUMMARY:Bürgerfest - Auf nach Oberviechtach!
UID:e_100058900_iv6
URL:http://pages.destination.one/de/oberpfaelzerwald/streaming/detail/Event
 /e_100058900/b-rgerfest-auf-nach-oberviechtach
END:VEVENT
BEGIN:VEVENT
CATEGORIES:Sonstiges
CATEGORIES:Sport/Freizeit
DESCRIPTION:Auf nach Oberviechtach! Ein Fest der Bürger für die Bürger!\n\n
 mehr Informationen unter http://pages.destination.one/de/oberpfaelzerwald/
 streaming/detail/Event/e_100058900/b-rgerfest-auf-nach-oberviechtach
DTEND;TZID=Europe/Berlin:20260711T235900
DTSTAMP:20260422T101330Z
DTSTART;TZID=Europe/Berlin:20260711T000000
GEO:49.460300;12.418821
LOCATION:Marktplatz \, Marktplatz\, Oberviechtach
ORGANIZER;CN=Stadt Oberviechtach:mailto:rathaus@oberviechtach.de
SEQUENCE:0
SUMMARY:Bürgerfest - Auf nach Oberviechtach!
UID:e_100058900_iv7
URL:http://pages.destination.one/de/oberpfaelzerwald/streaming/detail/Event
 /e_100058900/b-rgerfest-auf-nach-oberviechtach
END:VEVENT
BEGIN:VEVENT
CATEGORIES:Sonstiges
CATEGORIES:Sport/Freizeit
DESCRIPTION:Auf nach Oberviechtach! Ein Fest der Bürger für die Bürger!\n\n
 mehr Informationen unter http://pages.destination.one/de/oberpfaelzerwald/
 streaming/detail/Event/e_100058900/b-rgerfest-auf-nach-oberviechtach
DTEND;TZID=Europe/Berlin;VALUE=DATE:20260713
DTSTAMP:20260422T101330Z
DTSTART;TZID=Europe/Berlin;VALUE=DATE:20260712
GEO:49.460300;12.418821
LOCATION:Marktplatz \, Marktplatz\, Oberviechtach
ORGANIZER;CN=Stadt Oberviechtach:mailto:rathaus@oberviechtach.de
SEQUENCE:0
SUMMARY:Bürgerfest - Auf nach Oberviechtach!
UID:e_100058900_iv8
URL:http://pages.destination.one/de/oberpfaelzerwald/streaming/detail/Event
 /e_100058900/b-rgerfest-auf-nach-oberviechtach
END:VEVENT
BEGIN:VTIMEZONE
TZID:Europe/Berlin
X-LIC-LOCATION:Europe/Berlin
BEGIN:DAYLIGHT
DTSTART:19700329T020000
RRULE:FREQ=YEARLY;BYDAY=-1SU;BYMONTH=3
TZNAME:CEST
TZOFFSETFROM:+0100
TZOFFSETTO:+0200
END:DAYLIGHT
BEGIN:STANDARD
DTSTART:19701025T030000
RRULE:FREQ=YEARLY;BYDAY=-1SU;BYMONTH=10
TZNAME:CET
TZOFFSETFROM:+0200
TZOFFSETTO:+0100
END:STANDARD
END:VTIMEZONE
END:VCALENDAR
