BEGIN:VCALENDAR
VERSION:2.0
PRODID:-//destination.one//NONSGML destination.meta API//DE
X-WR-CALDESC:A calendar powered by destination.meta
X-WR-CALNAME:oberpfaelzerwald Kalender via destination.meta
BEGIN:VEVENT
CATEGORIES:Feste/Bälle/Tanz
CATEGORIES:Geselligkeit/Spiele/Treffen
CATEGORIES:Party
DESCRIPTION:\n\nmehr Informationen unter http://pages.destination.one/de/ob
 erpfaelzerwald/streaming/detail/Event/e_100067192/brunnenfest
DTEND;TZID=Europe/Berlin:20170624T230000
DTSTAMP:20260423T110706Z
DTSTART;TZID=Europe/Berlin:20170624T180000
GEO:49.891213;12.198322
LOCATION:Mehrzweckhaus Schönhaid\, Falkenberger Str. 14\, Wiesau
ORGANIZER;CN=Freiw. Feuerwehr Schönhaid/Leugas:mailto:landmaschinen.oppl@t-
 online.de
SEQUENCE:0
SUMMARY:Brunnenfest
UID:e_100067192_iv0
URL:http://pages.destination.one/de/oberpfaelzerwald/streaming/detail/Event
 /e_100067192/brunnenfest
END:VEVENT
BEGIN:VEVENT
CATEGORIES:Feste/Bälle/Tanz
CATEGORIES:Geselligkeit/Spiele/Treffen
CATEGORIES:Party
DESCRIPTION:\n\nmehr Informationen unter http://pages.destination.one/de/ob
 erpfaelzerwald/streaming/detail/Event/e_100067192/brunnenfest
DTEND;TZID=Europe/Berlin:20170625T220000
DTSTAMP:20260423T110706Z
DTSTART;TZID=Europe/Berlin:20170625T100000
GEO:49.891213;12.198322
LOCATION:Mehrzweckhaus Schönhaid\, Falkenberger Str. 14\, Wiesau
ORGANIZER;CN=Freiw. Feuerwehr Schönhaid/Leugas:mailto:landmaschinen.oppl@t-
 online.de
SEQUENCE:0
SUMMARY:Brunnenfest
UID:e_100067192_iv1
URL:http://pages.destination.one/de/oberpfaelzerwald/streaming/detail/Event
 /e_100067192/brunnenfest
END:VEVENT
BEGIN:VEVENT
CATEGORIES:Feste/Bälle/Tanz
CATEGORIES:Geselligkeit/Spiele/Treffen
CATEGORIES:Party
DESCRIPTION:\n\nmehr Informationen unter http://pages.destination.one/de/ob
 erpfaelzerwald/streaming/detail/Event/e_100067192/brunnenfest
DTEND;TZID=Europe/Berlin:20200524T234500
DTSTAMP:20260423T110706Z
DTSTART;TZID=Europe/Berlin:20200523T180000
GEO:49.891213;12.198322
LOCATION:Mehrzweckhaus Schönhaid\, Falkenberger Str. 14\, Wiesau
ORGANIZER;CN=Freiw. Feuerwehr Schönhaid/Leugas:mailto:landmaschinen.oppl@t-
 online.de
SEQUENCE:0
SUMMARY:Brunnenfest
UID:e_100067192_iv2
URL:http://pages.destination.one/de/oberpfaelzerwald/streaming/detail/Event
 /e_100067192/brunnenfest
END:VEVENT
BEGIN:VEVENT
CATEGORIES:Feste/Bälle/Tanz
CATEGORIES:Geselligkeit/Spiele/Treffen
CATEGORIES:Party
DESCRIPTION:\n\nmehr Informationen unter http://pages.destination.one/de/ob
 erpfaelzerwald/streaming/detail/Event/e_100067192/brunnenfest
DTEND;TZID=Europe/Berlin:20240518T235900
DTSTAMP:20260423T110706Z
DTSTART;TZID=Europe/Berlin:20240518T180000
GEO:49.891213;12.198322
LOCATION:Mehrzweckhaus Schönhaid\, Falkenberger Str. 14\, Wiesau
ORGANIZER;CN=Freiw. Feuerwehr Schönhaid/Leugas:mailto:landmaschinen.oppl@t-
 online.de
SEQUENCE:0
SUMMARY:Brunnenfest
UID:e_100067192_iv3
URL:http://pages.destination.one/de/oberpfaelzerwald/streaming/detail/Event
 /e_100067192/brunnenfest
END:VEVENT
BEGIN:VEVENT
CATEGORIES:Feste/Bälle/Tanz
CATEGORIES:Geselligkeit/Spiele/Treffen
CATEGORIES:Party
DESCRIPTION:\n\nmehr Informationen unter http://pages.destination.one/de/ob
 erpfaelzerwald/streaming/detail/Event/e_100067192/brunnenfest
DTEND;TZID=Europe/Berlin:20260523T235900
DTSTAMP:20260423T110706Z
DTSTART;TZID=Europe/Berlin:20260523T180000
GEO:49.891213;12.198322
LOCATION:Mehrzweckhaus Schönhaid\, Falkenberger Str. 14\, Wiesau
ORGANIZER;CN=Freiw. Feuerwehr Schönhaid/Leugas:mailto:landmaschinen.oppl@t-
 online.de
SEQUENCE:0
SUMMARY:Brunnenfest
UID:e_100067192_iv4
URL:http://pages.destination.one/de/oberpfaelzerwald/streaming/detail/Event
 /e_100067192/brunnenfest
END:VEVENT
BEGIN:VEVENT
CATEGORIES:Feste/Bälle/Tanz
CATEGORIES:Geselligkeit/Spiele/Treffen
CATEGORIES:Party
DESCRIPTION:\n\nmehr Informationen unter http://pages.destination.one/de/ob
 erpfaelzerwald/streaming/detail/Event/e_100067192/brunnenfest
DTEND;TZID=Europe/Berlin:20260524T235900
DTSTAMP:20260423T110706Z
DTSTART;TZID=Europe/Berlin:20260524T100000
GEO:49.891213;12.198322
LOCATION:Mehrzweckhaus Schönhaid\, Falkenberger Str. 14\, Wiesau
ORGANIZER;CN=Freiw. Feuerwehr Schönhaid/Leugas:mailto:landmaschinen.oppl@t-
 online.de
SEQUENCE:0
SUMMARY:Brunnenfest
UID:e_100067192_iv5
URL:http://pages.destination.one/de/oberpfaelzerwald/streaming/detail/Event
 /e_100067192/brunnenfest
END:VEVENT
BEGIN:VTIMEZONE
TZID:Europe/Berlin
X-LIC-LOCATION:Europe/Berlin
BEGIN:DAYLIGHT
DTSTART:19700329T020000
RRULE:FREQ=YEARLY;BYDAY=-1SU;BYMONTH=3
TZNAME:CEST
TZOFFSETFROM:+0100
TZOFFSETTO:+0200
END:DAYLIGHT
BEGIN:STANDARD
DTSTART:19701025T030000
RRULE:FREQ=YEARLY;BYDAY=-1SU;BYMONTH=10
TZNAME:CET
TZOFFSETFROM:+0200
TZOFFSETTO:+0100
END:STANDARD
END:VTIMEZONE
END:VCALENDAR
