BEGIN:VCALENDAR
VERSION:2.0
PRODID:-//destination.one//NONSGML destination.meta API//DE
X-WR-CALDESC:A calendar powered by destination.meta
X-WR-CALNAME:oberpfaelzerwald Kalender via destination.meta
BEGIN:VEVENT
CATEGORIES:Fasching
CATEGORIES:Sonstiges
DESCRIPTION:\n\nmehr Informationen unter http://pages.destination.one/de/ob
 erpfaelzerwald/streaming/detail/Event/e_100124507/faschingszug-gaudiwurm
DTEND;TZID=Europe/Berlin:20250301T143000
DTSTAMP:20260421T122934Z
DTSTART;TZID=Europe/Berlin:20250301T133100
GEO:49.950143;12.241645
LOCATION:Innenstadt\, \, Mitterteich
SEQUENCE:0
SUMMARY:Faschingszug - Gaudiwurm
UID:e_100124507_iv0
URL:http://pages.destination.one/de/oberpfaelzerwald/streaming/detail/Event
 /e_100124507/faschingszug-gaudiwurm
END:VEVENT
BEGIN:VEVENT
CATEGORIES:Fasching
CATEGORIES:Sonstiges
DESCRIPTION:\n\nmehr Informationen unter http://pages.destination.one/de/ob
 erpfaelzerwald/streaming/detail/Event/e_100124507/faschingszug-gaudiwurm
DTEND;TZID=Europe/Berlin:20260214T150000
DTSTAMP:20260421T122934Z
DTSTART;TZID=Europe/Berlin:20260214T133100
GEO:49.950143;12.241645
LOCATION:Innenstadt\, \, Mitterteich
SEQUENCE:0
SUMMARY:Faschingszug - Gaudiwurm
UID:e_100124507_iv1
URL:http://pages.destination.one/de/oberpfaelzerwald/streaming/detail/Event
 /e_100124507/faschingszug-gaudiwurm
END:VEVENT
BEGIN:VEVENT
CATEGORIES:Fasching
CATEGORIES:Sonstiges
DESCRIPTION:\n\nmehr Informationen unter http://pages.destination.one/de/ob
 erpfaelzerwald/streaming/detail/Event/e_100124507/faschingszug-gaudiwurm
DTEND;TZID=Europe/Berlin:20270206T143000
DTSTAMP:20260421T122934Z
DTSTART;TZID=Europe/Berlin:20270206T133100
GEO:49.950143;12.241645
LOCATION:Innenstadt\, \, Mitterteich
SEQUENCE:0
SUMMARY:Faschingszug - Gaudiwurm
UID:e_100124507_iv2
URL:http://pages.destination.one/de/oberpfaelzerwald/streaming/detail/Event
 /e_100124507/faschingszug-gaudiwurm
END:VEVENT
BEGIN:VTIMEZONE
TZID:Europe/Berlin
X-LIC-LOCATION:Europe/Berlin
BEGIN:DAYLIGHT
DTSTART:19700329T020000
RRULE:FREQ=YEARLY;BYDAY=-1SU;BYMONTH=3
TZNAME:CEST
TZOFFSETFROM:+0100
TZOFFSETTO:+0200
END:DAYLIGHT
BEGIN:STANDARD
DTSTART:19701025T030000
RRULE:FREQ=YEARLY;BYDAY=-1SU;BYMONTH=10
TZNAME:CET
TZOFFSETFROM:+0200
TZOFFSETTO:+0100
END:STANDARD
END:VTIMEZONE
END:VCALENDAR
