BEGIN:VCALENDAR
VERSION:2.0
PRODID:-//destination.one//NONSGML destination.meta API//DE
X-WR-CALDESC:A calendar powered by destination.meta
X-WR-CALNAME:oberpfaelzerwald Kalender via destination.meta
BEGIN:VEVENT
CATEGORIES:Weihnachten / Advent
DESCRIPTION:Mit buntem Programm\n\nmehr Informationen unter http://pages.de
 stination.one/de/oberpfaelzerwald/streaming/detail/Event/e_100132769/escha
 wecka-christkindlmarkt
DTEND;TZID=Europe/Berlin:20171209T220000
DTSTAMP:20260421T121202Z
DTSTART;TZID=Europe/Berlin:20171209T150000
GEO:49.801987;12.158389
LOCATION:Pfarrhof Windischeschenbach\, Pfarrplatz 4\, Windischeschenbach
ORGANIZER;CN=Stadt Windischeschenbach:mailto:tourismus@windischeschenbach.d
 e
SEQUENCE:0
SUMMARY:Eschawecka Christkindlmarkt
UID:e_100132769_iv0
URL:http://pages.destination.one/de/oberpfaelzerwald/streaming/detail/Event
 /e_100132769/eschawecka-christkindlmarkt
END:VEVENT
BEGIN:VEVENT
CATEGORIES:Weihnachten / Advent
DESCRIPTION:Mit buntem Programm\n\nmehr Informationen unter http://pages.de
 stination.one/de/oberpfaelzerwald/streaming/detail/Event/e_100132769/escha
 wecka-christkindlmarkt
DTEND;TZID=Europe/Berlin:20181208T235900
DTSTAMP:20260421T121202Z
DTSTART;TZID=Europe/Berlin:20181208T150000
GEO:49.801987;12.158389
LOCATION:Pfarrhof Windischeschenbach\, Pfarrplatz 4\, Windischeschenbach
ORGANIZER;CN=Stadt Windischeschenbach:mailto:tourismus@windischeschenbach.d
 e
SEQUENCE:0
SUMMARY:Eschawecka Christkindlmarkt
UID:e_100132769_iv1
URL:http://pages.destination.one/de/oberpfaelzerwald/streaming/detail/Event
 /e_100132769/eschawecka-christkindlmarkt
END:VEVENT
BEGIN:VEVENT
CATEGORIES:Weihnachten / Advent
DESCRIPTION:Mit buntem Programm\n\nmehr Informationen unter http://pages.de
 stination.one/de/oberpfaelzerwald/streaming/detail/Event/e_100132769/escha
 wecka-christkindlmarkt
DTEND;TZID=Europe/Berlin:20191207T235900
DTSTAMP:20260421T121202Z
DTSTART;TZID=Europe/Berlin:20191207T150000
GEO:49.801987;12.158389
LOCATION:Pfarrhof Windischeschenbach\, Pfarrplatz 4\, Windischeschenbach
ORGANIZER;CN=Stadt Windischeschenbach:mailto:tourismus@windischeschenbach.d
 e
SEQUENCE:0
SUMMARY:Eschawecka Christkindlmarkt
UID:e_100132769_iv2
URL:http://pages.destination.one/de/oberpfaelzerwald/streaming/detail/Event
 /e_100132769/eschawecka-christkindlmarkt
END:VEVENT
BEGIN:VEVENT
CATEGORIES:Weihnachten / Advent
DESCRIPTION:Mit buntem Programm\n\nmehr Informationen unter http://pages.de
 stination.one/de/oberpfaelzerwald/streaming/detail/Event/e_100132769/escha
 wecka-christkindlmarkt
DTEND;TZID=Europe/Berlin:20211204T235900
DTSTAMP:20260421T121202Z
DTSTART;TZID=Europe/Berlin:20211204T150000
GEO:49.801987;12.158389
LOCATION:Pfarrhof Windischeschenbach\, Pfarrplatz 4\, Windischeschenbach
ORGANIZER;CN=Stadt Windischeschenbach:mailto:tourismus@windischeschenbach.d
 e
SEQUENCE:0
SUMMARY:Eschawecka Christkindlmarkt
UID:e_100132769_iv3
URL:http://pages.destination.one/de/oberpfaelzerwald/streaming/detail/Event
 /e_100132769/eschawecka-christkindlmarkt
END:VEVENT
BEGIN:VEVENT
CATEGORIES:Weihnachten / Advent
DESCRIPTION:Mit buntem Programm\n\nmehr Informationen unter http://pages.de
 stination.one/de/oberpfaelzerwald/streaming/detail/Event/e_100132769/escha
 wecka-christkindlmarkt
DTEND;TZID=Europe/Berlin:20221203T235900
DTSTAMP:20260421T121202Z
DTSTART;TZID=Europe/Berlin:20221203T150000
GEO:49.801987;12.158389
LOCATION:Pfarrhof Windischeschenbach\, Pfarrplatz 4\, Windischeschenbach
ORGANIZER;CN=Stadt Windischeschenbach:mailto:tourismus@windischeschenbach.d
 e
SEQUENCE:0
SUMMARY:Eschawecka Christkindlmarkt
UID:e_100132769_iv4
URL:http://pages.destination.one/de/oberpfaelzerwald/streaming/detail/Event
 /e_100132769/eschawecka-christkindlmarkt
END:VEVENT
BEGIN:VEVENT
CATEGORIES:Weihnachten / Advent
DESCRIPTION:Mit buntem Programm\n\nmehr Informationen unter http://pages.de
 stination.one/de/oberpfaelzerwald/streaming/detail/Event/e_100132769/escha
 wecka-christkindlmarkt
DTEND;TZID=Europe/Berlin:20231209T235900
DTSTAMP:20260421T121202Z
DTSTART;TZID=Europe/Berlin:20231209T150000
GEO:49.801987;12.158389
LOCATION:Pfarrhof Windischeschenbach\, Pfarrplatz 4\, Windischeschenbach
ORGANIZER;CN=Stadt Windischeschenbach:mailto:tourismus@windischeschenbach.d
 e
SEQUENCE:0
SUMMARY:Eschawecka Christkindlmarkt
UID:e_100132769_iv5
URL:http://pages.destination.one/de/oberpfaelzerwald/streaming/detail/Event
 /e_100132769/eschawecka-christkindlmarkt
END:VEVENT
BEGIN:VEVENT
CATEGORIES:Weihnachten / Advent
DESCRIPTION:Mit buntem Programm\n\nmehr Informationen unter http://pages.de
 stination.one/de/oberpfaelzerwald/streaming/detail/Event/e_100132769/escha
 wecka-christkindlmarkt
DTEND;TZID=Europe/Berlin:20241207T235900
DTSTAMP:20260421T121202Z
DTSTART;TZID=Europe/Berlin:20241207T150000
GEO:49.801987;12.158389
LOCATION:Pfarrhof Windischeschenbach\, Pfarrplatz 4\, Windischeschenbach
ORGANIZER;CN=Stadt Windischeschenbach:mailto:tourismus@windischeschenbach.d
 e
SEQUENCE:0
SUMMARY:Eschawecka Christkindlmarkt
UID:e_100132769_iv6
URL:http://pages.destination.one/de/oberpfaelzerwald/streaming/detail/Event
 /e_100132769/eschawecka-christkindlmarkt
END:VEVENT
BEGIN:VEVENT
CATEGORIES:Weihnachten / Advent
DESCRIPTION:Mit buntem Programm\n\nmehr Informationen unter http://pages.de
 stination.one/de/oberpfaelzerwald/streaming/detail/Event/e_100132769/escha
 wecka-christkindlmarkt
DTEND;TZID=Europe/Berlin:20251206T235900
DTSTAMP:20260421T121202Z
DTSTART;TZID=Europe/Berlin:20251206T150000
GEO:49.801987;12.158389
LOCATION:Pfarrhof Windischeschenbach\, Pfarrplatz 4\, Windischeschenbach
ORGANIZER;CN=Stadt Windischeschenbach:mailto:tourismus@windischeschenbach.d
 e
SEQUENCE:0
SUMMARY:Eschawecka Christkindlmarkt
UID:e_100132769_iv7
URL:http://pages.destination.one/de/oberpfaelzerwald/streaming/detail/Event
 /e_100132769/eschawecka-christkindlmarkt
END:VEVENT
BEGIN:VEVENT
CATEGORIES:Weihnachten / Advent
DESCRIPTION:Mit buntem Programm\n\nmehr Informationen unter http://pages.de
 stination.one/de/oberpfaelzerwald/streaming/detail/Event/e_100132769/escha
 wecka-christkindlmarkt
DTEND;TZID=Europe/Berlin:20261205T235900
DTSTAMP:20260421T121202Z
DTSTART;TZID=Europe/Berlin:20261205T150000
GEO:49.801987;12.158389
LOCATION:Pfarrhof Windischeschenbach\, Pfarrplatz 4\, Windischeschenbach
ORGANIZER;CN=Stadt Windischeschenbach:mailto:tourismus@windischeschenbach.d
 e
SEQUENCE:0
SUMMARY:Eschawecka Christkindlmarkt
UID:e_100132769_iv8
URL:http://pages.destination.one/de/oberpfaelzerwald/streaming/detail/Event
 /e_100132769/eschawecka-christkindlmarkt
END:VEVENT
BEGIN:VTIMEZONE
TZID:Europe/Berlin
X-LIC-LOCATION:Europe/Berlin
BEGIN:DAYLIGHT
DTSTART:19700329T020000
RRULE:FREQ=YEARLY;BYDAY=-1SU;BYMONTH=3
TZNAME:CEST
TZOFFSETFROM:+0100
TZOFFSETTO:+0200
END:DAYLIGHT
BEGIN:STANDARD
DTSTART:19701025T030000
RRULE:FREQ=YEARLY;BYDAY=-1SU;BYMONTH=10
TZNAME:CET
TZOFFSETFROM:+0200
TZOFFSETTO:+0100
END:STANDARD
END:VTIMEZONE
END:VCALENDAR
