BEGIN:VCALENDAR
VERSION:2.0
PRODID:-//destination.one//NONSGML destination.meta API//DE
X-WR-CALDESC:A calendar powered by destination.meta
X-WR-CALNAME:oberpfaelzerwald Kalender via destination.meta
BEGIN:VEVENT
CATEGORIES:Geselligkeit/Spiele/Treffen
CATEGORIES:Volks- und Straßenfeste
CATEGORIES:Gastronomie
CATEGORIES:Kinderprogramm
DESCRIPTION:Traditionelles Kinderfest am Spielplatz Feistelholz\n\nmehr Inf
 ormationen unter http://pages.destination.one/de/oberpfaelzerwald/streamin
 g/detail/Event/e_100210274/spielplatzfest-feistelholz
DTEND;TZID=Europe/Berlin:20190415T220000
DTSTAMP:20260421T121201Z
DTSTART;TZID=Europe/Berlin:20190415T100000
GEO:49.544760;12.135000
LOCATION:Spielplatz Feistelholz\, Jägerstraße\, Wernberg-Köblitz
RRULE:FREQ=YEARLY;BYMONTH=8;BYMONTHDAY=15
SEQUENCE:0
SUMMARY:Spielplatzfest Feistelholz
UID:e_100210274_iv0
URL:http://pages.destination.one/de/oberpfaelzerwald/streaming/detail/Event
 /e_100210274/spielplatzfest-feistelholz
END:VEVENT
BEGIN:VTIMEZONE
TZID:Europe/Berlin
X-LIC-LOCATION:Europe/Berlin
BEGIN:DAYLIGHT
DTSTART:19700329T020000
RRULE:FREQ=YEARLY;BYDAY=-1SU;BYMONTH=3
TZNAME:CEST
TZOFFSETFROM:+0100
TZOFFSETTO:+0200
END:DAYLIGHT
BEGIN:STANDARD
DTSTART:19701025T030000
RRULE:FREQ=YEARLY;BYDAY=-1SU;BYMONTH=10
TZNAME:CET
TZOFFSETFROM:+0200
TZOFFSETTO:+0100
END:STANDARD
END:VTIMEZONE
END:VCALENDAR
