BEGIN:VCALENDAR
VERSION:2.0
PRODID:-//destination.one//NONSGML destination.meta API//DE
X-WR-CALDESC:A calendar powered by destination.meta
X-WR-CALNAME:oberpfaelzerwald Kalender via destination.meta
BEGIN:VEVENT
CATEGORIES:Ausstellung
CATEGORIES:Brauchtum/Kultur
DESCRIPTION:\n\nmehr Informationen unter http://pages.destination.one/de/ob
 erpfaelzerwald/streaming/detail/Event/e_100217136/sengerhof-ge-ffnet
DTEND;TZID=Europe/Berlin:20190531T160000
DTSTAMP:20260421T101744Z
DTSTART;TZID=Europe/Berlin:20190531T140000
GEO:49.980192;12.443161
LOCATION:Sengerhof\, Turmstraße 5 - 7\, Bad Neualbenreuth
RRULE:FREQ=WEEKLY;UNTIL=20190607T140000;BYDAY=FR,SA
SEQUENCE:0
SUMMARY:Sengerhof geöffnet
UID:e_100217136_iv0
URL:http://pages.destination.one/de/oberpfaelzerwald/streaming/detail/Event
 /e_100217136/sengerhof-ge-ffnet
END:VEVENT
BEGIN:VEVENT
CATEGORIES:Ausstellung
CATEGORIES:Brauchtum/Kultur
DESCRIPTION:\n\nmehr Informationen unter http://pages.destination.one/de/ob
 erpfaelzerwald/streaming/detail/Event/e_100217136/sengerhof-ge-ffnet
DTEND;TZID=Europe/Berlin:20190614T160000
DTSTAMP:20260421T101744Z
DTSTART;TZID=Europe/Berlin:20190614T140000
GEO:49.980192;12.443161
LOCATION:Sengerhof\, Turmstraße 5 - 7\, Bad Neualbenreuth
RRULE:FREQ=WEEKLY;UNTIL=20190621T140000;BYDAY=FR,SA
SEQUENCE:0
SUMMARY:Sengerhof geöffnet
UID:e_100217136_iv1
URL:http://pages.destination.one/de/oberpfaelzerwald/streaming/detail/Event
 /e_100217136/sengerhof-ge-ffnet
END:VEVENT
BEGIN:VEVENT
CATEGORIES:Ausstellung
CATEGORIES:Brauchtum/Kultur
DESCRIPTION:\n\nmehr Informationen unter http://pages.destination.one/de/ob
 erpfaelzerwald/streaming/detail/Event/e_100217136/sengerhof-ge-ffnet
DTEND;TZID=Europe/Berlin:20190628T160000
DTSTAMP:20260421T101744Z
DTSTART;TZID=Europe/Berlin:20190628T140000
GEO:49.980192;12.443161
LOCATION:Sengerhof\, Turmstraße 5 - 7\, Bad Neualbenreuth
RRULE:FREQ=WEEKLY;UNTIL=20190726T140000;BYDAY=FR,SA
SEQUENCE:0
SUMMARY:Sengerhof geöffnet
UID:e_100217136_iv2
URL:http://pages.destination.one/de/oberpfaelzerwald/streaming/detail/Event
 /e_100217136/sengerhof-ge-ffnet
END:VEVENT
BEGIN:VEVENT
CATEGORIES:Ausstellung
CATEGORIES:Brauchtum/Kultur
DESCRIPTION:\n\nmehr Informationen unter http://pages.destination.one/de/ob
 erpfaelzerwald/streaming/detail/Event/e_100217136/sengerhof-ge-ffnet
DTEND;TZID=Europe/Berlin:20190802T160000
DTSTAMP:20260421T101744Z
DTSTART;TZID=Europe/Berlin:20190802T140000
GEO:49.980192;12.443161
LOCATION:Sengerhof\, Turmstraße 5 - 7\, Bad Neualbenreuth
RRULE:FREQ=WEEKLY;UNTIL=20191027T130000;BYDAY=FR,SA
SEQUENCE:0
SUMMARY:Sengerhof geöffnet
UID:e_100217136_iv3
URL:http://pages.destination.one/de/oberpfaelzerwald/streaming/detail/Event
 /e_100217136/sengerhof-ge-ffnet
END:VEVENT
BEGIN:VEVENT
CATEGORIES:Ausstellung
CATEGORIES:Brauchtum/Kultur
DESCRIPTION:\n\nmehr Informationen unter http://pages.destination.one/de/ob
 erpfaelzerwald/streaming/detail/Event/e_100217136/sengerhof-ge-ffnet
DTEND;TZID=Europe/Berlin:20200720T160000
DTSTAMP:20260421T101744Z
DTSTART;TZID=Europe/Berlin:20200720T140000
GEO:49.980192;12.443161
LOCATION:Sengerhof\, Turmstraße 5 - 7\, Bad Neualbenreuth
RRULE:FREQ=WEEKLY;UNTIL=20200723T140000;BYDAY=MO,FR
SEQUENCE:0
SUMMARY:Sengerhof geöffnet
UID:e_100217136_iv4
URL:http://pages.destination.one/de/oberpfaelzerwald/streaming/detail/Event
 /e_100217136/sengerhof-ge-ffnet
END:VEVENT
BEGIN:VEVENT
CATEGORIES:Ausstellung
CATEGORIES:Brauchtum/Kultur
DESCRIPTION:\n\nmehr Informationen unter http://pages.destination.one/de/ob
 erpfaelzerwald/streaming/detail/Event/e_100217136/sengerhof-ge-ffnet
DTEND;TZID=Europe/Berlin:20200727T160000
DTSTAMP:20260421T101744Z
DTSTART;TZID=Europe/Berlin:20200727T140000
GEO:49.980192;12.443161
LOCATION:Sengerhof\, Turmstraße 5 - 7\, Bad Neualbenreuth
RRULE:FREQ=WEEKLY;UNTIL=20200813T140000;BYDAY=MO,FR
SEQUENCE:0
SUMMARY:Sengerhof geöffnet
UID:e_100217136_iv5
URL:http://pages.destination.one/de/oberpfaelzerwald/streaming/detail/Event
 /e_100217136/sengerhof-ge-ffnet
END:VEVENT
BEGIN:VEVENT
CATEGORIES:Ausstellung
CATEGORIES:Brauchtum/Kultur
DESCRIPTION:\n\nmehr Informationen unter http://pages.destination.one/de/ob
 erpfaelzerwald/streaming/detail/Event/e_100217136/sengerhof-ge-ffnet
DTEND;TZID=Europe/Berlin:20200817T160000
DTSTAMP:20260421T101744Z
DTSTART;TZID=Europe/Berlin:20200817T140000
GEO:49.980192;12.443161
LOCATION:Sengerhof\, Turmstraße 5 - 7\, Bad Neualbenreuth
RRULE:FREQ=WEEKLY;UNTIL=20200910T140000;BYDAY=MO,FR
SEQUENCE:0
SUMMARY:Sengerhof geöffnet
UID:e_100217136_iv6
URL:http://pages.destination.one/de/oberpfaelzerwald/streaming/detail/Event
 /e_100217136/sengerhof-ge-ffnet
END:VEVENT
BEGIN:VEVENT
CATEGORIES:Ausstellung
CATEGORIES:Brauchtum/Kultur
DESCRIPTION:\n\nmehr Informationen unter http://pages.destination.one/de/ob
 erpfaelzerwald/streaming/detail/Event/e_100217136/sengerhof-ge-ffnet
DTEND;TZID=Europe/Berlin:20200914T160000
DTSTAMP:20260421T101744Z
DTSTART;TZID=Europe/Berlin:20200914T140000
GEO:49.980192;12.443161
LOCATION:Sengerhof\, Turmstraße 5 - 7\, Bad Neualbenreuth
RRULE:FREQ=WEEKLY;UNTIL=20201023T120000;BYDAY=MO,FR
SEQUENCE:0
SUMMARY:Sengerhof geöffnet
UID:e_100217136_iv7
URL:http://pages.destination.one/de/oberpfaelzerwald/streaming/detail/Event
 /e_100217136/sengerhof-ge-ffnet
END:VEVENT
BEGIN:VEVENT
CATEGORIES:Ausstellung
CATEGORIES:Brauchtum/Kultur
DESCRIPTION:\n\nmehr Informationen unter http://pages.destination.one/de/ob
 erpfaelzerwald/streaming/detail/Event/e_100217136/sengerhof-ge-ffnet
DTEND;TZID=Europe/Berlin:20210604T160000
DTSTAMP:20260421T101744Z
DTSTART;TZID=Europe/Berlin:20210604T140000
GEO:49.980192;12.443161
LOCATION:Sengerhof\, Turmstraße 5 - 7\, Bad Neualbenreuth
RRULE:FREQ=WEEKLY;UNTIL=20211031T130000;BYDAY=MO,FR
SEQUENCE:0
SUMMARY:Sengerhof geöffnet
UID:e_100217136_iv8
URL:http://pages.destination.one/de/oberpfaelzerwald/streaming/detail/Event
 /e_100217136/sengerhof-ge-ffnet
END:VEVENT
BEGIN:VEVENT
CATEGORIES:Ausstellung
CATEGORIES:Brauchtum/Kultur
DESCRIPTION:\n\nmehr Informationen unter http://pages.destination.one/de/ob
 erpfaelzerwald/streaming/detail/Event/e_100217136/sengerhof-ge-ffnet
DTEND;TZID=Europe/Berlin:20220422T160000
DTSTAMP:20260421T101744Z
DTSTART;TZID=Europe/Berlin:20220422T140000
GEO:49.980192;12.443161
LOCATION:Sengerhof\, Turmstraße 5 - 7\, Bad Neualbenreuth
RRULE:FREQ=WEEKLY;UNTIL=20220605T140000;BYDAY=MO,FR
SEQUENCE:0
SUMMARY:Sengerhof geöffnet
UID:e_100217136_iv9
URL:http://pages.destination.one/de/oberpfaelzerwald/streaming/detail/Event
 /e_100217136/sengerhof-ge-ffnet
END:VEVENT
BEGIN:VEVENT
CATEGORIES:Ausstellung
CATEGORIES:Brauchtum/Kultur
DESCRIPTION:\n\nmehr Informationen unter http://pages.destination.one/de/ob
 erpfaelzerwald/streaming/detail/Event/e_100217136/sengerhof-ge-ffnet
DTEND;TZID=Europe/Berlin:20220607T160000
DTSTAMP:20260421T101744Z
DTSTART;TZID=Europe/Berlin:20220607T140000
GEO:49.980192;12.443161
LOCATION:Sengerhof\, Turmstraße 5 - 7\, Bad Neualbenreuth
RRULE:FREQ=WEEKLY;UNTIL=20220814T140000;BYDAY=MO,FR
SEQUENCE:0
SUMMARY:Sengerhof geöffnet
UID:e_100217136_iv10
URL:http://pages.destination.one/de/oberpfaelzerwald/streaming/detail/Event
 /e_100217136/sengerhof-ge-ffnet
END:VEVENT
BEGIN:VEVENT
CATEGORIES:Ausstellung
CATEGORIES:Brauchtum/Kultur
DESCRIPTION:\n\nmehr Informationen unter http://pages.destination.one/de/ob
 erpfaelzerwald/streaming/detail/Event/e_100217136/sengerhof-ge-ffnet
DTEND;TZID=Europe/Berlin:20220816T160000
DTSTAMP:20260421T101744Z
DTSTART;TZID=Europe/Berlin:20220816T140000
GEO:49.980192;12.443161
LOCATION:Sengerhof\, Turmstraße 5 - 7\, Bad Neualbenreuth
RRULE:FREQ=WEEKLY;UNTIL=20221002T140000;BYDAY=MO,FR
SEQUENCE:0
SUMMARY:Sengerhof geöffnet
UID:e_100217136_iv11
URL:http://pages.destination.one/de/oberpfaelzerwald/streaming/detail/Event
 /e_100217136/sengerhof-ge-ffnet
END:VEVENT
BEGIN:VEVENT
CATEGORIES:Ausstellung
CATEGORIES:Brauchtum/Kultur
DESCRIPTION:\n\nmehr Informationen unter http://pages.destination.one/de/ob
 erpfaelzerwald/streaming/detail/Event/e_100217136/sengerhof-ge-ffnet
DTEND;TZID=Europe/Berlin:20221004T160000
DTSTAMP:20260421T101744Z
DTSTART;TZID=Europe/Berlin:20221004T140000
GEO:49.980192;12.443161
LOCATION:Sengerhof\, Turmstraße 5 - 7\, Bad Neualbenreuth
RRULE:FREQ=WEEKLY;UNTIL=20221028T120000;BYDAY=MO,FR
SEQUENCE:0
SUMMARY:Sengerhof geöffnet
UID:e_100217136_iv12
URL:http://pages.destination.one/de/oberpfaelzerwald/streaming/detail/Event
 /e_100217136/sengerhof-ge-ffnet
END:VEVENT
BEGIN:VEVENT
CATEGORIES:Ausstellung
CATEGORIES:Brauchtum/Kultur
DESCRIPTION:\n\nmehr Informationen unter http://pages.destination.one/de/ob
 erpfaelzerwald/streaming/detail/Event/e_100217136/sengerhof-ge-ffnet
DTEND;TZID=Europe/Berlin:20230414T160000
DTSTAMP:20260421T101744Z
DTSTART;TZID=Europe/Berlin:20230414T140000
GEO:49.980192;12.443161
LOCATION:Sengerhof\, Turmstraße 5 - 7\, Bad Neualbenreuth
RRULE:FREQ=WEEKLY;UNTIL=20230430T140000;BYDAY=MO,FR
SEQUENCE:0
SUMMARY:Sengerhof geöffnet
UID:e_100217136_iv13
URL:http://pages.destination.one/de/oberpfaelzerwald/streaming/detail/Event
 /e_100217136/sengerhof-ge-ffnet
END:VEVENT
BEGIN:VEVENT
CATEGORIES:Ausstellung
CATEGORIES:Brauchtum/Kultur
DESCRIPTION:\n\nmehr Informationen unter http://pages.destination.one/de/ob
 erpfaelzerwald/streaming/detail/Event/e_100217136/sengerhof-ge-ffnet
DTEND;TZID=Europe/Berlin:20230502T160000
DTSTAMP:20260421T101744Z
DTSTART;TZID=Europe/Berlin:20230502T140000
GEO:49.980192;12.443161
LOCATION:Sengerhof\, Turmstraße 5 - 7\, Bad Neualbenreuth
RRULE:FREQ=WEEKLY;UNTIL=20230528T140000;BYDAY=MO,FR
SEQUENCE:0
SUMMARY:Sengerhof geöffnet
UID:e_100217136_iv14
URL:http://pages.destination.one/de/oberpfaelzerwald/streaming/detail/Event
 /e_100217136/sengerhof-ge-ffnet
END:VEVENT
BEGIN:VEVENT
CATEGORIES:Ausstellung
CATEGORIES:Brauchtum/Kultur
DESCRIPTION:\n\nmehr Informationen unter http://pages.destination.one/de/ob
 erpfaelzerwald/streaming/detail/Event/e_100217136/sengerhof-ge-ffnet
DTEND;TZID=Europe/Berlin:20230530T160000
DTSTAMP:20260421T101744Z
DTSTART;TZID=Europe/Berlin:20230530T140000
GEO:49.980192;12.443161
LOCATION:Sengerhof\, Turmstraße 5 - 7\, Bad Neualbenreuth
RRULE:FREQ=WEEKLY;UNTIL=20231031T150000;BYDAY=MO,FR
SEQUENCE:0
SUMMARY:Sengerhof geöffnet
UID:e_100217136_iv15
URL:http://pages.destination.one/de/oberpfaelzerwald/streaming/detail/Event
 /e_100217136/sengerhof-ge-ffnet
END:VEVENT
BEGIN:VEVENT
CATEGORIES:Ausstellung
CATEGORIES:Brauchtum/Kultur
DESCRIPTION:\n\nmehr Informationen unter http://pages.destination.one/de/ob
 erpfaelzerwald/streaming/detail/Event/e_100217136/sengerhof-ge-ffnet
DTEND;TZID=Europe/Berlin:20240412T160000
DTSTAMP:20260421T101744Z
DTSTART;TZID=Europe/Berlin:20240412T140000
GEO:49.980192;12.443161
LOCATION:Sengerhof\, Turmstraße 5 - 7\, Bad Neualbenreuth
RRULE:FREQ=WEEKLY;UNTIL=20240421T140000;BYDAY=MO,FR
SEQUENCE:0
SUMMARY:Sengerhof geöffnet
UID:e_100217136_iv16
URL:http://pages.destination.one/de/oberpfaelzerwald/streaming/detail/Event
 /e_100217136/sengerhof-ge-ffnet
END:VEVENT
BEGIN:VEVENT
CATEGORIES:Ausstellung
CATEGORIES:Brauchtum/Kultur
DESCRIPTION:\n\nmehr Informationen unter http://pages.destination.one/de/ob
 erpfaelzerwald/streaming/detail/Event/e_100217136/sengerhof-ge-ffnet
DTEND;TZID=Europe/Berlin:20240423T160000
DTSTAMP:20260421T101744Z
DTSTART;TZID=Europe/Berlin:20240423T140000
GEO:49.980192;12.443161
LOCATION:Sengerhof\, Turmstraße 5 - 7\, Bad Neualbenreuth
RRULE:FREQ=WEEKLY;UNTIL=20240512T140000;BYDAY=MO,FR
SEQUENCE:0
SUMMARY:Sengerhof geöffnet
UID:e_100217136_iv17
URL:http://pages.destination.one/de/oberpfaelzerwald/streaming/detail/Event
 /e_100217136/sengerhof-ge-ffnet
END:VEVENT
BEGIN:VEVENT
CATEGORIES:Ausstellung
CATEGORIES:Brauchtum/Kultur
DESCRIPTION:\n\nmehr Informationen unter http://pages.destination.one/de/ob
 erpfaelzerwald/streaming/detail/Event/e_100217136/sengerhof-ge-ffnet
DTEND;TZID=Europe/Berlin:20240514T160000
DTSTAMP:20260421T101744Z
DTSTART;TZID=Europe/Berlin:20240514T140000
GEO:49.980192;12.443161
LOCATION:Sengerhof\, Turmstraße 5 - 7\, Bad Neualbenreuth
RRULE:FREQ=WEEKLY;UNTIL=20241001T120000;BYDAY=MO,FR
SEQUENCE:0
SUMMARY:Sengerhof geöffnet
UID:e_100217136_iv18
URL:http://pages.destination.one/de/oberpfaelzerwald/streaming/detail/Event
 /e_100217136/sengerhof-ge-ffnet
END:VEVENT
BEGIN:VEVENT
CATEGORIES:Ausstellung
CATEGORIES:Brauchtum/Kultur
DESCRIPTION:\n\nmehr Informationen unter http://pages.destination.one/de/ob
 erpfaelzerwald/streaming/detail/Event/e_100217136/sengerhof-ge-ffnet
DTEND;TZID=Europe/Berlin:20241004T160000
DTSTAMP:20260421T101744Z
DTSTART;TZID=Europe/Berlin:20241004T140000
GEO:49.980192;12.443161
LOCATION:Sengerhof\, Turmstraße 5 - 7\, Bad Neualbenreuth
RRULE:FREQ=WEEKLY;UNTIL=20241031T150000;BYDAY=MO,FR
SEQUENCE:0
SUMMARY:Sengerhof geöffnet
UID:e_100217136_iv19
URL:http://pages.destination.one/de/oberpfaelzerwald/streaming/detail/Event
 /e_100217136/sengerhof-ge-ffnet
END:VEVENT
BEGIN:VEVENT
CATEGORIES:Ausstellung
CATEGORIES:Brauchtum/Kultur
DESCRIPTION:\n\nmehr Informationen unter http://pages.destination.one/de/ob
 erpfaelzerwald/streaming/detail/Event/e_100217136/sengerhof-ge-ffnet
DTEND;TZID=Europe/Berlin:20250425T160000
DTSTAMP:20260421T101744Z
DTSTART;TZID=Europe/Berlin:20250425T140000
GEO:49.980192;12.443161
LOCATION:Sengerhof\, Turmstraße 5 - 7\, Bad Neualbenreuth
RRULE:FREQ=WEEKLY;UNTIL=20250608T140000;BYDAY=MO,FR
SEQUENCE:0
SUMMARY:Sengerhof geöffnet
UID:e_100217136_iv20
URL:http://pages.destination.one/de/oberpfaelzerwald/streaming/detail/Event
 /e_100217136/sengerhof-ge-ffnet
END:VEVENT
BEGIN:VEVENT
CATEGORIES:Ausstellung
CATEGORIES:Brauchtum/Kultur
DESCRIPTION:\n\nmehr Informationen unter http://pages.destination.one/de/ob
 erpfaelzerwald/streaming/detail/Event/e_100217136/sengerhof-ge-ffnet
DTEND;TZID=Europe/Berlin:20250610T160000
DTSTAMP:20260421T101744Z
DTSTART;TZID=Europe/Berlin:20250610T140000
GEO:49.980192;12.443161
LOCATION:Sengerhof\, Turmstraße 5 - 7\, Bad Neualbenreuth
RRULE:FREQ=WEEKLY;UNTIL=20251001T120000;BYDAY=MO,FR
SEQUENCE:0
SUMMARY:Sengerhof geöffnet
UID:e_100217136_iv21
URL:http://pages.destination.one/de/oberpfaelzerwald/streaming/detail/Event
 /e_100217136/sengerhof-ge-ffnet
END:VEVENT
BEGIN:VEVENT
CATEGORIES:Ausstellung
CATEGORIES:Brauchtum/Kultur
DESCRIPTION:\n\nmehr Informationen unter http://pages.destination.one/de/ob
 erpfaelzerwald/streaming/detail/Event/e_100217136/sengerhof-ge-ffnet
DTEND;TZID=Europe/Berlin:20251017T160000
DTSTAMP:20260421T101744Z
DTSTART;TZID=Europe/Berlin:20251017T140000
GEO:49.980192;12.443161
LOCATION:Sengerhof\, Turmstraße 5 - 7\, Bad Neualbenreuth
SEQUENCE:0
SUMMARY:Sengerhof geöffnet
UID:e_100217136_iv22
URL:http://pages.destination.one/de/oberpfaelzerwald/streaming/detail/Event
 /e_100217136/sengerhof-ge-ffnet
END:VEVENT
BEGIN:VEVENT
CATEGORIES:Ausstellung
CATEGORIES:Brauchtum/Kultur
DESCRIPTION:\n\nmehr Informationen unter http://pages.destination.one/de/ob
 erpfaelzerwald/streaming/detail/Event/e_100217136/sengerhof-ge-ffnet
DTEND;TZID=Europe/Berlin:20251020T160000
DTSTAMP:20260421T101744Z
DTSTART;TZID=Europe/Berlin:20251020T140000
GEO:49.980192;12.443161
LOCATION:Sengerhof\, Turmstraße 5 - 7\, Bad Neualbenreuth
SEQUENCE:0
SUMMARY:Sengerhof geöffnet
UID:e_100217136_iv23
URL:http://pages.destination.one/de/oberpfaelzerwald/streaming/detail/Event
 /e_100217136/sengerhof-ge-ffnet
END:VEVENT
BEGIN:VEVENT
CATEGORIES:Ausstellung
CATEGORIES:Brauchtum/Kultur
DESCRIPTION:\n\nmehr Informationen unter http://pages.destination.one/de/ob
 erpfaelzerwald/streaming/detail/Event/e_100217136/sengerhof-ge-ffnet
DTEND;TZID=Europe/Berlin:20251024T160000
DTSTAMP:20260421T101744Z
DTSTART;TZID=Europe/Berlin:20251024T140000
GEO:49.980192;12.443161
LOCATION:Sengerhof\, Turmstraße 5 - 7\, Bad Neualbenreuth
SEQUENCE:0
SUMMARY:Sengerhof geöffnet
UID:e_100217136_iv24
URL:http://pages.destination.one/de/oberpfaelzerwald/streaming/detail/Event
 /e_100217136/sengerhof-ge-ffnet
END:VEVENT
BEGIN:VEVENT
CATEGORIES:Ausstellung
CATEGORIES:Brauchtum/Kultur
DESCRIPTION:\n\nmehr Informationen unter http://pages.destination.one/de/ob
 erpfaelzerwald/streaming/detail/Event/e_100217136/sengerhof-ge-ffnet
DTEND;TZID=Europe/Berlin:20251027T160000
DTSTAMP:20260421T101744Z
DTSTART;TZID=Europe/Berlin:20251027T140000
GEO:49.980192;12.443161
LOCATION:Sengerhof\, Turmstraße 5 - 7\, Bad Neualbenreuth
SEQUENCE:0
SUMMARY:Sengerhof geöffnet
UID:e_100217136_iv25
URL:http://pages.destination.one/de/oberpfaelzerwald/streaming/detail/Event
 /e_100217136/sengerhof-ge-ffnet
END:VEVENT
BEGIN:VEVENT
CATEGORIES:Ausstellung
CATEGORIES:Brauchtum/Kultur
DESCRIPTION:\n\nmehr Informationen unter http://pages.destination.one/de/ob
 erpfaelzerwald/streaming/detail/Event/e_100217136/sengerhof-ge-ffnet
DTEND;TZID=Europe/Berlin:20251031T160000
DTSTAMP:20260421T101744Z
DTSTART;TZID=Europe/Berlin:20251031T140000
GEO:49.980192;12.443161
LOCATION:Sengerhof\, Turmstraße 5 - 7\, Bad Neualbenreuth
SEQUENCE:0
SUMMARY:Sengerhof geöffnet
UID:e_100217136_iv26
URL:http://pages.destination.one/de/oberpfaelzerwald/streaming/detail/Event
 /e_100217136/sengerhof-ge-ffnet
END:VEVENT
BEGIN:VEVENT
CATEGORIES:Ausstellung
CATEGORIES:Brauchtum/Kultur
DESCRIPTION:\n\nmehr Informationen unter http://pages.destination.one/de/ob
 erpfaelzerwald/streaming/detail/Event/e_100217136/sengerhof-ge-ffnet
DTEND;TZID=Europe/Berlin:20260417T160000
DTSTAMP:20260421T101744Z
DTSTART;TZID=Europe/Berlin:20260417T140000
GEO:49.980192;12.443161
LOCATION:Sengerhof\, Turmstraße 5 - 7\, Bad Neualbenreuth
RRULE:FREQ=WEEKLY;UNTIL=20261030T130000;BYDAY=MO,FR
SEQUENCE:0
SUMMARY:Sengerhof geöffnet
UID:e_100217136_iv27
URL:http://pages.destination.one/de/oberpfaelzerwald/streaming/detail/Event
 /e_100217136/sengerhof-ge-ffnet
END:VEVENT
BEGIN:VTIMEZONE
TZID:Europe/Berlin
X-LIC-LOCATION:Europe/Berlin
BEGIN:DAYLIGHT
DTSTART:19700329T020000
RRULE:FREQ=YEARLY;BYDAY=-1SU;BYMONTH=3
TZNAME:CEST
TZOFFSETFROM:+0100
TZOFFSETTO:+0200
END:DAYLIGHT
BEGIN:STANDARD
DTSTART:19701025T030000
RRULE:FREQ=YEARLY;BYDAY=-1SU;BYMONTH=10
TZNAME:CET
TZOFFSETFROM:+0200
TZOFFSETTO:+0100
END:STANDARD
END:VTIMEZONE
END:VCALENDAR
