BEGIN:VCALENDAR
VERSION:2.0
PRODID:-//destination.one//NONSGML destination.meta API//DE
X-WR-CALDESC:A calendar powered by destination.meta
X-WR-CALNAME:oberpfaelzerwald Kalender via destination.meta
BEGIN:VEVENT
CATEGORIES:Sonstiges
DESCRIPTION:\n\nmehr Informationen unter http://pages.destination.one/de/ob
 erpfaelzerwald/streaming/detail/Event/e_100294469/sommerserenade-r-scherl-
 muse
DTEND;TZID=Europe/Berlin:20210822T235900
DTSTAMP:20260424T093215Z
DTSTART;TZID=Europe/Berlin:20210822T180000
GEO:49.623841;12.344642
LOCATION:Stadtpark Vohenstrauß\, Wallstraße\, Vohenstrauß
ORGANIZER;CN=Stadt Vohenstrauß:mailto:info@tourismus.vohenstrauss.de
SEQUENCE:0
SUMMARY:Sommerserenade - Rüscherl Muse
UID:e_100294469_iv0
URL:http://pages.destination.one/de/oberpfaelzerwald/streaming/detail/Event
 /e_100294469/sommerserenade-r-scherl-muse
END:VEVENT
BEGIN:VEVENT
CATEGORIES:Sonstiges
DESCRIPTION:\n\nmehr Informationen unter http://pages.destination.one/de/ob
 erpfaelzerwald/streaming/detail/Event/e_100294469/sommerserenade-r-scherl-
 muse
DTEND;TZID=Europe/Berlin:20220720T203000
DTSTAMP:20260424T093215Z
DTSTART;TZID=Europe/Berlin:20220720T190000
GEO:49.623841;12.344642
LOCATION:Stadtpark Vohenstrauß\, Wallstraße\, Vohenstrauß
ORGANIZER;CN=Stadt Vohenstrauß:mailto:info@tourismus.vohenstrauss.de
SEQUENCE:0
SUMMARY:Sommerserenade - Rüscherl Muse
UID:e_100294469_iv1
URL:http://pages.destination.one/de/oberpfaelzerwald/streaming/detail/Event
 /e_100294469/sommerserenade-r-scherl-muse
END:VEVENT
BEGIN:VEVENT
CATEGORIES:Sonstiges
DESCRIPTION:\n\nmehr Informationen unter http://pages.destination.one/de/ob
 erpfaelzerwald/streaming/detail/Event/e_100294469/sommerserenade-r-scherl-
 muse
DTEND;TZID=Europe/Berlin:20250730T235900
DTSTAMP:20260424T093215Z
DTSTART;TZID=Europe/Berlin:20250730T190000
GEO:49.623841;12.344642
LOCATION:Stadtpark Vohenstrauß\, Wallstraße\, Vohenstrauß
ORGANIZER;CN=Stadt Vohenstrauß:mailto:info@tourismus.vohenstrauss.de
SEQUENCE:0
SUMMARY:Sommerserenade - Rüscherl Muse
UID:e_100294469_iv2
URL:http://pages.destination.one/de/oberpfaelzerwald/streaming/detail/Event
 /e_100294469/sommerserenade-r-scherl-muse
END:VEVENT
BEGIN:VEVENT
CATEGORIES:Sonstiges
DESCRIPTION:\n\nmehr Informationen unter http://pages.destination.one/de/ob
 erpfaelzerwald/streaming/detail/Event/e_100294469/sommerserenade-r-scherl-
 muse
DTEND;TZID=Europe/Berlin:20260715T235900
DTSTAMP:20260424T093215Z
DTSTART;TZID=Europe/Berlin:20260715T190000
GEO:49.623841;12.344642
LOCATION:Stadtpark Vohenstrauß\, Wallstraße\, Vohenstrauß
ORGANIZER;CN=Stadt Vohenstrauß:mailto:info@tourismus.vohenstrauss.de
SEQUENCE:0
SUMMARY:Sommerserenade - Rüscherl Muse
UID:e_100294469_iv3
URL:http://pages.destination.one/de/oberpfaelzerwald/streaming/detail/Event
 /e_100294469/sommerserenade-r-scherl-muse
END:VEVENT
BEGIN:VTIMEZONE
TZID:Europe/Berlin
X-LIC-LOCATION:Europe/Berlin
BEGIN:DAYLIGHT
DTSTART:19700329T020000
RRULE:FREQ=YEARLY;BYDAY=-1SU;BYMONTH=3
TZNAME:CEST
TZOFFSETFROM:+0100
TZOFFSETTO:+0200
END:DAYLIGHT
BEGIN:STANDARD
DTSTART:19701025T030000
RRULE:FREQ=YEARLY;BYDAY=-1SU;BYMONTH=10
TZNAME:CET
TZOFFSETFROM:+0200
TZOFFSETTO:+0100
END:STANDARD
END:VTIMEZONE
END:VCALENDAR
