BEGIN:VCALENDAR
VERSION:2.0
PRODID:-//destination.one//NONSGML destination.meta API//DE
X-WR-CALDESC:A calendar powered by destination.meta
X-WR-CALNAME:oberpfaelzerwald Kalender via destination.meta
BEGIN:VEVENT
CATEGORIES:Sport/Freizeit
DESCRIPTION:Verbindliche Anmeldung bis spätestens zwei Werktage vor dem Füh
 rungstermin unter Tel.: 09431 45-550 oder per Mail an tourismus@schwandorf
 .de.\n\nmehr Informationen unter http://pages.destination.one/de/oberpfael
 zerwald/streaming/detail/Event/e_100364628/stadtf-hrung-das-bahnhofsvierte
 l-zwischen-banken-kirchen-und-abstellgleisen
DTEND;TZID=Europe/Berlin:20260514T180000
DTSTAMP:20260421T124511Z
DTSTART;TZID=Europe/Berlin:20260514T160000
GEO:49.331331;12.108254
LOCATION:Tourismusbüro\, Kirchengasse 1\, Schwandorf
ORGANIZER;CN=Tourismusbüro:mailto:tourismus@schwandorf.de
SEQUENCE:0
SUMMARY:Stadtführung :  Das Bahnhofsviertel - zwischen Banken\, Kirchen und
  Abstellgleisen
UID:e_100364628_iv0
URL:http://pages.destination.one/de/oberpfaelzerwald/streaming/detail/Event
 /e_100364628/stadtf-hrung-das-bahnhofsviertel-zwischen-banken-kirchen-und-
 abstellgleisen
END:VEVENT
BEGIN:VTIMEZONE
TZID:Europe/Berlin
X-LIC-LOCATION:Europe/Berlin
BEGIN:DAYLIGHT
DTSTART:19700329T020000
RRULE:FREQ=YEARLY;BYDAY=-1SU;BYMONTH=3
TZNAME:CEST
TZOFFSETFROM:+0100
TZOFFSETTO:+0200
END:DAYLIGHT
BEGIN:STANDARD
DTSTART:19701025T030000
RRULE:FREQ=YEARLY;BYDAY=-1SU;BYMONTH=10
TZNAME:CET
TZOFFSETFROM:+0200
TZOFFSETTO:+0100
END:STANDARD
END:VTIMEZONE
END:VCALENDAR
