BEGIN:VCALENDAR
VERSION:2.0
PRODID:-//destination.one//NONSGML destination.meta API//DE
X-WR-CALDESC:A calendar powered by destination.meta
X-WR-CALNAME:oberpfaelzerwald Kalender via destination.meta
BEGIN:VEVENT
CATEGORIES:Wanderung
DESCRIPTION:\n\nmehr Informationen unter http://pages.destination.one/de/ob
 erpfaelzerwald/streaming/detail/Event/e_100508069/herbstwanderung-des-ogv-
 wernersreuth
DTEND;TZID=Europe/Berlin:20221009T235900
DTSTAMP:20260421T123039Z
DTSTART;TZID=Europe/Berlin:20221009T130000
GEO:49.965702;12.371251
LOCATION:Bürgerhaus Wernersreuth\, Wernersreuth\, Bad Neualbenreuth
SEQUENCE:0
SUMMARY:Herbstwanderung des OGV-Wernersreuth
UID:e_100508069_iv0
URL:http://pages.destination.one/de/oberpfaelzerwald/streaming/detail/Event
 /e_100508069/herbstwanderung-des-ogv-wernersreuth
END:VEVENT
BEGIN:VEVENT
CATEGORIES:Wanderung
DESCRIPTION:\n\nmehr Informationen unter http://pages.destination.one/de/ob
 erpfaelzerwald/streaming/detail/Event/e_100508069/herbstwanderung-des-ogv-
 wernersreuth
DTEND;TZID=Europe/Berlin:20231008T235900
DTSTAMP:20260421T123039Z
DTSTART;TZID=Europe/Berlin:20231008T140000
GEO:49.965702;12.371251
LOCATION:Bürgerhaus Wernersreuth\, Wernersreuth\, Bad Neualbenreuth
SEQUENCE:0
SUMMARY:Herbstwanderung des OGV-Wernersreuth
UID:e_100508069_iv1
URL:http://pages.destination.one/de/oberpfaelzerwald/streaming/detail/Event
 /e_100508069/herbstwanderung-des-ogv-wernersreuth
END:VEVENT
BEGIN:VEVENT
CATEGORIES:Wanderung
DESCRIPTION:\n\nmehr Informationen unter http://pages.destination.one/de/ob
 erpfaelzerwald/streaming/detail/Event/e_100508069/herbstwanderung-des-ogv-
 wernersreuth
DTEND;TZID=Europe/Berlin:20241013T180000
DTSTAMP:20260421T123039Z
DTSTART;TZID=Europe/Berlin:20241013T130000
GEO:49.965702;12.371251
LOCATION:Bürgerhaus Wernersreuth\, Wernersreuth\, Bad Neualbenreuth
SEQUENCE:0
SUMMARY:Herbstwanderung des OGV-Wernersreuth
UID:e_100508069_iv2
URL:http://pages.destination.one/de/oberpfaelzerwald/streaming/detail/Event
 /e_100508069/herbstwanderung-des-ogv-wernersreuth
END:VEVENT
BEGIN:VEVENT
CATEGORIES:Wanderung
DESCRIPTION:\n\nmehr Informationen unter http://pages.destination.one/de/ob
 erpfaelzerwald/streaming/detail/Event/e_100508069/herbstwanderung-des-ogv-
 wernersreuth
DTEND;TZID=Europe/Berlin:20251013T000000
DTSTAMP:20260421T123039Z
DTSTART;TZID=Europe/Berlin:20251012T133000
GEO:49.965702;12.371251
LOCATION:Bürgerhaus Wernersreuth\, Wernersreuth\, Bad Neualbenreuth
SEQUENCE:0
SUMMARY:Herbstwanderung des OGV-Wernersreuth
UID:e_100508069_iv3
URL:http://pages.destination.one/de/oberpfaelzerwald/streaming/detail/Event
 /e_100508069/herbstwanderung-des-ogv-wernersreuth
END:VEVENT
BEGIN:VEVENT
CATEGORIES:Wanderung
DESCRIPTION:\n\nmehr Informationen unter http://pages.destination.one/de/ob
 erpfaelzerwald/streaming/detail/Event/e_100508069/herbstwanderung-des-ogv-
 wernersreuth
DTEND;TZID=Europe/Berlin;VALUE=DATE:20261012
DTSTAMP:20260421T123039Z
DTSTART;TZID=Europe/Berlin;VALUE=DATE:20261011
GEO:49.965702;12.371251
LOCATION:Bürgerhaus Wernersreuth\, Wernersreuth\, Bad Neualbenreuth
SEQUENCE:0
SUMMARY:Herbstwanderung des OGV-Wernersreuth
UID:e_100508069_iv4
URL:http://pages.destination.one/de/oberpfaelzerwald/streaming/detail/Event
 /e_100508069/herbstwanderung-des-ogv-wernersreuth
END:VEVENT
BEGIN:VTIMEZONE
TZID:Europe/Berlin
X-LIC-LOCATION:Europe/Berlin
BEGIN:DAYLIGHT
DTSTART:19700329T020000
RRULE:FREQ=YEARLY;BYDAY=-1SU;BYMONTH=3
TZNAME:CEST
TZOFFSETFROM:+0100
TZOFFSETTO:+0200
END:DAYLIGHT
BEGIN:STANDARD
DTSTART:19701025T030000
RRULE:FREQ=YEARLY;BYDAY=-1SU;BYMONTH=10
TZNAME:CET
TZOFFSETFROM:+0200
TZOFFSETTO:+0100
END:STANDARD
END:VTIMEZONE
END:VCALENDAR
