BEGIN:VCALENDAR
VERSION:2.0
PRODID:-//destination.one//NONSGML destination.meta API//DE
X-WR-CALDESC:A calendar powered by destination.meta
X-WR-CALNAME:oberpfaelzerwald Kalender via destination.meta
BEGIN:VEVENT
CATEGORIES:Ausstellung
DESCRIPTION:Für die Nachwelt bewahrt\n\nmehr Informationen unter http://pag
 es.destination.one/de/oberpfaelzerwald/streaming/detail/Event/e_100529628/
 f-r-die-nachwelt-bewahrt-sonderausstellung
DTEND;TZID=Europe/Berlin;VALUE=DATE:20230313
DTSTAMP:20260421T122414Z
DTSTART;TZID=Europe/Berlin;VALUE=DATE:20221112
GEO:49.720527;11.904132
LOCATION:Kultur- und Militärmuseum Grafenwöhr\, Martin-Posser-Str. 14\, Gra
 fenwöhr
ORGANIZER;CN=Kultur- und Militärmuseum Grafenwöhr:mailto:info@museum-grafen
 woehr.de
PRIORITY:4
SEQUENCE:0
SUMMARY:"Für die Nachwelt bewahrt" - Sonderausstellung
UID:e_100529628_iv0
URL:http://pages.destination.one/de/oberpfaelzerwald/streaming/detail/Event
 /e_100529628/f-r-die-nachwelt-bewahrt-sonderausstellung
END:VEVENT
BEGIN:VEVENT
CATEGORIES:Ausstellung
DESCRIPTION:Für die Nachwelt bewahrt\n\nmehr Informationen unter http://pag
 es.destination.one/de/oberpfaelzerwald/streaming/detail/Event/e_100529628/
 f-r-die-nachwelt-bewahrt-sonderausstellung
DTEND;TZID=Europe/Berlin:20260913T170000
DTSTAMP:20260421T122414Z
DTSTART;TZID=Europe/Berlin:20260913T140000
GEO:49.720527;11.904132
LOCATION:Kultur- und Militärmuseum Grafenwöhr\, Martin-Posser-Str. 14\, Gra
 fenwöhr
ORGANIZER;CN=Kultur- und Militärmuseum Grafenwöhr:mailto:info@museum-grafen
 woehr.de
PRIORITY:4
RRULE:FREQ=MONTHLY;BYMONTHDAY=13
SEQUENCE:0
SUMMARY:"Für die Nachwelt bewahrt" - Sonderausstellung
UID:e_100529628_iv1
URL:http://pages.destination.one/de/oberpfaelzerwald/streaming/detail/Event
 /e_100529628/f-r-die-nachwelt-bewahrt-sonderausstellung
END:VEVENT
BEGIN:VTIMEZONE
TZID:Europe/Berlin
X-LIC-LOCATION:Europe/Berlin
BEGIN:DAYLIGHT
DTSTART:19700329T020000
RRULE:FREQ=YEARLY;BYDAY=-1SU;BYMONTH=3
TZNAME:CEST
TZOFFSETFROM:+0100
TZOFFSETTO:+0200
END:DAYLIGHT
BEGIN:STANDARD
DTSTART:19701025T030000
RRULE:FREQ=YEARLY;BYDAY=-1SU;BYMONTH=10
TZNAME:CET
TZOFFSETFROM:+0200
TZOFFSETTO:+0100
END:STANDARD
END:VTIMEZONE
END:VCALENDAR
