BEGIN:VCALENDAR
VERSION:2.0
PRODID:-//destination.one//NONSGML destination.meta API//DE
X-WR-CALDESC:A calendar powered by destination.meta
X-WR-CALNAME:oberpfaelzerwald Kalender via destination.meta
BEGIN:VEVENT
CATEGORIES:Brauchtum/Kultur
CATEGORIES:Weihnachten / Advent
DESCRIPTION:\n\nmehr Informationen unter http://pages.destination.one/de/ob
 erpfaelzerwald/streaming/detail/Event/e_100541463/owv-waldweihnacht-anschl
 -weihnachtsfeier
DTEND;TZID=Europe/Berlin:20231222T190000
DTSTAMP:20260421T140449Z
DTSTART;TZID=Europe/Berlin:20231222T170000
GEO:49.589404;12.418242
LOCATION:Generationenpark Gruberbachtal Moosbach\, Eslarner Straße (am Orts
 ausgang Richtung Eslarn links)\, Moosbach
ORGANIZER;CN=OWV Moosbach:http://www.owv-moosbach.de/
SEQUENCE:0
SUMMARY:OWV-Waldweihnacht anschl. Weihnachtsfeier
UID:e_100541463_iv0
URL:http://pages.destination.one/de/oberpfaelzerwald/streaming/detail/Event
 /e_100541463/owv-waldweihnacht-anschl-weihnachtsfeier
END:VEVENT
BEGIN:VEVENT
CATEGORIES:Brauchtum/Kultur
CATEGORIES:Weihnachten / Advent
DESCRIPTION:\n\nmehr Informationen unter http://pages.destination.one/de/ob
 erpfaelzerwald/streaming/detail/Event/e_100541463/owv-waldweihnacht-anschl
 -weihnachtsfeier
DTEND;TZID=Europe/Berlin:20241220T200000
DTSTAMP:20260421T140449Z
DTSTART;TZID=Europe/Berlin:20241220T170000
GEO:49.589404;12.418242
LOCATION:Generationenpark Gruberbachtal Moosbach\, Eslarner Straße (am Orts
 ausgang Richtung Eslarn links)\, Moosbach
ORGANIZER;CN=OWV Moosbach:http://www.owv-moosbach.de/
SEQUENCE:0
SUMMARY:OWV-Waldweihnacht anschl. Weihnachtsfeier
UID:e_100541463_iv1
URL:http://pages.destination.one/de/oberpfaelzerwald/streaming/detail/Event
 /e_100541463/owv-waldweihnacht-anschl-weihnachtsfeier
END:VEVENT
BEGIN:VEVENT
CATEGORIES:Brauchtum/Kultur
CATEGORIES:Weihnachten / Advent
DESCRIPTION:\n\nmehr Informationen unter http://pages.destination.one/de/ob
 erpfaelzerwald/streaming/detail/Event/e_100541463/owv-waldweihnacht-anschl
 -weihnachtsfeier
DTEND;TZID=Europe/Berlin:20251219T210000
DTSTAMP:20260421T140449Z
DTSTART;TZID=Europe/Berlin:20251219T170000
GEO:49.589404;12.418242
LOCATION:Generationenpark Gruberbachtal Moosbach\, Eslarner Straße (am Orts
 ausgang Richtung Eslarn links)\, Moosbach
ORGANIZER;CN=OWV Moosbach:http://www.owv-moosbach.de/
SEQUENCE:0
SUMMARY:OWV-Waldweihnacht anschl. Weihnachtsfeier
UID:e_100541463_iv2
URL:http://pages.destination.one/de/oberpfaelzerwald/streaming/detail/Event
 /e_100541463/owv-waldweihnacht-anschl-weihnachtsfeier
END:VEVENT
BEGIN:VEVENT
CATEGORIES:Brauchtum/Kultur
CATEGORIES:Weihnachten / Advent
DESCRIPTION:\n\nmehr Informationen unter http://pages.destination.one/de/ob
 erpfaelzerwald/streaming/detail/Event/e_100541463/owv-waldweihnacht-anschl
 -weihnachtsfeier
DTEND;TZID=Europe/Berlin:20261220T210000
DTSTAMP:20260421T140449Z
DTSTART;TZID=Europe/Berlin:20261220T170000
GEO:49.589404;12.418242
LOCATION:Generationenpark Gruberbachtal Moosbach\, Eslarner Straße (am Orts
 ausgang Richtung Eslarn links)\, Moosbach
ORGANIZER;CN=OWV Moosbach:http://www.owv-moosbach.de/
SEQUENCE:0
SUMMARY:OWV-Waldweihnacht anschl. Weihnachtsfeier
UID:e_100541463_iv3
URL:http://pages.destination.one/de/oberpfaelzerwald/streaming/detail/Event
 /e_100541463/owv-waldweihnacht-anschl-weihnachtsfeier
END:VEVENT
BEGIN:VTIMEZONE
TZID:Europe/Berlin
X-LIC-LOCATION:Europe/Berlin
BEGIN:DAYLIGHT
DTSTART:19700329T020000
RRULE:FREQ=YEARLY;BYDAY=-1SU;BYMONTH=3
TZNAME:CEST
TZOFFSETFROM:+0100
TZOFFSETTO:+0200
END:DAYLIGHT
BEGIN:STANDARD
DTSTART:19701025T030000
RRULE:FREQ=YEARLY;BYDAY=-1SU;BYMONTH=10
TZNAME:CET
TZOFFSETFROM:+0200
TZOFFSETTO:+0100
END:STANDARD
END:VTIMEZONE
END:VCALENDAR
