BEGIN:VCALENDAR
VERSION:2.0
PRODID:-//destination.one//NONSGML destination.meta API//DE
X-WR-CALDESC:A calendar powered by destination.meta
X-WR-CALNAME:oberpfaelzerwald Kalender via destination.meta
BEGIN:VEVENT
CATEGORIES:Führung/Besichtigung
DESCRIPTION:Stadtführung durch die Rosenquarzstadt\n\nmehr Informationen un
 ter http://pages.destination.one/de/oberpfaelzerwald/streaming/detail/Even
 t/e_100545117/f-hrung-durch-die-rosenquarzstadt
DTEND;TZID=Europe/Berlin:20230117T153000
DTSTAMP:20260421T144838Z
DTSTART;TZID=Europe/Berlin:20230117T140000
GEO:49.644179;12.406654
LOCATION:Stadtpfarrkirche St. Sigismund\, Pfarrplatz 6\, Pleystein
ORGANIZER;CN=Stadt Pleystein:mailto:tourismus@pleystein.de
RRULE:FREQ=WEEKLY;BYDAY=TU
SEQUENCE:0
SUMMARY:Führung durch die Rosenquarzstadt
UID:e_100545117_iv0
URL:http://pages.destination.one/de/oberpfaelzerwald/streaming/detail/Event
 /e_100545117/f-hrung-durch-die-rosenquarzstadt
END:VEVENT
BEGIN:VTIMEZONE
TZID:Europe/Berlin
X-LIC-LOCATION:Europe/Berlin
BEGIN:DAYLIGHT
DTSTART:19700329T020000
RRULE:FREQ=YEARLY;BYDAY=-1SU;BYMONTH=3
TZNAME:CEST
TZOFFSETFROM:+0100
TZOFFSETTO:+0200
END:DAYLIGHT
BEGIN:STANDARD
DTSTART:19701025T030000
RRULE:FREQ=YEARLY;BYDAY=-1SU;BYMONTH=10
TZNAME:CET
TZOFFSETFROM:+0200
TZOFFSETTO:+0100
END:STANDARD
END:VTIMEZONE
END:VCALENDAR
