BEGIN:VCALENDAR
VERSION:2.0
PRODID:-//destination.one//NONSGML destination.meta API//DE
X-WR-CALDESC:A calendar powered by destination.meta
X-WR-CALNAME:oberpfaelzerwald Kalender via destination.meta
BEGIN:VEVENT
CATEGORIES:Brauchtum/Kultur
CATEGORIES:Feste/Bälle/Tanz
CATEGORIES:Volks- und Straßenfeste
CATEGORIES:Sport/Freizeit
CATEGORIES:Geselligkeit/Spiele/Treffen
DESCRIPTION:Tradition wird groß geschrieben in Diendorf!\n\nmehr Informatio
 nen unter http://pages.destination.one/de/oberpfaelzerwald/streaming/detai
 l/Event/e_100605150/diendorfer-kirwa
DTEND;TZID=Europe/Berlin:20230610T020000
DTSTAMP:20260421T120051Z
DTSTART;TZID=Europe/Berlin:20230609T200000
GEO:49.449766;12.198858
LOCATION:Sportheim Diendorf\, Birkachstraße\, Nabburg
SEQUENCE:0
SUMMARY:Diendorfer Kirwa
UID:e_100605150_iv0
URL:http://pages.destination.one/de/oberpfaelzerwald/streaming/detail/Event
 /e_100605150/diendorfer-kirwa
END:VEVENT
BEGIN:VEVENT
CATEGORIES:Brauchtum/Kultur
CATEGORIES:Feste/Bälle/Tanz
CATEGORIES:Volks- und Straßenfeste
CATEGORIES:Sport/Freizeit
CATEGORIES:Geselligkeit/Spiele/Treffen
DESCRIPTION:Tradition wird groß geschrieben in Diendorf!\n\nmehr Informatio
 nen unter http://pages.destination.one/de/oberpfaelzerwald/streaming/detai
 l/Event/e_100605150/diendorfer-kirwa
DTEND;TZID=Europe/Berlin:20230611T020000
DTSTAMP:20260421T120051Z
DTSTART;TZID=Europe/Berlin:20230610T170000
GEO:49.449766;12.198858
LOCATION:Sportheim Diendorf\, Birkachstraße\, Nabburg
SEQUENCE:0
SUMMARY:Diendorfer Kirwa
UID:e_100605150_iv1
URL:http://pages.destination.one/de/oberpfaelzerwald/streaming/detail/Event
 /e_100605150/diendorfer-kirwa
END:VEVENT
BEGIN:VEVENT
CATEGORIES:Brauchtum/Kultur
CATEGORIES:Feste/Bälle/Tanz
CATEGORIES:Volks- und Straßenfeste
CATEGORIES:Sport/Freizeit
CATEGORIES:Geselligkeit/Spiele/Treffen
DESCRIPTION:Tradition wird groß geschrieben in Diendorf!\n\nmehr Informatio
 nen unter http://pages.destination.one/de/oberpfaelzerwald/streaming/detai
 l/Event/e_100605150/diendorfer-kirwa
DTEND;TZID=Europe/Berlin:20230612T020000
DTSTAMP:20260421T120051Z
DTSTART;TZID=Europe/Berlin:20230611T093000
GEO:49.449766;12.198858
LOCATION:Sportheim Diendorf\, Birkachstraße\, Nabburg
SEQUENCE:0
SUMMARY:Diendorfer Kirwa
UID:e_100605150_iv2
URL:http://pages.destination.one/de/oberpfaelzerwald/streaming/detail/Event
 /e_100605150/diendorfer-kirwa
END:VEVENT
BEGIN:VEVENT
CATEGORIES:Brauchtum/Kultur
CATEGORIES:Feste/Bälle/Tanz
CATEGORIES:Volks- und Straßenfeste
CATEGORIES:Sport/Freizeit
CATEGORIES:Geselligkeit/Spiele/Treffen
DESCRIPTION:Tradition wird groß geschrieben in Diendorf!\n\nmehr Informatio
 nen unter http://pages.destination.one/de/oberpfaelzerwald/streaming/detai
 l/Event/e_100605150/diendorfer-kirwa
DTEND;TZID=Europe/Berlin:20230613T020000
DTSTAMP:20260421T120051Z
DTSTART;TZID=Europe/Berlin:20230612T203000
GEO:49.449766;12.198858
LOCATION:Sportheim Diendorf\, Birkachstraße\, Nabburg
SEQUENCE:0
SUMMARY:Diendorfer Kirwa
UID:e_100605150_iv3
URL:http://pages.destination.one/de/oberpfaelzerwald/streaming/detail/Event
 /e_100605150/diendorfer-kirwa
END:VEVENT
BEGIN:VEVENT
CATEGORIES:Brauchtum/Kultur
CATEGORIES:Feste/Bälle/Tanz
CATEGORIES:Volks- und Straßenfeste
CATEGORIES:Sport/Freizeit
CATEGORIES:Geselligkeit/Spiele/Treffen
DESCRIPTION:Tradition wird groß geschrieben in Diendorf!\n\nmehr Informatio
 nen unter http://pages.destination.one/de/oberpfaelzerwald/streaming/detai
 l/Event/e_100605150/diendorfer-kirwa
DTEND;TZID=Europe/Berlin:20240607T235900
DTSTAMP:20260421T120051Z
DTSTART;TZID=Europe/Berlin:20240607T200000
GEO:49.449766;12.198858
LOCATION:Sportheim Diendorf\, Birkachstraße\, Nabburg
SEQUENCE:0
SUMMARY:Diendorfer Kirwa
UID:e_100605150_iv4
URL:http://pages.destination.one/de/oberpfaelzerwald/streaming/detail/Event
 /e_100605150/diendorfer-kirwa
END:VEVENT
BEGIN:VEVENT
CATEGORIES:Brauchtum/Kultur
CATEGORIES:Feste/Bälle/Tanz
CATEGORIES:Volks- und Straßenfeste
CATEGORIES:Sport/Freizeit
CATEGORIES:Geselligkeit/Spiele/Treffen
DESCRIPTION:Tradition wird groß geschrieben in Diendorf!\n\nmehr Informatio
 nen unter http://pages.destination.one/de/oberpfaelzerwald/streaming/detai
 l/Event/e_100605150/diendorfer-kirwa
DTEND;TZID=Europe/Berlin:20240608T235900
DTSTAMP:20260421T120051Z
DTSTART;TZID=Europe/Berlin:20240608T170000
GEO:49.449766;12.198858
LOCATION:Sportheim Diendorf\, Birkachstraße\, Nabburg
SEQUENCE:0
SUMMARY:Diendorfer Kirwa
UID:e_100605150_iv5
URL:http://pages.destination.one/de/oberpfaelzerwald/streaming/detail/Event
 /e_100605150/diendorfer-kirwa
END:VEVENT
BEGIN:VEVENT
CATEGORIES:Brauchtum/Kultur
CATEGORIES:Feste/Bälle/Tanz
CATEGORIES:Volks- und Straßenfeste
CATEGORIES:Sport/Freizeit
CATEGORIES:Geselligkeit/Spiele/Treffen
DESCRIPTION:Tradition wird groß geschrieben in Diendorf!\n\nmehr Informatio
 nen unter http://pages.destination.one/de/oberpfaelzerwald/streaming/detai
 l/Event/e_100605150/diendorfer-kirwa
DTEND;TZID=Europe/Berlin:20240609T235900
DTSTAMP:20260421T120051Z
DTSTART;TZID=Europe/Berlin:20240609T093000
GEO:49.449766;12.198858
LOCATION:Sportheim Diendorf\, Birkachstraße\, Nabburg
SEQUENCE:0
SUMMARY:Diendorfer Kirwa
UID:e_100605150_iv6
URL:http://pages.destination.one/de/oberpfaelzerwald/streaming/detail/Event
 /e_100605150/diendorfer-kirwa
END:VEVENT
BEGIN:VEVENT
CATEGORIES:Brauchtum/Kultur
CATEGORIES:Feste/Bälle/Tanz
CATEGORIES:Volks- und Straßenfeste
CATEGORIES:Sport/Freizeit
CATEGORIES:Geselligkeit/Spiele/Treffen
DESCRIPTION:Tradition wird groß geschrieben in Diendorf!\n\nmehr Informatio
 nen unter http://pages.destination.one/de/oberpfaelzerwald/streaming/detai
 l/Event/e_100605150/diendorfer-kirwa
DTEND;TZID=Europe/Berlin:20240610T235900
DTSTAMP:20260421T120051Z
DTSTART;TZID=Europe/Berlin:20240610T203000
GEO:49.449766;12.198858
LOCATION:Sportheim Diendorf\, Birkachstraße\, Nabburg
SEQUENCE:0
SUMMARY:Diendorfer Kirwa
UID:e_100605150_iv7
URL:http://pages.destination.one/de/oberpfaelzerwald/streaming/detail/Event
 /e_100605150/diendorfer-kirwa
END:VEVENT
BEGIN:VEVENT
CATEGORIES:Brauchtum/Kultur
CATEGORIES:Feste/Bälle/Tanz
CATEGORIES:Volks- und Straßenfeste
CATEGORIES:Sport/Freizeit
CATEGORIES:Geselligkeit/Spiele/Treffen
DESCRIPTION:Tradition wird groß geschrieben in Diendorf!\n\nmehr Informatio
 nen unter http://pages.destination.one/de/oberpfaelzerwald/streaming/detai
 l/Event/e_100605150/diendorfer-kirwa
DTEND;TZID=Europe/Berlin:20250614T030000
DTSTAMP:20260421T120051Z
DTSTART;TZID=Europe/Berlin:20250613T170000
GEO:49.449766;12.198858
LOCATION:Sportheim Diendorf\, Birkachstraße\, Nabburg
SEQUENCE:0
SUMMARY:Diendorfer Kirwa
UID:e_100605150_iv8
URL:http://pages.destination.one/de/oberpfaelzerwald/streaming/detail/Event
 /e_100605150/diendorfer-kirwa
END:VEVENT
BEGIN:VEVENT
CATEGORIES:Brauchtum/Kultur
CATEGORIES:Feste/Bälle/Tanz
CATEGORIES:Volks- und Straßenfeste
CATEGORIES:Sport/Freizeit
CATEGORIES:Geselligkeit/Spiele/Treffen
DESCRIPTION:Tradition wird groß geschrieben in Diendorf!\n\nmehr Informatio
 nen unter http://pages.destination.one/de/oberpfaelzerwald/streaming/detai
 l/Event/e_100605150/diendorfer-kirwa
DTEND;TZID=Europe/Berlin:20250615T030000
DTSTAMP:20260421T120051Z
DTSTART;TZID=Europe/Berlin:20250614T170000
GEO:49.449766;12.198858
LOCATION:Sportheim Diendorf\, Birkachstraße\, Nabburg
SEQUENCE:0
SUMMARY:Diendorfer Kirwa
UID:e_100605150_iv9
URL:http://pages.destination.one/de/oberpfaelzerwald/streaming/detail/Event
 /e_100605150/diendorfer-kirwa
END:VEVENT
BEGIN:VEVENT
CATEGORIES:Brauchtum/Kultur
CATEGORIES:Feste/Bälle/Tanz
CATEGORIES:Volks- und Straßenfeste
CATEGORIES:Sport/Freizeit
CATEGORIES:Geselligkeit/Spiele/Treffen
DESCRIPTION:Tradition wird groß geschrieben in Diendorf!\n\nmehr Informatio
 nen unter http://pages.destination.one/de/oberpfaelzerwald/streaming/detai
 l/Event/e_100605150/diendorfer-kirwa
DTEND;TZID=Europe/Berlin:20250616T030000
DTSTAMP:20260421T120051Z
DTSTART;TZID=Europe/Berlin:20250615T080000
GEO:49.449766;12.198858
LOCATION:Sportheim Diendorf\, Birkachstraße\, Nabburg
SEQUENCE:0
SUMMARY:Diendorfer Kirwa
UID:e_100605150_iv10
URL:http://pages.destination.one/de/oberpfaelzerwald/streaming/detail/Event
 /e_100605150/diendorfer-kirwa
END:VEVENT
BEGIN:VEVENT
CATEGORIES:Brauchtum/Kultur
CATEGORIES:Feste/Bälle/Tanz
CATEGORIES:Volks- und Straßenfeste
CATEGORIES:Sport/Freizeit
CATEGORIES:Geselligkeit/Spiele/Treffen
DESCRIPTION:Tradition wird groß geschrieben in Diendorf!\n\nmehr Informatio
 nen unter http://pages.destination.one/de/oberpfaelzerwald/streaming/detai
 l/Event/e_100605150/diendorfer-kirwa
DTEND;TZID=Europe/Berlin:20250617T030000
DTSTAMP:20260421T120051Z
DTSTART;TZID=Europe/Berlin:20250616T140000
GEO:49.449766;12.198858
LOCATION:Sportheim Diendorf\, Birkachstraße\, Nabburg
SEQUENCE:0
SUMMARY:Diendorfer Kirwa
UID:e_100605150_iv11
URL:http://pages.destination.one/de/oberpfaelzerwald/streaming/detail/Event
 /e_100605150/diendorfer-kirwa
END:VEVENT
BEGIN:VEVENT
CATEGORIES:Brauchtum/Kultur
CATEGORIES:Feste/Bälle/Tanz
CATEGORIES:Volks- und Straßenfeste
CATEGORIES:Sport/Freizeit
CATEGORIES:Geselligkeit/Spiele/Treffen
DESCRIPTION:Tradition wird groß geschrieben in Diendorf!\n\nmehr Informatio
 nen unter http://pages.destination.one/de/oberpfaelzerwald/streaming/detai
 l/Event/e_100605150/diendorfer-kirwa
DTEND;TZID=Europe/Berlin:20260612T235900
DTSTAMP:20260421T120051Z
DTSTART;TZID=Europe/Berlin:20260612T120000
GEO:49.449766;12.198858
LOCATION:Sportheim Diendorf\, Birkachstraße\, Nabburg
SEQUENCE:0
SUMMARY:Diendorfer Kirwa
UID:e_100605150_iv12
URL:http://pages.destination.one/de/oberpfaelzerwald/streaming/detail/Event
 /e_100605150/diendorfer-kirwa
END:VEVENT
BEGIN:VEVENT
CATEGORIES:Brauchtum/Kultur
CATEGORIES:Feste/Bälle/Tanz
CATEGORIES:Volks- und Straßenfeste
CATEGORIES:Sport/Freizeit
CATEGORIES:Geselligkeit/Spiele/Treffen
DESCRIPTION:Tradition wird groß geschrieben in Diendorf!\n\nmehr Informatio
 nen unter http://pages.destination.one/de/oberpfaelzerwald/streaming/detai
 l/Event/e_100605150/diendorfer-kirwa
DTEND;TZID=Europe/Berlin:20260613T235900
DTSTAMP:20260421T120051Z
DTSTART;TZID=Europe/Berlin:20260613T100000
GEO:49.449766;12.198858
LOCATION:Sportheim Diendorf\, Birkachstraße\, Nabburg
SEQUENCE:0
SUMMARY:Diendorfer Kirwa
UID:e_100605150_iv13
URL:http://pages.destination.one/de/oberpfaelzerwald/streaming/detail/Event
 /e_100605150/diendorfer-kirwa
END:VEVENT
BEGIN:VEVENT
CATEGORIES:Brauchtum/Kultur
CATEGORIES:Feste/Bälle/Tanz
CATEGORIES:Volks- und Straßenfeste
CATEGORIES:Sport/Freizeit
CATEGORIES:Geselligkeit/Spiele/Treffen
DESCRIPTION:Tradition wird groß geschrieben in Diendorf!\n\nmehr Informatio
 nen unter http://pages.destination.one/de/oberpfaelzerwald/streaming/detai
 l/Event/e_100605150/diendorfer-kirwa
DTEND;TZID=Europe/Berlin:20260614T235900
DTSTAMP:20260421T120051Z
DTSTART;TZID=Europe/Berlin:20260614T100000
GEO:49.449766;12.198858
LOCATION:Sportheim Diendorf\, Birkachstraße\, Nabburg
SEQUENCE:0
SUMMARY:Diendorfer Kirwa
UID:e_100605150_iv14
URL:http://pages.destination.one/de/oberpfaelzerwald/streaming/detail/Event
 /e_100605150/diendorfer-kirwa
END:VEVENT
BEGIN:VEVENT
CATEGORIES:Brauchtum/Kultur
CATEGORIES:Feste/Bälle/Tanz
CATEGORIES:Volks- und Straßenfeste
CATEGORIES:Sport/Freizeit
CATEGORIES:Geselligkeit/Spiele/Treffen
DESCRIPTION:Tradition wird groß geschrieben in Diendorf!\n\nmehr Informatio
 nen unter http://pages.destination.one/de/oberpfaelzerwald/streaming/detai
 l/Event/e_100605150/diendorfer-kirwa
DTEND;TZID=Europe/Berlin:20260615T235900
DTSTAMP:20260421T120051Z
DTSTART;TZID=Europe/Berlin:20260615T100000
GEO:49.449766;12.198858
LOCATION:Sportheim Diendorf\, Birkachstraße\, Nabburg
SEQUENCE:0
SUMMARY:Diendorfer Kirwa
UID:e_100605150_iv15
URL:http://pages.destination.one/de/oberpfaelzerwald/streaming/detail/Event
 /e_100605150/diendorfer-kirwa
END:VEVENT
BEGIN:VTIMEZONE
TZID:Europe/Berlin
X-LIC-LOCATION:Europe/Berlin
BEGIN:DAYLIGHT
DTSTART:19700329T020000
RRULE:FREQ=YEARLY;BYDAY=-1SU;BYMONTH=3
TZNAME:CEST
TZOFFSETFROM:+0100
TZOFFSETTO:+0200
END:DAYLIGHT
BEGIN:STANDARD
DTSTART:19701025T030000
RRULE:FREQ=YEARLY;BYDAY=-1SU;BYMONTH=10
TZNAME:CET
TZOFFSETFROM:+0200
TZOFFSETTO:+0100
END:STANDARD
END:VTIMEZONE
END:VCALENDAR
