BEGIN:VCALENDAR
VERSION:2.0
PRODID:-//destination.one//NONSGML destination.meta API//DE
X-WR-CALDESC:A calendar powered by destination.meta
X-WR-CALNAME:oberpfaelzerwald Kalender via destination.meta
BEGIN:VEVENT
CATEGORIES:Genuss/Gourmet
CATEGORIES:Markt
CATEGORIES:Regionale Spezialitäten
DESCRIPTION:Herbstmarkt im Schafferhof\n\nmehr Informationen unter http://p
 ages.destination.one/de/oberpfaelzerwald/streaming/detail/Event/e_10070259
 2/herbstmarkt
DTEND;TZID=Europe/Berlin:20231022T170000
DTSTAMP:20260421T091227Z
DTSTART;TZID=Europe/Berlin:20231022T100000
GEO:50.012007;12.223958
LOCATION:Informations - und Begegnungszentrum Schafferhof\, Hauptstraße 20\
 , Konnersreuth
SEQUENCE:0
SUMMARY:Herbstmarkt
UID:e_100702592_iv0
URL:http://pages.destination.one/de/oberpfaelzerwald/streaming/detail/Event
 /e_100702592/herbstmarkt
END:VEVENT
BEGIN:VEVENT
CATEGORIES:Genuss/Gourmet
CATEGORIES:Markt
CATEGORIES:Regionale Spezialitäten
DESCRIPTION:Herbstmarkt im Schafferhof\n\nmehr Informationen unter http://p
 ages.destination.one/de/oberpfaelzerwald/streaming/detail/Event/e_10070259
 2/herbstmarkt
DTEND;TZID=Europe/Berlin:20241020T180000
DTSTAMP:20260421T091227Z
DTSTART;TZID=Europe/Berlin:20241020T100000
GEO:50.012007;12.223958
LOCATION:Informations - und Begegnungszentrum Schafferhof\, Hauptstraße 20\
 , Konnersreuth
SEQUENCE:0
SUMMARY:Herbstmarkt
UID:e_100702592_iv1
URL:http://pages.destination.one/de/oberpfaelzerwald/streaming/detail/Event
 /e_100702592/herbstmarkt
END:VEVENT
BEGIN:VEVENT
CATEGORIES:Genuss/Gourmet
CATEGORIES:Markt
CATEGORIES:Regionale Spezialitäten
DESCRIPTION:Herbstmarkt im Schafferhof\n\nmehr Informationen unter http://p
 ages.destination.one/de/oberpfaelzerwald/streaming/detail/Event/e_10070259
 2/herbstmarkt
DTEND;TZID=Europe/Berlin:20251019T235900
DTSTAMP:20260421T091227Z
DTSTART;TZID=Europe/Berlin:20251019T100000
GEO:50.012007;12.223958
LOCATION:Informations - und Begegnungszentrum Schafferhof\, Hauptstraße 20\
 , Konnersreuth
SEQUENCE:0
SUMMARY:Herbstmarkt
UID:e_100702592_iv2
URL:http://pages.destination.one/de/oberpfaelzerwald/streaming/detail/Event
 /e_100702592/herbstmarkt
END:VEVENT
BEGIN:VEVENT
CATEGORIES:Genuss/Gourmet
CATEGORIES:Markt
CATEGORIES:Regionale Spezialitäten
DESCRIPTION:Herbstmarkt im Schafferhof\n\nmehr Informationen unter http://p
 ages.destination.one/de/oberpfaelzerwald/streaming/detail/Event/e_10070259
 2/herbstmarkt
DTEND;TZID=Europe/Berlin:20261018T170000
DTSTAMP:20260421T091227Z
DTSTART;TZID=Europe/Berlin:20261018T100000
GEO:50.012007;12.223958
LOCATION:Informations - und Begegnungszentrum Schafferhof\, Hauptstraße 20\
 , Konnersreuth
SEQUENCE:0
SUMMARY:Herbstmarkt
UID:e_100702592_iv3
URL:http://pages.destination.one/de/oberpfaelzerwald/streaming/detail/Event
 /e_100702592/herbstmarkt
END:VEVENT
BEGIN:VTIMEZONE
TZID:Europe/Berlin
X-LIC-LOCATION:Europe/Berlin
BEGIN:DAYLIGHT
DTSTART:19700329T020000
RRULE:FREQ=YEARLY;BYDAY=-1SU;BYMONTH=3
TZNAME:CEST
TZOFFSETFROM:+0100
TZOFFSETTO:+0200
END:DAYLIGHT
BEGIN:STANDARD
DTSTART:19701025T030000
RRULE:FREQ=YEARLY;BYDAY=-1SU;BYMONTH=10
TZNAME:CET
TZOFFSETFROM:+0200
TZOFFSETTO:+0100
END:STANDARD
END:VTIMEZONE
END:VCALENDAR
