BEGIN:VCALENDAR
VERSION:2.0
PRODID:-//destination.one//NONSGML destination.meta API//DE
X-WR-CALDESC:A calendar powered by destination.meta
X-WR-CALNAME:oberpfaelzerwald Kalender via destination.meta
BEGIN:VEVENT
CATEGORIES:Rund um den Fisch
DESCRIPTION:Der Angelsportverein Bodenwöhr veranstaltet beim Vereinsheim di
 e jährliche Fischerkirwa.\n\nmehr Informationen unter http://pages.destina
 tion.one/de/oberpfaelzerwald/streaming/detail/Event/e_100746667/fischerfes
 t
DTEND;TZID=Europe/Berlin:20240720T235900
DTSTAMP:20260423T090318Z
DTSTART;TZID=Europe/Berlin:20240720T140000
GEO:49.273237;12.316790
LOCATION:Vereinsheim des Angelsportvereins\, Neunburger Straße \, Bodenwöhr
SEQUENCE:0
SUMMARY:Fischerfest
UID:e_100746667_iv0
URL:http://pages.destination.one/de/oberpfaelzerwald/streaming/detail/Event
 /e_100746667/fischerfest
END:VEVENT
BEGIN:VEVENT
CATEGORIES:Rund um den Fisch
DESCRIPTION:Der Angelsportverein Bodenwöhr veranstaltet beim Vereinsheim di
 e jährliche Fischerkirwa.\n\nmehr Informationen unter http://pages.destina
 tion.one/de/oberpfaelzerwald/streaming/detail/Event/e_100746667/fischerfes
 t
DTEND;TZID=Europe/Berlin;VALUE=DATE:20250720
DTSTAMP:20260423T090318Z
DTSTART;TZID=Europe/Berlin;VALUE=DATE:20250719
GEO:49.273237;12.316790
LOCATION:Vereinsheim des Angelsportvereins\, Neunburger Straße \, Bodenwöhr
SEQUENCE:0
SUMMARY:Fischerfest
UID:e_100746667_iv1
URL:http://pages.destination.one/de/oberpfaelzerwald/streaming/detail/Event
 /e_100746667/fischerfest
END:VEVENT
BEGIN:VEVENT
CATEGORIES:Rund um den Fisch
DESCRIPTION:Der Angelsportverein Bodenwöhr veranstaltet beim Vereinsheim di
 e jährliche Fischerkirwa.\n\nmehr Informationen unter http://pages.destina
 tion.one/de/oberpfaelzerwald/streaming/detail/Event/e_100746667/fischerfes
 t
DTEND;TZID=Europe/Berlin:20260719T000000
DTSTAMP:20260423T090318Z
DTSTART;TZID=Europe/Berlin:20260718T110000
GEO:49.273237;12.316790
LOCATION:Vereinsheim des Angelsportvereins\, Neunburger Straße \, Bodenwöhr
SEQUENCE:0
SUMMARY:Fischerfest
UID:e_100746667_iv2
URL:http://pages.destination.one/de/oberpfaelzerwald/streaming/detail/Event
 /e_100746667/fischerfest
END:VEVENT
BEGIN:VTIMEZONE
TZID:Europe/Berlin
X-LIC-LOCATION:Europe/Berlin
BEGIN:DAYLIGHT
DTSTART:19700329T020000
RRULE:FREQ=YEARLY;BYDAY=-1SU;BYMONTH=3
TZNAME:CEST
TZOFFSETFROM:+0100
TZOFFSETTO:+0200
END:DAYLIGHT
BEGIN:STANDARD
DTSTART:19701025T030000
RRULE:FREQ=YEARLY;BYDAY=-1SU;BYMONTH=10
TZNAME:CET
TZOFFSETFROM:+0200
TZOFFSETTO:+0100
END:STANDARD
END:VTIMEZONE
END:VCALENDAR
