BEGIN:VCALENDAR
VERSION:2.0
PRODID:-//destination.one//NONSGML destination.meta API//DE
X-WR-CALDESC:A calendar powered by destination.meta
X-WR-CALNAME:oberpfaelzerwald Kalender via destination.meta
BEGIN:VEVENT
CATEGORIES:Führung/Besichtigung
CATEGORIES:Kulturkalender
DESCRIPTION:„Stille Wasser – die Naab erzählt“ ist die neue Zeitreise im OV
 IGO-Programm.\n\nmehr Informationen unter http://pages.destination.one/de/
 oberpfaelzerwald/streaming/detail/Event/e_100752024/stille-wasser-die-naab
 -erz-hlt
DTEND;TZID=Europe/Berlin:20240511T235900
DTSTAMP:20260422T085736Z
DTSTART;TZID=Europe/Berlin:20240511T140000
GEO:49.454376;12.180871
LOCATION:Rathaus\, Oberer Markt 16\, Nabburg
ORGANIZER;CN=OVIGO-Theater:mailto:info@ovigo-theater.de
PRIORITY:4
SEQUENCE:0
SUMMARY:Stille Wasser - die Naab erzählt
UID:e_100752024_iv0
URL:http://pages.destination.one/de/oberpfaelzerwald/streaming/detail/Event
 /e_100752024/stille-wasser-die-naab-erz-hlt
END:VEVENT
BEGIN:VEVENT
CATEGORIES:Führung/Besichtigung
CATEGORIES:Kulturkalender
DESCRIPTION:„Stille Wasser – die Naab erzählt“ ist die neue Zeitreise im OV
 IGO-Programm.\n\nmehr Informationen unter http://pages.destination.one/de/
 oberpfaelzerwald/streaming/detail/Event/e_100752024/stille-wasser-die-naab
 -erz-hlt
DTEND;TZID=Europe/Berlin:20240511T235900
DTSTAMP:20260422T085736Z
DTSTART;TZID=Europe/Berlin:20240511T173000
GEO:49.454376;12.180871
LOCATION:Rathaus\, Oberer Markt 16\, Nabburg
ORGANIZER;CN=OVIGO-Theater:mailto:info@ovigo-theater.de
PRIORITY:4
SEQUENCE:0
SUMMARY:Stille Wasser - die Naab erzählt
UID:e_100752024_iv1
URL:http://pages.destination.one/de/oberpfaelzerwald/streaming/detail/Event
 /e_100752024/stille-wasser-die-naab-erz-hlt
END:VEVENT
BEGIN:VEVENT
CATEGORIES:Führung/Besichtigung
CATEGORIES:Kulturkalender
DESCRIPTION:„Stille Wasser – die Naab erzählt“ ist die neue Zeitreise im OV
 IGO-Programm.\n\nmehr Informationen unter http://pages.destination.one/de/
 oberpfaelzerwald/streaming/detail/Event/e_100752024/stille-wasser-die-naab
 -erz-hlt
DTEND;TZID=Europe/Berlin:20240602T235900
DTSTAMP:20260422T085736Z
DTSTART;TZID=Europe/Berlin:20240602T140000
GEO:49.454376;12.180871
LOCATION:Rathaus\, Oberer Markt 16\, Nabburg
ORGANIZER;CN=OVIGO-Theater:mailto:info@ovigo-theater.de
PRIORITY:4
SEQUENCE:0
SUMMARY:Stille Wasser - die Naab erzählt
UID:e_100752024_iv2
URL:http://pages.destination.one/de/oberpfaelzerwald/streaming/detail/Event
 /e_100752024/stille-wasser-die-naab-erz-hlt
END:VEVENT
BEGIN:VEVENT
CATEGORIES:Führung/Besichtigung
CATEGORIES:Kulturkalender
DESCRIPTION:„Stille Wasser – die Naab erzählt“ ist die neue Zeitreise im OV
 IGO-Programm.\n\nmehr Informationen unter http://pages.destination.one/de/
 oberpfaelzerwald/streaming/detail/Event/e_100752024/stille-wasser-die-naab
 -erz-hlt
DTEND;TZID=Europe/Berlin:20240602T235900
DTSTAMP:20260422T085736Z
DTSTART;TZID=Europe/Berlin:20240602T173000
GEO:49.454376;12.180871
LOCATION:Rathaus\, Oberer Markt 16\, Nabburg
ORGANIZER;CN=OVIGO-Theater:mailto:info@ovigo-theater.de
PRIORITY:4
SEQUENCE:0
SUMMARY:Stille Wasser - die Naab erzählt
UID:e_100752024_iv3
URL:http://pages.destination.one/de/oberpfaelzerwald/streaming/detail/Event
 /e_100752024/stille-wasser-die-naab-erz-hlt
END:VEVENT
BEGIN:VEVENT
CATEGORIES:Führung/Besichtigung
CATEGORIES:Kulturkalender
DESCRIPTION:„Stille Wasser – die Naab erzählt“ ist die neue Zeitreise im OV
 IGO-Programm.\n\nmehr Informationen unter http://pages.destination.one/de/
 oberpfaelzerwald/streaming/detail/Event/e_100752024/stille-wasser-die-naab
 -erz-hlt
DTEND;TZID=Europe/Berlin:20240803T235900
DTSTAMP:20260422T085736Z
DTSTART;TZID=Europe/Berlin:20240803T140000
GEO:49.454376;12.180871
LOCATION:Rathaus\, Oberer Markt 16\, Nabburg
ORGANIZER;CN=OVIGO-Theater:mailto:info@ovigo-theater.de
PRIORITY:4
SEQUENCE:0
SUMMARY:Stille Wasser - die Naab erzählt
UID:e_100752024_iv4
URL:http://pages.destination.one/de/oberpfaelzerwald/streaming/detail/Event
 /e_100752024/stille-wasser-die-naab-erz-hlt
END:VEVENT
BEGIN:VEVENT
CATEGORIES:Führung/Besichtigung
CATEGORIES:Kulturkalender
DESCRIPTION:„Stille Wasser – die Naab erzählt“ ist die neue Zeitreise im OV
 IGO-Programm.\n\nmehr Informationen unter http://pages.destination.one/de/
 oberpfaelzerwald/streaming/detail/Event/e_100752024/stille-wasser-die-naab
 -erz-hlt
DTEND;TZID=Europe/Berlin:20240803T235900
DTSTAMP:20260422T085736Z
DTSTART;TZID=Europe/Berlin:20240803T173000
GEO:49.454376;12.180871
LOCATION:Rathaus\, Oberer Markt 16\, Nabburg
ORGANIZER;CN=OVIGO-Theater:mailto:info@ovigo-theater.de
PRIORITY:4
SEQUENCE:0
SUMMARY:Stille Wasser - die Naab erzählt
UID:e_100752024_iv5
URL:http://pages.destination.one/de/oberpfaelzerwald/streaming/detail/Event
 /e_100752024/stille-wasser-die-naab-erz-hlt
END:VEVENT
BEGIN:VEVENT
CATEGORIES:Führung/Besichtigung
CATEGORIES:Kulturkalender
DESCRIPTION:„Stille Wasser – die Naab erzählt“ ist die neue Zeitreise im OV
 IGO-Programm.\n\nmehr Informationen unter http://pages.destination.one/de/
 oberpfaelzerwald/streaming/detail/Event/e_100752024/stille-wasser-die-naab
 -erz-hlt
DTEND;TZID=Europe/Berlin:20240804T235900
DTSTAMP:20260422T085736Z
DTSTART;TZID=Europe/Berlin:20240804T140000
GEO:49.454376;12.180871
LOCATION:Rathaus\, Oberer Markt 16\, Nabburg
ORGANIZER;CN=OVIGO-Theater:mailto:info@ovigo-theater.de
PRIORITY:4
SEQUENCE:0
SUMMARY:Stille Wasser - die Naab erzählt
UID:e_100752024_iv6
URL:http://pages.destination.one/de/oberpfaelzerwald/streaming/detail/Event
 /e_100752024/stille-wasser-die-naab-erz-hlt
END:VEVENT
BEGIN:VEVENT
CATEGORIES:Führung/Besichtigung
CATEGORIES:Kulturkalender
DESCRIPTION:„Stille Wasser – die Naab erzählt“ ist die neue Zeitreise im OV
 IGO-Programm.\n\nmehr Informationen unter http://pages.destination.one/de/
 oberpfaelzerwald/streaming/detail/Event/e_100752024/stille-wasser-die-naab
 -erz-hlt
DTEND;TZID=Europe/Berlin:20250809T235900
DTSTAMP:20260422T085736Z
DTSTART;TZID=Europe/Berlin:20250809T140000
GEO:49.454376;12.180871
LOCATION:Rathaus\, Oberer Markt 16\, Nabburg
ORGANIZER;CN=OVIGO-Theater:mailto:info@ovigo-theater.de
PRIORITY:4
SEQUENCE:0
SUMMARY:Stille Wasser - die Naab erzählt
UID:e_100752024_iv7
URL:http://pages.destination.one/de/oberpfaelzerwald/streaming/detail/Event
 /e_100752024/stille-wasser-die-naab-erz-hlt
END:VEVENT
BEGIN:VEVENT
CATEGORIES:Führung/Besichtigung
CATEGORIES:Kulturkalender
DESCRIPTION:„Stille Wasser – die Naab erzählt“ ist die neue Zeitreise im OV
 IGO-Programm.\n\nmehr Informationen unter http://pages.destination.one/de/
 oberpfaelzerwald/streaming/detail/Event/e_100752024/stille-wasser-die-naab
 -erz-hlt
DTEND;TZID=Europe/Berlin:20250809T235900
DTSTAMP:20260422T085736Z
DTSTART;TZID=Europe/Berlin:20250809T170000
GEO:49.454376;12.180871
LOCATION:Rathaus\, Oberer Markt 16\, Nabburg
ORGANIZER;CN=OVIGO-Theater:mailto:info@ovigo-theater.de
PRIORITY:4
SEQUENCE:0
SUMMARY:Stille Wasser - die Naab erzählt
UID:e_100752024_iv8
URL:http://pages.destination.one/de/oberpfaelzerwald/streaming/detail/Event
 /e_100752024/stille-wasser-die-naab-erz-hlt
END:VEVENT
BEGIN:VEVENT
CATEGORIES:Führung/Besichtigung
CATEGORIES:Kulturkalender
DESCRIPTION:„Stille Wasser – die Naab erzählt“ ist die neue Zeitreise im OV
 IGO-Programm.\n\nmehr Informationen unter http://pages.destination.one/de/
 oberpfaelzerwald/streaming/detail/Event/e_100752024/stille-wasser-die-naab
 -erz-hlt
DTEND;TZID=Europe/Berlin:20250810T235900
DTSTAMP:20260422T085736Z
DTSTART;TZID=Europe/Berlin:20250810T140000
GEO:49.454376;12.180871
LOCATION:Rathaus\, Oberer Markt 16\, Nabburg
ORGANIZER;CN=OVIGO-Theater:mailto:info@ovigo-theater.de
PRIORITY:4
SEQUENCE:0
SUMMARY:Stille Wasser - die Naab erzählt
UID:e_100752024_iv9
URL:http://pages.destination.one/de/oberpfaelzerwald/streaming/detail/Event
 /e_100752024/stille-wasser-die-naab-erz-hlt
END:VEVENT
BEGIN:VEVENT
CATEGORIES:Führung/Besichtigung
CATEGORIES:Kulturkalender
DESCRIPTION:„Stille Wasser – die Naab erzählt“ ist die neue Zeitreise im OV
 IGO-Programm.\n\nmehr Informationen unter http://pages.destination.one/de/
 oberpfaelzerwald/streaming/detail/Event/e_100752024/stille-wasser-die-naab
 -erz-hlt
DTEND;TZID=Europe/Berlin:20250810T235900
DTSTAMP:20260422T085736Z
DTSTART;TZID=Europe/Berlin:20250810T170000
GEO:49.454376;12.180871
LOCATION:Rathaus\, Oberer Markt 16\, Nabburg
ORGANIZER;CN=OVIGO-Theater:mailto:info@ovigo-theater.de
PRIORITY:4
SEQUENCE:0
SUMMARY:Stille Wasser - die Naab erzählt
UID:e_100752024_iv10
URL:http://pages.destination.one/de/oberpfaelzerwald/streaming/detail/Event
 /e_100752024/stille-wasser-die-naab-erz-hlt
END:VEVENT
BEGIN:VEVENT
CATEGORIES:Führung/Besichtigung
CATEGORIES:Kulturkalender
DESCRIPTION:„Stille Wasser – die Naab erzählt“ ist die neue Zeitreise im OV
 IGO-Programm.\n\nmehr Informationen unter http://pages.destination.one/de/
 oberpfaelzerwald/streaming/detail/Event/e_100752024/stille-wasser-die-naab
 -erz-hlt
DTEND;TZID=Europe/Berlin:20260725T235900
DTSTAMP:20260422T085736Z
DTSTART;TZID=Europe/Berlin:20260725T140000
GEO:49.454376;12.180871
LOCATION:Rathaus\, Oberer Markt 16\, Nabburg
ORGANIZER;CN=OVIGO-Theater:mailto:info@ovigo-theater.de
PRIORITY:4
SEQUENCE:0
SUMMARY:Stille Wasser - die Naab erzählt
UID:e_100752024_iv11
URL:http://pages.destination.one/de/oberpfaelzerwald/streaming/detail/Event
 /e_100752024/stille-wasser-die-naab-erz-hlt
END:VEVENT
BEGIN:VEVENT
CATEGORIES:Führung/Besichtigung
CATEGORIES:Kulturkalender
DESCRIPTION:„Stille Wasser – die Naab erzählt“ ist die neue Zeitreise im OV
 IGO-Programm.\n\nmehr Informationen unter http://pages.destination.one/de/
 oberpfaelzerwald/streaming/detail/Event/e_100752024/stille-wasser-die-naab
 -erz-hlt
DTEND;TZID=Europe/Berlin:20260725T235900
DTSTAMP:20260422T085736Z
DTSTART;TZID=Europe/Berlin:20260725T170000
GEO:49.454376;12.180871
LOCATION:Rathaus\, Oberer Markt 16\, Nabburg
ORGANIZER;CN=OVIGO-Theater:mailto:info@ovigo-theater.de
PRIORITY:4
SEQUENCE:0
SUMMARY:Stille Wasser - die Naab erzählt
UID:e_100752024_iv12
URL:http://pages.destination.one/de/oberpfaelzerwald/streaming/detail/Event
 /e_100752024/stille-wasser-die-naab-erz-hlt
END:VEVENT
BEGIN:VTIMEZONE
TZID:Europe/Berlin
X-LIC-LOCATION:Europe/Berlin
BEGIN:DAYLIGHT
DTSTART:19700329T020000
RRULE:FREQ=YEARLY;BYDAY=-1SU;BYMONTH=3
TZNAME:CEST
TZOFFSETFROM:+0100
TZOFFSETTO:+0200
END:DAYLIGHT
BEGIN:STANDARD
DTSTART:19701025T030000
RRULE:FREQ=YEARLY;BYDAY=-1SU;BYMONTH=10
TZNAME:CET
TZOFFSETFROM:+0200
TZOFFSETTO:+0100
END:STANDARD
END:VTIMEZONE
END:VCALENDAR
