BEGIN:VCALENDAR
VERSION:2.0
PRODID:-//destination.one//NONSGML destination.meta API//DE
X-WR-CALDESC:A calendar powered by destination.meta
X-WR-CALNAME:oberpfaelzerwald Kalender via destination.meta
BEGIN:VEVENT
CATEGORIES:Brauchtum/Kultur
CATEGORIES:Konzert
CATEGORIES:Kulturkalender
DESCRIPTION:Musik & Wort am MuseumEin lauschiger Abend mit abwechslungsreic
 hem Programm\n\nmehr Informationen unter http://pages.destination.one/de/o
 berpfaelzerwald/streaming/detail/Event/e_100788659/marktm-hlenzauber-musik
 -wort-am-museum
DTEND;TZID=Europe/Berlin:20240706T235900
DTSTAMP:20260422T101427Z
DTSTART;TZID=Europe/Berlin:20240706T000000
GEO:49.461458;12.418499
LOCATION:Stadtmuseum\, Mühlweg 7\, Oberviechtach
ORGANIZER;CN=Museumsverein:mailto:eisenbarthmuseum@online.de
SEQUENCE:0
SUMMARY:"MarktmühlenZauber" - Musik & Wort am Museum
UID:e_100788659_iv0
URL:http://pages.destination.one/de/oberpfaelzerwald/streaming/detail/Event
 /e_100788659/marktm-hlenzauber-musik-wort-am-museum
END:VEVENT
BEGIN:VEVENT
CATEGORIES:Brauchtum/Kultur
CATEGORIES:Konzert
CATEGORIES:Kulturkalender
DESCRIPTION:Musik & Wort am MuseumEin lauschiger Abend mit abwechslungsreic
 hem Programm\n\nmehr Informationen unter http://pages.destination.one/de/o
 berpfaelzerwald/streaming/detail/Event/e_100788659/marktm-hlenzauber-musik
 -wort-am-museum
DTEND;TZID=Europe/Berlin:20260704T235900
DTSTAMP:20260422T101427Z
DTSTART;TZID=Europe/Berlin:20260704T193000
GEO:49.461458;12.418499
LOCATION:Stadtmuseum\, Mühlweg 7\, Oberviechtach
ORGANIZER;CN=Museumsverein:mailto:eisenbarthmuseum@online.de
SEQUENCE:0
SUMMARY:"MarktmühlenZauber" - Musik & Wort am Museum
UID:e_100788659_iv1
URL:http://pages.destination.one/de/oberpfaelzerwald/streaming/detail/Event
 /e_100788659/marktm-hlenzauber-musik-wort-am-museum
END:VEVENT
BEGIN:VTIMEZONE
TZID:Europe/Berlin
X-LIC-LOCATION:Europe/Berlin
BEGIN:DAYLIGHT
DTSTART:19700329T020000
RRULE:FREQ=YEARLY;BYDAY=-1SU;BYMONTH=3
TZNAME:CEST
TZOFFSETFROM:+0100
TZOFFSETTO:+0200
END:DAYLIGHT
BEGIN:STANDARD
DTSTART:19701025T030000
RRULE:FREQ=YEARLY;BYDAY=-1SU;BYMONTH=10
TZNAME:CET
TZOFFSETFROM:+0200
TZOFFSETTO:+0100
END:STANDARD
END:VTIMEZONE
END:VCALENDAR
