BEGIN:VCALENDAR
VERSION:2.0
PRODID:-//destination.one//NONSGML destination.meta API//DE
X-WR-CALDESC:A calendar powered by destination.meta
X-WR-CALNAME:oberpfaelzerwald Kalender via destination.meta
BEGIN:VEVENT
CATEGORIES:Gastronomie
CATEGORIES:Genuss/Gourmet
DESCRIPTION:\n\nmehr Informationen unter http://pages.destination.one/de/ob
 erpfaelzerwald/streaming/detail/Event/e_100835078/schlemmerfr-hst-cksbuffe
 t
DTEND;TZID=Europe/Berlin:20240428T110000
DTSTAMP:20260421T101802Z
DTSTART;TZID=Europe/Berlin:20240428T090000
GEO:49.591101;12.409776
LOCATION:Cafe Eger\, Hauptstraße 20\, Moosbach
ORGANIZER;CN=Cafe Eger:mailto:info@cafe-eger.de
SEQUENCE:0
SUMMARY:Schlemmerfrühstücksbuffet
UID:e_100835078_iv0
URL:http://pages.destination.one/de/oberpfaelzerwald/streaming/detail/Event
 /e_100835078/schlemmerfr-hst-cksbuffet
END:VEVENT
BEGIN:VEVENT
CATEGORIES:Gastronomie
CATEGORIES:Genuss/Gourmet
DESCRIPTION:\n\nmehr Informationen unter http://pages.destination.one/de/ob
 erpfaelzerwald/streaming/detail/Event/e_100835078/schlemmerfr-hst-cksbuffe
 t
DTEND;TZID=Europe/Berlin:20240511T110000
DTSTAMP:20260421T101802Z
DTSTART;TZID=Europe/Berlin:20240511T090000
GEO:49.591101;12.409776
LOCATION:Cafe Eger\, Hauptstraße 20\, Moosbach
ORGANIZER;CN=Cafe Eger:mailto:info@cafe-eger.de
SEQUENCE:0
SUMMARY:Schlemmerfrühstücksbuffet
UID:e_100835078_iv1
URL:http://pages.destination.one/de/oberpfaelzerwald/streaming/detail/Event
 /e_100835078/schlemmerfr-hst-cksbuffet
END:VEVENT
BEGIN:VEVENT
CATEGORIES:Gastronomie
CATEGORIES:Genuss/Gourmet
DESCRIPTION:\n\nmehr Informationen unter http://pages.destination.one/de/ob
 erpfaelzerwald/streaming/detail/Event/e_100835078/schlemmerfr-hst-cksbuffe
 t
DTEND;TZID=Europe/Berlin:20240520T110000
DTSTAMP:20260421T101802Z
DTSTART;TZID=Europe/Berlin:20240520T090000
GEO:49.591101;12.409776
LOCATION:Cafe Eger\, Hauptstraße 20\, Moosbach
ORGANIZER;CN=Cafe Eger:mailto:info@cafe-eger.de
SEQUENCE:0
SUMMARY:Schlemmerfrühstücksbuffet
UID:e_100835078_iv2
URL:http://pages.destination.one/de/oberpfaelzerwald/streaming/detail/Event
 /e_100835078/schlemmerfr-hst-cksbuffet
END:VEVENT
BEGIN:VEVENT
CATEGORIES:Gastronomie
CATEGORIES:Genuss/Gourmet
DESCRIPTION:\n\nmehr Informationen unter http://pages.destination.one/de/ob
 erpfaelzerwald/streaming/detail/Event/e_100835078/schlemmerfr-hst-cksbuffe
 t
DTEND;TZID=Europe/Berlin:20240623T110000
DTSTAMP:20260421T101802Z
DTSTART;TZID=Europe/Berlin:20240623T090000
GEO:49.591101;12.409776
LOCATION:Cafe Eger\, Hauptstraße 20\, Moosbach
ORGANIZER;CN=Cafe Eger:mailto:info@cafe-eger.de
SEQUENCE:0
SUMMARY:Schlemmerfrühstücksbuffet
UID:e_100835078_iv3
URL:http://pages.destination.one/de/oberpfaelzerwald/streaming/detail/Event
 /e_100835078/schlemmerfr-hst-cksbuffet
END:VEVENT
BEGIN:VEVENT
CATEGORIES:Gastronomie
CATEGORIES:Genuss/Gourmet
DESCRIPTION:\n\nmehr Informationen unter http://pages.destination.one/de/ob
 erpfaelzerwald/streaming/detail/Event/e_100835078/schlemmerfr-hst-cksbuffe
 t
DTEND;TZID=Europe/Berlin:20240630T110000
DTSTAMP:20260421T101802Z
DTSTART;TZID=Europe/Berlin:20240630T090000
GEO:49.591101;12.409776
LOCATION:Cafe Eger\, Hauptstraße 20\, Moosbach
ORGANIZER;CN=Cafe Eger:mailto:info@cafe-eger.de
SEQUENCE:0
SUMMARY:Schlemmerfrühstücksbuffet
UID:e_100835078_iv4
URL:http://pages.destination.one/de/oberpfaelzerwald/streaming/detail/Event
 /e_100835078/schlemmerfr-hst-cksbuffet
END:VEVENT
BEGIN:VEVENT
CATEGORIES:Gastronomie
CATEGORIES:Genuss/Gourmet
DESCRIPTION:\n\nmehr Informationen unter http://pages.destination.one/de/ob
 erpfaelzerwald/streaming/detail/Event/e_100835078/schlemmerfr-hst-cksbuffe
 t
DTEND;TZID=Europe/Berlin:20240721T110000
DTSTAMP:20260421T101802Z
DTSTART;TZID=Europe/Berlin:20240721T090000
GEO:49.591101;12.409776
LOCATION:Cafe Eger\, Hauptstraße 20\, Moosbach
ORGANIZER;CN=Cafe Eger:mailto:info@cafe-eger.de
SEQUENCE:0
SUMMARY:Schlemmerfrühstücksbuffet
UID:e_100835078_iv5
URL:http://pages.destination.one/de/oberpfaelzerwald/streaming/detail/Event
 /e_100835078/schlemmerfr-hst-cksbuffet
END:VEVENT
BEGIN:VEVENT
CATEGORIES:Gastronomie
CATEGORIES:Genuss/Gourmet
DESCRIPTION:\n\nmehr Informationen unter http://pages.destination.one/de/ob
 erpfaelzerwald/streaming/detail/Event/e_100835078/schlemmerfr-hst-cksbuffe
 t
DTEND;TZID=Europe/Berlin:20260426T120000
DTSTAMP:20260421T101802Z
DTSTART;TZID=Europe/Berlin:20260426T090000
GEO:49.591101;12.409776
LOCATION:Cafe Eger\, Hauptstraße 20\, Moosbach
ORGANIZER;CN=Cafe Eger:mailto:info@cafe-eger.de
SEQUENCE:0
SUMMARY:Schlemmerfrühstücksbuffet
UID:e_100835078_iv6
URL:http://pages.destination.one/de/oberpfaelzerwald/streaming/detail/Event
 /e_100835078/schlemmerfr-hst-cksbuffet
END:VEVENT
BEGIN:VEVENT
CATEGORIES:Gastronomie
CATEGORIES:Genuss/Gourmet
DESCRIPTION:\n\nmehr Informationen unter http://pages.destination.one/de/ob
 erpfaelzerwald/streaming/detail/Event/e_100835078/schlemmerfr-hst-cksbuffe
 t
DTEND;TZID=Europe/Berlin:20260501T120000
DTSTAMP:20260421T101802Z
DTSTART;TZID=Europe/Berlin:20260501T093000
GEO:49.591101;12.409776
LOCATION:Cafe Eger\, Hauptstraße 20\, Moosbach
ORGANIZER;CN=Cafe Eger:mailto:info@cafe-eger.de
SEQUENCE:0
SUMMARY:Schlemmerfrühstücksbuffet
UID:e_100835078_iv7
URL:http://pages.destination.one/de/oberpfaelzerwald/streaming/detail/Event
 /e_100835078/schlemmerfr-hst-cksbuffet
END:VEVENT
BEGIN:VEVENT
CATEGORIES:Gastronomie
CATEGORIES:Genuss/Gourmet
DESCRIPTION:\n\nmehr Informationen unter http://pages.destination.one/de/ob
 erpfaelzerwald/streaming/detail/Event/e_100835078/schlemmerfr-hst-cksbuffe
 t
DTEND;TZID=Europe/Berlin:20260503T120000
DTSTAMP:20260421T101802Z
DTSTART;TZID=Europe/Berlin:20260503T090000
GEO:49.591101;12.409776
LOCATION:Cafe Eger\, Hauptstraße 20\, Moosbach
ORGANIZER;CN=Cafe Eger:mailto:info@cafe-eger.de
SEQUENCE:0
SUMMARY:Schlemmerfrühstücksbuffet
UID:e_100835078_iv8
URL:http://pages.destination.one/de/oberpfaelzerwald/streaming/detail/Event
 /e_100835078/schlemmerfr-hst-cksbuffet
END:VEVENT
BEGIN:VTIMEZONE
TZID:Europe/Berlin
X-LIC-LOCATION:Europe/Berlin
BEGIN:DAYLIGHT
DTSTART:19700329T020000
RRULE:FREQ=YEARLY;BYDAY=-1SU;BYMONTH=3
TZNAME:CEST
TZOFFSETFROM:+0100
TZOFFSETTO:+0200
END:DAYLIGHT
BEGIN:STANDARD
DTSTART:19701025T030000
RRULE:FREQ=YEARLY;BYDAY=-1SU;BYMONTH=10
TZNAME:CET
TZOFFSETFROM:+0200
TZOFFSETTO:+0100
END:STANDARD
END:VTIMEZONE
END:VCALENDAR
