BEGIN:VCALENDAR
VERSION:2.0
PRODID:-//destination.one//NONSGML destination.meta API//DE
X-WR-CALDESC:A calendar powered by destination.meta
X-WR-CALNAME:oberpfaelzerwald Kalender via destination.meta
BEGIN:VEVENT
CATEGORIES:Gastronomie
CATEGORIES:Genuss/Gourmet
CATEGORIES:Geselligkeit/Spiele/Treffen
CATEGORIES:Kinderprogramm
DESCRIPTION:\n\nmehr Informationen unter http://pages.destination.one/de/ob
 erpfaelzerwald/streaming/detail/Event/e_100876584/m-tter-treff
DTEND;TZID=Europe/Berlin:20240729T120000
DTSTAMP:20260423T110707Z
DTSTART;TZID=Europe/Berlin:20240729T090000
GEO:50.004176;12.083392
LOCATION:1. Meister BÄR HOTEL Fichtelgebirge\, Bahnhofsplatz 10\, Marktredw
 itz
ORGANIZER;CN=1. Meister BÄR HOTEL Fichtelgebirge:mailto:mak@mb-hotel.de
RRULE:FREQ=WEEKLY;BYDAY=MO
SEQUENCE:0
SUMMARY:Mütter-Treff
UID:e_100876584_iv0
URL:http://pages.destination.one/de/oberpfaelzerwald/streaming/detail/Event
 /e_100876584/m-tter-treff
END:VEVENT
BEGIN:VTIMEZONE
TZID:Europe/Berlin
X-LIC-LOCATION:Europe/Berlin
BEGIN:DAYLIGHT
DTSTART:19700329T020000
RRULE:FREQ=YEARLY;BYDAY=-1SU;BYMONTH=3
TZNAME:CEST
TZOFFSETFROM:+0100
TZOFFSETTO:+0200
END:DAYLIGHT
BEGIN:STANDARD
DTSTART:19701025T030000
RRULE:FREQ=YEARLY;BYDAY=-1SU;BYMONTH=10
TZNAME:CET
TZOFFSETFROM:+0200
TZOFFSETTO:+0100
END:STANDARD
END:VTIMEZONE
END:VCALENDAR
