BEGIN:VCALENDAR
VERSION:2.0
PRODID:-//destination.one//NONSGML destination.meta API//DE
X-WR-CALDESC:A calendar powered by destination.meta
X-WR-CALNAME:oberpfaelzerwald Kalender via destination.meta
BEGIN:VEVENT
CATEGORIES:Führung/Besichtigung
DESCRIPTION:Nur für Kinder ab 7 Jahren\; ohne Eltern.Anmeldung erforderlich
  unter Tel. 09431 45-550 wochentags bis spätestens 1 Stunde vor dem Führun
 gsbeginn. An Wochenenden bis spätestens Samstag\, 12:30 Uhr vor dem Führun
 gstermin.Warme Kleidung und festes Schuhwerk werden empfohlen.\n\nmehr Inf
 ormationen unter http://pages.destination.one/de/oberpfaelzerwald/streamin
 g/detail/Event/e_100911663/kinder-f-hrung-im-felsenkeller-labyrinth-kosten
 los-f-r-kinder-im-ferienprogramm
DTEND;TZID=Europe/Berlin:20260528T160000
DTSTAMP:20260421T124511Z
DTSTART;TZID=Europe/Berlin:20260528T140000
GEO:49.331331;12.108254
LOCATION:Tourismusbüro\, Kirchengasse 1\, Schwandorf
ORGANIZER;CN=Tourismusbüro:mailto:tourismus@schwandorf.de
SEQUENCE:0
SUMMARY:Kinder - Führung im Felsenkeller-Labyrinth - Kostenlos für Kinder i
 m Ferienprogramm
UID:e_100911663_iv0
URL:http://pages.destination.one/de/oberpfaelzerwald/streaming/detail/Event
 /e_100911663/kinder-f-hrung-im-felsenkeller-labyrinth-kostenlos-f-r-kinder
 -im-ferienprogramm
END:VEVENT
BEGIN:VTIMEZONE
TZID:Europe/Berlin
X-LIC-LOCATION:Europe/Berlin
BEGIN:DAYLIGHT
DTSTART:19700329T020000
RRULE:FREQ=YEARLY;BYDAY=-1SU;BYMONTH=3
TZNAME:CEST
TZOFFSETFROM:+0100
TZOFFSETTO:+0200
END:DAYLIGHT
BEGIN:STANDARD
DTSTART:19701025T030000
RRULE:FREQ=YEARLY;BYDAY=-1SU;BYMONTH=10
TZNAME:CET
TZOFFSETFROM:+0200
TZOFFSETTO:+0100
END:STANDARD
END:VTIMEZONE
END:VCALENDAR
