BEGIN:VCALENDAR
VERSION:2.0
PRODID:-//destination.one//NONSGML destination.meta API//DE
X-WR-CALDESC:A calendar powered by destination.meta
X-WR-CALNAME:oberpfaelzerwald Kalender via destination.meta
BEGIN:VEVENT
CATEGORIES:Konzert
CATEGORIES:Kulturkalender
CATEGORIES:Sonstiges
DESCRIPTION:\n\nmehr Informationen unter http://pages.destination.one/de/ob
 erpfaelzerwald/streaming/detail/Event/e_100978873/banal-fatal-best-of
DTEND;TZID=Europe/Berlin:20251214T235900
DTSTAMP:20260421T101828Z
DTSTART;TZID=Europe/Berlin:20251214T190000
GEO:49.799591;12.164204
LOCATION:Schafferhof GmbH\, Burgstr. 6\, Windischeschenbach
ORGANIZER;CN=Schafferhof GmbH:mailto:info@schafferhof-zoigl.de
SEQUENCE:0
SUMMARY:Banal Fatal - Best of  
UID:e_100978873_iv0
URL:http://pages.destination.one/de/oberpfaelzerwald/streaming/detail/Event
 /e_100978873/banal-fatal-best-of
END:VEVENT
BEGIN:VEVENT
CATEGORIES:Konzert
CATEGORIES:Kulturkalender
CATEGORIES:Sonstiges
DESCRIPTION:\n\nmehr Informationen unter http://pages.destination.one/de/ob
 erpfaelzerwald/streaming/detail/Event/e_100978873/banal-fatal-best-of
DTEND;TZID=Europe/Berlin:20261206T235900
DTSTAMP:20260421T101828Z
DTSTART;TZID=Europe/Berlin:20261206T190000
GEO:49.799591;12.164204
LOCATION:Schafferhof GmbH\, Burgstr. 6\, Windischeschenbach
ORGANIZER;CN=Schafferhof GmbH:mailto:info@schafferhof-zoigl.de
SEQUENCE:0
SUMMARY:Banal Fatal - Best of  
UID:e_100978873_iv1
URL:http://pages.destination.one/de/oberpfaelzerwald/streaming/detail/Event
 /e_100978873/banal-fatal-best-of
END:VEVENT
BEGIN:VTIMEZONE
TZID:Europe/Berlin
X-LIC-LOCATION:Europe/Berlin
BEGIN:DAYLIGHT
DTSTART:19700329T020000
RRULE:FREQ=YEARLY;BYDAY=-1SU;BYMONTH=3
TZNAME:CEST
TZOFFSETFROM:+0100
TZOFFSETTO:+0200
END:DAYLIGHT
BEGIN:STANDARD
DTSTART:19701025T030000
RRULE:FREQ=YEARLY;BYDAY=-1SU;BYMONTH=10
TZNAME:CET
TZOFFSETFROM:+0200
TZOFFSETTO:+0100
END:STANDARD
END:VTIMEZONE
END:VCALENDAR
