BEGIN:VCALENDAR
VERSION:2.0
PRODID:-//destination.one//NONSGML destination.meta API//DE
X-WR-CALDESC:A calendar powered by destination.meta
X-WR-CALNAME:oberpfaelzerwald Kalender via destination.meta
BEGIN:VEVENT
CATEGORIES:Genuss/Gourmet
DESCRIPTION:\n\nmehr Informationen unter http://pages.destination.one/de/ob
 erpfaelzerwald/streaming/detail/Event/e_100980410/after-work-wine-tasting
DTEND;TZID=Europe/Berlin:20250221T200000
DTSTAMP:20260421T115704Z
DTSTART;TZID=Europe/Berlin:20250221T170000
GEO:50.003119;12.305653
LOCATION:Weinhandel Achatz\, Kolpingstraße 2A\, Waldsassen
SEQUENCE:0
SUMMARY:After Work-Wine Tasting
UID:e_100980410_iv0
URL:http://pages.destination.one/de/oberpfaelzerwald/streaming/detail/Event
 /e_100980410/after-work-wine-tasting
END:VEVENT
BEGIN:VEVENT
CATEGORIES:Genuss/Gourmet
DESCRIPTION:\n\nmehr Informationen unter http://pages.destination.one/de/ob
 erpfaelzerwald/streaming/detail/Event/e_100980410/after-work-wine-tasting
DTEND;TZID=Europe/Berlin:20250328T210000
DTSTAMP:20260421T115704Z
DTSTART;TZID=Europe/Berlin:20250328T170000
GEO:50.003119;12.305653
LOCATION:Weinhandel Achatz\, Kolpingstraße 2A\, Waldsassen
SEQUENCE:0
SUMMARY:After Work-Wine Tasting
UID:e_100980410_iv1
URL:http://pages.destination.one/de/oberpfaelzerwald/streaming/detail/Event
 /e_100980410/after-work-wine-tasting
END:VEVENT
BEGIN:VEVENT
CATEGORIES:Genuss/Gourmet
DESCRIPTION:\n\nmehr Informationen unter http://pages.destination.one/de/ob
 erpfaelzerwald/streaming/detail/Event/e_100980410/after-work-wine-tasting
DTEND;TZID=Europe/Berlin:20250425T210000
DTSTAMP:20260421T115704Z
DTSTART;TZID=Europe/Berlin:20250425T170000
GEO:50.003119;12.305653
LOCATION:Weinhandel Achatz\, Kolpingstraße 2A\, Waldsassen
SEQUENCE:0
SUMMARY:After Work-Wine Tasting
UID:e_100980410_iv2
URL:http://pages.destination.one/de/oberpfaelzerwald/streaming/detail/Event
 /e_100980410/after-work-wine-tasting
END:VEVENT
BEGIN:VEVENT
CATEGORIES:Genuss/Gourmet
DESCRIPTION:\n\nmehr Informationen unter http://pages.destination.one/de/ob
 erpfaelzerwald/streaming/detail/Event/e_100980410/after-work-wine-tasting
DTEND;TZID=Europe/Berlin:20250530T210000
DTSTAMP:20260421T115704Z
DTSTART;TZID=Europe/Berlin:20250530T170000
GEO:50.003119;12.305653
LOCATION:Weinhandel Achatz\, Kolpingstraße 2A\, Waldsassen
SEQUENCE:0
SUMMARY:After Work-Wine Tasting
UID:e_100980410_iv3
URL:http://pages.destination.one/de/oberpfaelzerwald/streaming/detail/Event
 /e_100980410/after-work-wine-tasting
END:VEVENT
BEGIN:VEVENT
CATEGORIES:Genuss/Gourmet
DESCRIPTION:\n\nmehr Informationen unter http://pages.destination.one/de/ob
 erpfaelzerwald/streaming/detail/Event/e_100980410/after-work-wine-tasting
DTEND;TZID=Europe/Berlin:20250704T210000
DTSTAMP:20260421T115704Z
DTSTART;TZID=Europe/Berlin:20250704T170000
GEO:50.003119;12.305653
LOCATION:Weinhandel Achatz\, Kolpingstraße 2A\, Waldsassen
SEQUENCE:0
SUMMARY:After Work-Wine Tasting
UID:e_100980410_iv4
URL:http://pages.destination.one/de/oberpfaelzerwald/streaming/detail/Event
 /e_100980410/after-work-wine-tasting
END:VEVENT
BEGIN:VEVENT
CATEGORIES:Genuss/Gourmet
DESCRIPTION:\n\nmehr Informationen unter http://pages.destination.one/de/ob
 erpfaelzerwald/streaming/detail/Event/e_100980410/after-work-wine-tasting
DTEND;TZID=Europe/Berlin:20251031T210000
DTSTAMP:20260421T115704Z
DTSTART;TZID=Europe/Berlin:20251031T170000
GEO:50.003119;12.305653
LOCATION:Weinhandel Achatz\, Kolpingstraße 2A\, Waldsassen
SEQUENCE:0
SUMMARY:After Work-Wine Tasting
UID:e_100980410_iv5
URL:http://pages.destination.one/de/oberpfaelzerwald/streaming/detail/Event
 /e_100980410/after-work-wine-tasting
END:VEVENT
BEGIN:VEVENT
CATEGORIES:Genuss/Gourmet
DESCRIPTION:\n\nmehr Informationen unter http://pages.destination.one/de/ob
 erpfaelzerwald/streaming/detail/Event/e_100980410/after-work-wine-tasting
DTEND;TZID=Europe/Berlin:20251128T210000
DTSTAMP:20260421T115704Z
DTSTART;TZID=Europe/Berlin:20251128T170000
GEO:50.003119;12.305653
LOCATION:Weinhandel Achatz\, Kolpingstraße 2A\, Waldsassen
SEQUENCE:0
SUMMARY:After Work-Wine Tasting
UID:e_100980410_iv6
URL:http://pages.destination.one/de/oberpfaelzerwald/streaming/detail/Event
 /e_100980410/after-work-wine-tasting
END:VEVENT
BEGIN:VEVENT
CATEGORIES:Genuss/Gourmet
DESCRIPTION:\n\nmehr Informationen unter http://pages.destination.one/de/ob
 erpfaelzerwald/streaming/detail/Event/e_100980410/after-work-wine-tasting
DTEND;TZID=Europe/Berlin:20260130T210000
DTSTAMP:20260421T115704Z
DTSTART;TZID=Europe/Berlin:20260130T170000
GEO:50.003119;12.305653
LOCATION:Weinhandel Achatz\, Kolpingstraße 2A\, Waldsassen
SEQUENCE:0
SUMMARY:After Work-Wine Tasting
UID:e_100980410_iv7
URL:http://pages.destination.one/de/oberpfaelzerwald/streaming/detail/Event
 /e_100980410/after-work-wine-tasting
END:VEVENT
BEGIN:VEVENT
CATEGORIES:Genuss/Gourmet
DESCRIPTION:\n\nmehr Informationen unter http://pages.destination.one/de/ob
 erpfaelzerwald/streaming/detail/Event/e_100980410/after-work-wine-tasting
DTEND;TZID=Europe/Berlin:20260227T210000
DTSTAMP:20260421T115704Z
DTSTART;TZID=Europe/Berlin:20260227T170000
GEO:50.003119;12.305653
LOCATION:Weinhandel Achatz\, Kolpingstraße 2A\, Waldsassen
SEQUENCE:0
SUMMARY:After Work-Wine Tasting
UID:e_100980410_iv8
URL:http://pages.destination.one/de/oberpfaelzerwald/streaming/detail/Event
 /e_100980410/after-work-wine-tasting
END:VEVENT
BEGIN:VEVENT
CATEGORIES:Genuss/Gourmet
DESCRIPTION:\n\nmehr Informationen unter http://pages.destination.one/de/ob
 erpfaelzerwald/streaming/detail/Event/e_100980410/after-work-wine-tasting
DTEND;TZID=Europe/Berlin:20260327T210000
DTSTAMP:20260421T115704Z
DTSTART;TZID=Europe/Berlin:20260327T170000
GEO:50.003119;12.305653
LOCATION:Weinhandel Achatz\, Kolpingstraße 2A\, Waldsassen
SEQUENCE:0
SUMMARY:After Work-Wine Tasting
UID:e_100980410_iv9
URL:http://pages.destination.one/de/oberpfaelzerwald/streaming/detail/Event
 /e_100980410/after-work-wine-tasting
END:VEVENT
BEGIN:VEVENT
CATEGORIES:Genuss/Gourmet
DESCRIPTION:\n\nmehr Informationen unter http://pages.destination.one/de/ob
 erpfaelzerwald/streaming/detail/Event/e_100980410/after-work-wine-tasting
DTEND;TZID=Europe/Berlin:20260424T210000
DTSTAMP:20260421T115704Z
DTSTART;TZID=Europe/Berlin:20260424T170000
GEO:50.003119;12.305653
LOCATION:Weinhandel Achatz\, Kolpingstraße 2A\, Waldsassen
SEQUENCE:0
SUMMARY:After Work-Wine Tasting
UID:e_100980410_iv10
URL:http://pages.destination.one/de/oberpfaelzerwald/streaming/detail/Event
 /e_100980410/after-work-wine-tasting
END:VEVENT
BEGIN:VEVENT
CATEGORIES:Genuss/Gourmet
DESCRIPTION:\n\nmehr Informationen unter http://pages.destination.one/de/ob
 erpfaelzerwald/streaming/detail/Event/e_100980410/after-work-wine-tasting
DTEND;TZID=Europe/Berlin:20260529T210000
DTSTAMP:20260421T115704Z
DTSTART;TZID=Europe/Berlin:20260529T170000
GEO:50.003119;12.305653
LOCATION:Weinhandel Achatz\, Kolpingstraße 2A\, Waldsassen
SEQUENCE:0
SUMMARY:After Work-Wine Tasting
UID:e_100980410_iv11
URL:http://pages.destination.one/de/oberpfaelzerwald/streaming/detail/Event
 /e_100980410/after-work-wine-tasting
END:VEVENT
BEGIN:VEVENT
CATEGORIES:Genuss/Gourmet
DESCRIPTION:\n\nmehr Informationen unter http://pages.destination.one/de/ob
 erpfaelzerwald/streaming/detail/Event/e_100980410/after-work-wine-tasting
DTEND;TZID=Europe/Berlin:20260626T210000
DTSTAMP:20260421T115704Z
DTSTART;TZID=Europe/Berlin:20260626T170000
GEO:50.003119;12.305653
LOCATION:Weinhandel Achatz\, Kolpingstraße 2A\, Waldsassen
SEQUENCE:0
SUMMARY:After Work-Wine Tasting
UID:e_100980410_iv12
URL:http://pages.destination.one/de/oberpfaelzerwald/streaming/detail/Event
 /e_100980410/after-work-wine-tasting
END:VEVENT
BEGIN:VEVENT
CATEGORIES:Genuss/Gourmet
DESCRIPTION:\n\nmehr Informationen unter http://pages.destination.one/de/ob
 erpfaelzerwald/streaming/detail/Event/e_100980410/after-work-wine-tasting
DTEND;TZID=Europe/Berlin:20260731T210000
DTSTAMP:20260421T115704Z
DTSTART;TZID=Europe/Berlin:20260731T170000
GEO:50.003119;12.305653
LOCATION:Weinhandel Achatz\, Kolpingstraße 2A\, Waldsassen
SEQUENCE:0
SUMMARY:After Work-Wine Tasting
UID:e_100980410_iv13
URL:http://pages.destination.one/de/oberpfaelzerwald/streaming/detail/Event
 /e_100980410/after-work-wine-tasting
END:VEVENT
BEGIN:VEVENT
CATEGORIES:Genuss/Gourmet
DESCRIPTION:\n\nmehr Informationen unter http://pages.destination.one/de/ob
 erpfaelzerwald/streaming/detail/Event/e_100980410/after-work-wine-tasting
DTEND;TZID=Europe/Berlin:20260828T210000
DTSTAMP:20260421T115704Z
DTSTART;TZID=Europe/Berlin:20260828T170000
GEO:50.003119;12.305653
LOCATION:Weinhandel Achatz\, Kolpingstraße 2A\, Waldsassen
SEQUENCE:0
SUMMARY:After Work-Wine Tasting
UID:e_100980410_iv14
URL:http://pages.destination.one/de/oberpfaelzerwald/streaming/detail/Event
 /e_100980410/after-work-wine-tasting
END:VEVENT
BEGIN:VEVENT
CATEGORIES:Genuss/Gourmet
DESCRIPTION:\n\nmehr Informationen unter http://pages.destination.one/de/ob
 erpfaelzerwald/streaming/detail/Event/e_100980410/after-work-wine-tasting
DTEND;TZID=Europe/Berlin:20260925T210000
DTSTAMP:20260421T115704Z
DTSTART;TZID=Europe/Berlin:20260925T170000
GEO:50.003119;12.305653
LOCATION:Weinhandel Achatz\, Kolpingstraße 2A\, Waldsassen
SEQUENCE:0
SUMMARY:After Work-Wine Tasting
UID:e_100980410_iv15
URL:http://pages.destination.one/de/oberpfaelzerwald/streaming/detail/Event
 /e_100980410/after-work-wine-tasting
END:VEVENT
BEGIN:VEVENT
CATEGORIES:Genuss/Gourmet
DESCRIPTION:\n\nmehr Informationen unter http://pages.destination.one/de/ob
 erpfaelzerwald/streaming/detail/Event/e_100980410/after-work-wine-tasting
DTEND;TZID=Europe/Berlin:20261030T210000
DTSTAMP:20260421T115704Z
DTSTART;TZID=Europe/Berlin:20261030T170000
GEO:50.003119;12.305653
LOCATION:Weinhandel Achatz\, Kolpingstraße 2A\, Waldsassen
SEQUENCE:0
SUMMARY:After Work-Wine Tasting
UID:e_100980410_iv16
URL:http://pages.destination.one/de/oberpfaelzerwald/streaming/detail/Event
 /e_100980410/after-work-wine-tasting
END:VEVENT
BEGIN:VEVENT
CATEGORIES:Genuss/Gourmet
DESCRIPTION:\n\nmehr Informationen unter http://pages.destination.one/de/ob
 erpfaelzerwald/streaming/detail/Event/e_100980410/after-work-wine-tasting
DTEND;TZID=Europe/Berlin:20261127T210000
DTSTAMP:20260421T115704Z
DTSTART;TZID=Europe/Berlin:20261127T170000
GEO:50.003119;12.305653
LOCATION:Weinhandel Achatz\, Kolpingstraße 2A\, Waldsassen
SEQUENCE:0
SUMMARY:After Work-Wine Tasting
UID:e_100980410_iv17
URL:http://pages.destination.one/de/oberpfaelzerwald/streaming/detail/Event
 /e_100980410/after-work-wine-tasting
END:VEVENT
BEGIN:VTIMEZONE
TZID:Europe/Berlin
X-LIC-LOCATION:Europe/Berlin
BEGIN:DAYLIGHT
DTSTART:19700329T020000
RRULE:FREQ=YEARLY;BYDAY=-1SU;BYMONTH=3
TZNAME:CEST
TZOFFSETFROM:+0100
TZOFFSETTO:+0200
END:DAYLIGHT
BEGIN:STANDARD
DTSTART:19701025T030000
RRULE:FREQ=YEARLY;BYDAY=-1SU;BYMONTH=10
TZNAME:CET
TZOFFSETFROM:+0200
TZOFFSETTO:+0100
END:STANDARD
END:VTIMEZONE
END:VCALENDAR
