BEGIN:VCALENDAR
VERSION:2.0
PRODID:-//destination.one//NONSGML destination.meta API//DE
X-WR-CALDESC:A calendar powered by destination.meta
X-WR-CALNAME:oberpfaelzerwald Kalender via destination.meta
BEGIN:VEVENT
CATEGORIES:Sonstiges
CATEGORIES:Ausstellung
DESCRIPTION:Der Generationenbeirat und die Gemeinde Bodenwöhr  laden alle B
 ürger herzlich zum Besuch der 2. Hammerseemesse in die Hammerseehalle ein.
 \n\nmehr Informationen unter http://pages.destination.one/de/oberpfaelzerw
 ald/streaming/detail/Event/e_101012501/2-hammerseemesse
DTEND;TZID=Europe/Berlin:20250920T180000
DTSTAMP:20260422T093847Z
DTSTART;TZID=Europe/Berlin:20250920T100000
GEO:49.271718;12.318817
LOCATION:Hammerseehalle\, Schulstraße 7\, Bodenwöhr
ORGANIZER;CN=Generationenbeirat Bodenwöhr:mailto:robert-gruber@t-online.de
SEQUENCE:0
SUMMARY:2. Hammerseemesse
UID:e_101012501_iv0
URL:http://pages.destination.one/de/oberpfaelzerwald/streaming/detail/Event
 /e_101012501/2-hammerseemesse
END:VEVENT
BEGIN:VEVENT
CATEGORIES:Sonstiges
CATEGORIES:Ausstellung
DESCRIPTION:Der Generationenbeirat und die Gemeinde Bodenwöhr  laden alle B
 ürger herzlich zum Besuch der 2. Hammerseemesse in die Hammerseehalle ein.
 \n\nmehr Informationen unter http://pages.destination.one/de/oberpfaelzerw
 ald/streaming/detail/Event/e_101012501/2-hammerseemesse
DTEND;TZID=Europe/Berlin:20250921T160000
DTSTAMP:20260422T093847Z
DTSTART;TZID=Europe/Berlin:20250921T100000
GEO:49.271718;12.318817
LOCATION:Hammerseehalle\, Schulstraße 7\, Bodenwöhr
ORGANIZER;CN=Generationenbeirat Bodenwöhr:mailto:robert-gruber@t-online.de
SEQUENCE:0
SUMMARY:2. Hammerseemesse
UID:e_101012501_iv1
URL:http://pages.destination.one/de/oberpfaelzerwald/streaming/detail/Event
 /e_101012501/2-hammerseemesse
END:VEVENT
BEGIN:VEVENT
CATEGORIES:Sonstiges
CATEGORIES:Ausstellung
DESCRIPTION:Der Generationenbeirat und die Gemeinde Bodenwöhr  laden alle B
 ürger herzlich zum Besuch der 2. Hammerseemesse in die Hammerseehalle ein.
 \n\nmehr Informationen unter http://pages.destination.one/de/oberpfaelzerw
 ald/streaming/detail/Event/e_101012501/2-hammerseemesse
DTEND;TZID=Europe/Berlin:20260926T180000
DTSTAMP:20260422T093847Z
DTSTART;TZID=Europe/Berlin:20260926T100000
GEO:49.271718;12.318817
LOCATION:Hammerseehalle\, Schulstraße 7\, Bodenwöhr
ORGANIZER;CN=Generationenbeirat Bodenwöhr:mailto:robert-gruber@t-online.de
SEQUENCE:0
SUMMARY:2. Hammerseemesse
UID:e_101012501_iv2
URL:http://pages.destination.one/de/oberpfaelzerwald/streaming/detail/Event
 /e_101012501/2-hammerseemesse
END:VEVENT
BEGIN:VEVENT
CATEGORIES:Sonstiges
CATEGORIES:Ausstellung
DESCRIPTION:Der Generationenbeirat und die Gemeinde Bodenwöhr  laden alle B
 ürger herzlich zum Besuch der 2. Hammerseemesse in die Hammerseehalle ein.
 \n\nmehr Informationen unter http://pages.destination.one/de/oberpfaelzerw
 ald/streaming/detail/Event/e_101012501/2-hammerseemesse
DTEND;TZID=Europe/Berlin:20260927T160000
DTSTAMP:20260422T093847Z
DTSTART;TZID=Europe/Berlin:20260927T100000
GEO:49.271718;12.318817
LOCATION:Hammerseehalle\, Schulstraße 7\, Bodenwöhr
ORGANIZER;CN=Generationenbeirat Bodenwöhr:mailto:robert-gruber@t-online.de
SEQUENCE:0
SUMMARY:2. Hammerseemesse
UID:e_101012501_iv3
URL:http://pages.destination.one/de/oberpfaelzerwald/streaming/detail/Event
 /e_101012501/2-hammerseemesse
END:VEVENT
BEGIN:VTIMEZONE
TZID:Europe/Berlin
X-LIC-LOCATION:Europe/Berlin
BEGIN:DAYLIGHT
DTSTART:19700329T020000
RRULE:FREQ=YEARLY;BYDAY=-1SU;BYMONTH=3
TZNAME:CEST
TZOFFSETFROM:+0100
TZOFFSETTO:+0200
END:DAYLIGHT
BEGIN:STANDARD
DTSTART:19701025T030000
RRULE:FREQ=YEARLY;BYDAY=-1SU;BYMONTH=10
TZNAME:CET
TZOFFSETFROM:+0200
TZOFFSETTO:+0100
END:STANDARD
END:VTIMEZONE
END:VCALENDAR
