BEGIN:VCALENDAR
VERSION:2.0
PRODID:-//destination.one//NONSGML destination.meta API//DE
X-WR-CALDESC:A calendar powered by destination.meta
X-WR-CALNAME:oberpfaelzerwald Kalender via destination.meta
BEGIN:VEVENT
CATEGORIES:Konzert
CATEGORIES:Kulturkalender
DESCRIPTION:\n\nmehr Informationen unter http://pages.destination.one/de/ob
 erpfaelzerwald/streaming/detail/Event/e_101048684/moosbacher-musiksommer-s
 erenade-mit-saitenwind
DTEND;TZID=Europe/Berlin:20250715T210000
DTSTAMP:20260423T105824Z
DTSTART;TZID=Europe/Berlin:20250715T190000
GEO:49.589404;12.418242
LOCATION:Generationenpark Gruberbachtal Moosbach\, Eslarner Straße (am Orts
 ausgang Richtung Eslarn links)\, Moosbach
ORGANIZER;CN=Markt Moosbach:mailto:markt-moosbach@moosbach.de
SEQUENCE:0
SUMMARY:Moosbacher Musiksommer: Serenade mit "Saitenwind"
UID:e_101048684_iv0
URL:http://pages.destination.one/de/oberpfaelzerwald/streaming/detail/Event
 /e_101048684/moosbacher-musiksommer-serenade-mit-saitenwind
END:VEVENT
BEGIN:VEVENT
CATEGORIES:Konzert
CATEGORIES:Kulturkalender
DESCRIPTION:\n\nmehr Informationen unter http://pages.destination.one/de/ob
 erpfaelzerwald/streaming/detail/Event/e_101048684/moosbacher-musiksommer-s
 erenade-mit-saitenwind
DTEND;TZID=Europe/Berlin:20260728T203000
DTSTAMP:20260423T105824Z
DTSTART;TZID=Europe/Berlin:20260728T190000
GEO:49.589404;12.418242
LOCATION:Generationenpark Gruberbachtal Moosbach\, Eslarner Straße (am Orts
 ausgang Richtung Eslarn links)\, Moosbach
ORGANIZER;CN=Markt Moosbach:mailto:markt-moosbach@moosbach.de
SEQUENCE:0
SUMMARY:Moosbacher Musiksommer: Serenade mit "Saitenwind"
UID:e_101048684_iv1
URL:http://pages.destination.one/de/oberpfaelzerwald/streaming/detail/Event
 /e_101048684/moosbacher-musiksommer-serenade-mit-saitenwind
END:VEVENT
BEGIN:VTIMEZONE
TZID:Europe/Berlin
X-LIC-LOCATION:Europe/Berlin
BEGIN:DAYLIGHT
DTSTART:19700329T020000
RRULE:FREQ=YEARLY;BYDAY=-1SU;BYMONTH=3
TZNAME:CEST
TZOFFSETFROM:+0100
TZOFFSETTO:+0200
END:DAYLIGHT
BEGIN:STANDARD
DTSTART:19701025T030000
RRULE:FREQ=YEARLY;BYDAY=-1SU;BYMONTH=10
TZNAME:CET
TZOFFSETFROM:+0200
TZOFFSETTO:+0100
END:STANDARD
END:VTIMEZONE
END:VCALENDAR
