BEGIN:VCALENDAR
VERSION:2.0
PRODID:-//destination.one//NONSGML destination.meta API//DE
X-WR-CALDESC:A calendar powered by destination.meta
X-WR-CALNAME:oberpfaelzerwald Kalender via destination.meta
BEGIN:VEVENT
CATEGORIES:Brauchtum/Kultur
CATEGORIES:Bühnenkunst
CATEGORIES:Feste/Bälle/Tanz
CATEGORIES:Gastronomie
CATEGORIES:Genuss/Gourmet
CATEGORIES:Geselligkeit/Spiele/Treffen
CATEGORIES:Gesundheit/Wellness
CATEGORIES:Konzert
CATEGORIES:Kulturkalender
CATEGORIES:Party
CATEGORIES:Regionale Spezialitäten
CATEGORIES:Romantik
CATEGORIES:Sonstiges
CATEGORIES:Volks- und Straßenfeste
DESCRIPTION:\n\nmehr Informationen unter http://pages.destination.one/de/ob
 erpfaelzerwald/streaming/detail/Event/e_101054424/d-naabtaler-musikanten-5
 0-jahre
DTEND;TZID=Europe/Berlin:20260530T235900
DTSTAMP:20260421T161419Z
DTSTART;TZID=Europe/Berlin:20260530T140000
GEO:49.553463;12.141493
LOCATION:ehem. Gasthaus Braun\, Diebrunn 12\, Wernberg-Köblitz
ORGANIZER;CN=d´Naabtaler Musikanten:mailto:joh-braun@freenet.de
SEQUENCE:0
SUMMARY:d´Naabtaler Musikanten - 50 Jahre
UID:e_101054424_iv0
URL:http://pages.destination.one/de/oberpfaelzerwald/streaming/detail/Event
 /e_101054424/d-naabtaler-musikanten-50-jahre
END:VEVENT
BEGIN:VTIMEZONE
TZID:Europe/Berlin
X-LIC-LOCATION:Europe/Berlin
BEGIN:DAYLIGHT
DTSTART:19700329T020000
RRULE:FREQ=YEARLY;BYDAY=-1SU;BYMONTH=3
TZNAME:CEST
TZOFFSETFROM:+0100
TZOFFSETTO:+0200
END:DAYLIGHT
BEGIN:STANDARD
DTSTART:19701025T030000
RRULE:FREQ=YEARLY;BYDAY=-1SU;BYMONTH=10
TZNAME:CET
TZOFFSETFROM:+0200
TZOFFSETTO:+0100
END:STANDARD
END:VTIMEZONE
END:VCALENDAR
