BEGIN:VCALENDAR
VERSION:2.0
PRODID:-//destination.one//NONSGML destination.meta API//DE
X-WR-CALDESC:A calendar powered by destination.meta
X-WR-CALNAME:oberpfaelzerwald Kalender via destination.meta
BEGIN:VEVENT
CATEGORIES:Brauchtum/Kultur
CATEGORIES:Führung/Besichtigung
CATEGORIES:Kulturkalender
CATEGORIES:Wanderung
DESCRIPTION:Wanderung zur rund 900 Jahre alten Burgruine\, die weithin sich
 tbar über dem Murachtal thront. Entlang des Weges werden zahlreiche Zeugni
 sse der geschichtlichen Entwicklung Oberviechtachs erkundet. Gästeführer: 
 Dr. Bernd Schilling | Diplom-Geologe und Geoparkranger"Geologie ist so spa
 nnend wie ein Krimi!"\n\nmehr Informationen unter http://pages.destination
 .one/de/oberpfaelzerwald/streaming/detail/Event/e_101066932/granit-und-ges
 chichte-in-oberviechtach-wanderung-um-und-zur-burgruine-haus-murach
DTEND;TZID=Europe/Berlin:20250622T235900
DTSTAMP:20260421T110912Z
DTSTART;TZID=Europe/Berlin:20250622T140000
GEO:49.445361;12.393007
LOCATION:Erlebnisspielplatz in Obermurach\, Nabburger Str. 2\, Oberviechtac
 h
ORGANIZER;CN=Geopark Bayern-Böhmen:mailto:tourismus@oberviechtach.de
SEQUENCE:0
SUMMARY:Granit und Geschichte in Oberviechtach - Wanderung um und zur Burgr
 uine Haus Murach
UID:e_101066932_iv0
URL:http://pages.destination.one/de/oberpfaelzerwald/streaming/detail/Event
 /e_101066932/granit-und-geschichte-in-oberviechtach-wanderung-um-und-zur-b
 urgruine-haus-murach
END:VEVENT
BEGIN:VEVENT
CATEGORIES:Brauchtum/Kultur
CATEGORIES:Führung/Besichtigung
CATEGORIES:Kulturkalender
CATEGORIES:Wanderung
DESCRIPTION:Wanderung zur rund 900 Jahre alten Burgruine\, die weithin sich
 tbar über dem Murachtal thront. Entlang des Weges werden zahlreiche Zeugni
 sse der geschichtlichen Entwicklung Oberviechtachs erkundet. Gästeführer: 
 Dr. Bernd Schilling | Diplom-Geologe und Geoparkranger"Geologie ist so spa
 nnend wie ein Krimi!"\n\nmehr Informationen unter http://pages.destination
 .one/de/oberpfaelzerwald/streaming/detail/Event/e_101066932/granit-und-ges
 chichte-in-oberviechtach-wanderung-um-und-zur-burgruine-haus-murach
DTEND;TZID=Europe/Berlin:20250713T235900
DTSTAMP:20260421T110912Z
DTSTART;TZID=Europe/Berlin:20250713T140000
GEO:49.445361;12.393007
LOCATION:Erlebnisspielplatz in Obermurach\, Nabburger Str. 2\, Oberviechtac
 h
ORGANIZER;CN=Geopark Bayern-Böhmen:mailto:tourismus@oberviechtach.de
SEQUENCE:0
SUMMARY:Granit und Geschichte in Oberviechtach - Wanderung um und zur Burgr
 uine Haus Murach
UID:e_101066932_iv1
URL:http://pages.destination.one/de/oberpfaelzerwald/streaming/detail/Event
 /e_101066932/granit-und-geschichte-in-oberviechtach-wanderung-um-und-zur-b
 urgruine-haus-murach
END:VEVENT
BEGIN:VEVENT
CATEGORIES:Brauchtum/Kultur
CATEGORIES:Führung/Besichtigung
CATEGORIES:Kulturkalender
CATEGORIES:Wanderung
DESCRIPTION:Wanderung zur rund 900 Jahre alten Burgruine\, die weithin sich
 tbar über dem Murachtal thront. Entlang des Weges werden zahlreiche Zeugni
 sse der geschichtlichen Entwicklung Oberviechtachs erkundet. Gästeführer: 
 Dr. Bernd Schilling | Diplom-Geologe und Geoparkranger"Geologie ist so spa
 nnend wie ein Krimi!"\n\nmehr Informationen unter http://pages.destination
 .one/de/oberpfaelzerwald/streaming/detail/Event/e_101066932/granit-und-ges
 chichte-in-oberviechtach-wanderung-um-und-zur-burgruine-haus-murach
DTEND;TZID=Europe/Berlin:20260621T235900
DTSTAMP:20260421T110912Z
DTSTART;TZID=Europe/Berlin:20260621T140000
GEO:49.445361;12.393007
LOCATION:Erlebnisspielplatz in Obermurach\, Nabburger Str. 2\, Oberviechtac
 h
ORGANIZER;CN=Geopark Bayern-Böhmen:mailto:tourismus@oberviechtach.de
SEQUENCE:0
SUMMARY:Granit und Geschichte in Oberviechtach - Wanderung um und zur Burgr
 uine Haus Murach
UID:e_101066932_iv2
URL:http://pages.destination.one/de/oberpfaelzerwald/streaming/detail/Event
 /e_101066932/granit-und-geschichte-in-oberviechtach-wanderung-um-und-zur-b
 urgruine-haus-murach
END:VEVENT
BEGIN:VEVENT
CATEGORIES:Brauchtum/Kultur
CATEGORIES:Führung/Besichtigung
CATEGORIES:Kulturkalender
CATEGORIES:Wanderung
DESCRIPTION:Wanderung zur rund 900 Jahre alten Burgruine\, die weithin sich
 tbar über dem Murachtal thront. Entlang des Weges werden zahlreiche Zeugni
 sse der geschichtlichen Entwicklung Oberviechtachs erkundet. Gästeführer: 
 Dr. Bernd Schilling | Diplom-Geologe und Geoparkranger"Geologie ist so spa
 nnend wie ein Krimi!"\n\nmehr Informationen unter http://pages.destination
 .one/de/oberpfaelzerwald/streaming/detail/Event/e_101066932/granit-und-ges
 chichte-in-oberviechtach-wanderung-um-und-zur-burgruine-haus-murach
DTEND;TZID=Europe/Berlin:20260726T235900
DTSTAMP:20260421T110912Z
DTSTART;TZID=Europe/Berlin:20260726T140000
GEO:49.445361;12.393007
LOCATION:Erlebnisspielplatz in Obermurach\, Nabburger Str. 2\, Oberviechtac
 h
ORGANIZER;CN=Geopark Bayern-Böhmen:mailto:tourismus@oberviechtach.de
SEQUENCE:0
SUMMARY:Granit und Geschichte in Oberviechtach - Wanderung um und zur Burgr
 uine Haus Murach
UID:e_101066932_iv3
URL:http://pages.destination.one/de/oberpfaelzerwald/streaming/detail/Event
 /e_101066932/granit-und-geschichte-in-oberviechtach-wanderung-um-und-zur-b
 urgruine-haus-murach
END:VEVENT
BEGIN:VTIMEZONE
TZID:Europe/Berlin
X-LIC-LOCATION:Europe/Berlin
BEGIN:DAYLIGHT
DTSTART:19700329T020000
RRULE:FREQ=YEARLY;BYDAY=-1SU;BYMONTH=3
TZNAME:CEST
TZOFFSETFROM:+0100
TZOFFSETTO:+0200
END:DAYLIGHT
BEGIN:STANDARD
DTSTART:19701025T030000
RRULE:FREQ=YEARLY;BYDAY=-1SU;BYMONTH=10
TZNAME:CET
TZOFFSETFROM:+0200
TZOFFSETTO:+0100
END:STANDARD
END:VTIMEZONE
END:VCALENDAR
