BEGIN:VCALENDAR
VERSION:2.0
PRODID:-//destination.one//NONSGML destination.meta API//DE
X-WR-CALDESC:A calendar powered by destination.meta
X-WR-CALNAME:oberpfaelzerwald Kalender via destination.meta
BEGIN:VEVENT
CATEGORIES:Bühnenkunst
CATEGORIES:Kulturkalender
CATEGORIES:Theater/Festspiele
DESCRIPTION:\n\nmehr Informationen unter http://pages.destination.one/de/ob
 erpfaelzerwald/streaming/detail/Event/e_101091826/ovigo-theater-robin-hood
DTEND;TZID=Europe/Berlin:20260704T160000
DTSTAMP:20260421T121424Z
DTSTART;TZID=Europe/Berlin:20260704T140000
GEO:49.594231;12.389896
LOCATION:Schlossanlage Burgtreswitz\, Schlosshof 1\, Moosbach
SEQUENCE:0
SUMMARY:OVIGO-Theater: Robin Hood
UID:e_101091826_iv0
URL:http://pages.destination.one/de/oberpfaelzerwald/streaming/detail/Event
 /e_101091826/ovigo-theater-robin-hood
END:VEVENT
BEGIN:VEVENT
CATEGORIES:Bühnenkunst
CATEGORIES:Kulturkalender
CATEGORIES:Theater/Festspiele
DESCRIPTION:\n\nmehr Informationen unter http://pages.destination.one/de/ob
 erpfaelzerwald/streaming/detail/Event/e_101091826/ovigo-theater-robin-hood
DTEND;TZID=Europe/Berlin:20260704T190000
DTSTAMP:20260421T121424Z
DTSTART;TZID=Europe/Berlin:20260704T170000
GEO:49.594231;12.389896
LOCATION:Schlossanlage Burgtreswitz\, Schlosshof 1\, Moosbach
SEQUENCE:0
SUMMARY:OVIGO-Theater: Robin Hood
UID:e_101091826_iv1
URL:http://pages.destination.one/de/oberpfaelzerwald/streaming/detail/Event
 /e_101091826/ovigo-theater-robin-hood
END:VEVENT
BEGIN:VEVENT
CATEGORIES:Bühnenkunst
CATEGORIES:Kulturkalender
CATEGORIES:Theater/Festspiele
DESCRIPTION:\n\nmehr Informationen unter http://pages.destination.one/de/ob
 erpfaelzerwald/streaming/detail/Event/e_101091826/ovigo-theater-robin-hood
DTEND;TZID=Europe/Berlin:20260705T160000
DTSTAMP:20260421T121424Z
DTSTART;TZID=Europe/Berlin:20260705T140000
GEO:49.594231;12.389896
LOCATION:Schlossanlage Burgtreswitz\, Schlosshof 1\, Moosbach
SEQUENCE:0
SUMMARY:OVIGO-Theater: Robin Hood
UID:e_101091826_iv2
URL:http://pages.destination.one/de/oberpfaelzerwald/streaming/detail/Event
 /e_101091826/ovigo-theater-robin-hood
END:VEVENT
BEGIN:VEVENT
CATEGORIES:Bühnenkunst
CATEGORIES:Kulturkalender
CATEGORIES:Theater/Festspiele
DESCRIPTION:\n\nmehr Informationen unter http://pages.destination.one/de/ob
 erpfaelzerwald/streaming/detail/Event/e_101091826/ovigo-theater-robin-hood
DTEND;TZID=Europe/Berlin:20260705T190000
DTSTAMP:20260421T121424Z
DTSTART;TZID=Europe/Berlin:20260705T170000
GEO:49.594231;12.389896
LOCATION:Schlossanlage Burgtreswitz\, Schlosshof 1\, Moosbach
SEQUENCE:0
SUMMARY:OVIGO-Theater: Robin Hood
UID:e_101091826_iv3
URL:http://pages.destination.one/de/oberpfaelzerwald/streaming/detail/Event
 /e_101091826/ovigo-theater-robin-hood
END:VEVENT
BEGIN:VEVENT
CATEGORIES:Bühnenkunst
CATEGORIES:Kulturkalender
CATEGORIES:Theater/Festspiele
DESCRIPTION:\n\nmehr Informationen unter http://pages.destination.one/de/ob
 erpfaelzerwald/streaming/detail/Event/e_101091826/ovigo-theater-robin-hood
DTEND;TZID=Europe/Berlin:20260711T160000
DTSTAMP:20260421T121424Z
DTSTART;TZID=Europe/Berlin:20260711T140000
GEO:49.594231;12.389896
LOCATION:Schlossanlage Burgtreswitz\, Schlosshof 1\, Moosbach
SEQUENCE:0
SUMMARY:OVIGO-Theater: Robin Hood
UID:e_101091826_iv4
URL:http://pages.destination.one/de/oberpfaelzerwald/streaming/detail/Event
 /e_101091826/ovigo-theater-robin-hood
END:VEVENT
BEGIN:VEVENT
CATEGORIES:Bühnenkunst
CATEGORIES:Kulturkalender
CATEGORIES:Theater/Festspiele
DESCRIPTION:\n\nmehr Informationen unter http://pages.destination.one/de/ob
 erpfaelzerwald/streaming/detail/Event/e_101091826/ovigo-theater-robin-hood
DTEND;TZID=Europe/Berlin:20260711T190000
DTSTAMP:20260421T121424Z
DTSTART;TZID=Europe/Berlin:20260711T170000
GEO:49.594231;12.389896
LOCATION:Schlossanlage Burgtreswitz\, Schlosshof 1\, Moosbach
SEQUENCE:0
SUMMARY:OVIGO-Theater: Robin Hood
UID:e_101091826_iv5
URL:http://pages.destination.one/de/oberpfaelzerwald/streaming/detail/Event
 /e_101091826/ovigo-theater-robin-hood
END:VEVENT
BEGIN:VEVENT
CATEGORIES:Bühnenkunst
CATEGORIES:Kulturkalender
CATEGORIES:Theater/Festspiele
DESCRIPTION:\n\nmehr Informationen unter http://pages.destination.one/de/ob
 erpfaelzerwald/streaming/detail/Event/e_101091826/ovigo-theater-robin-hood
DTEND;TZID=Europe/Berlin:20260712T160000
DTSTAMP:20260421T121424Z
DTSTART;TZID=Europe/Berlin:20260712T140000
GEO:49.594231;12.389896
LOCATION:Schlossanlage Burgtreswitz\, Schlosshof 1\, Moosbach
SEQUENCE:0
SUMMARY:OVIGO-Theater: Robin Hood
UID:e_101091826_iv6
URL:http://pages.destination.one/de/oberpfaelzerwald/streaming/detail/Event
 /e_101091826/ovigo-theater-robin-hood
END:VEVENT
BEGIN:VEVENT
CATEGORIES:Bühnenkunst
CATEGORIES:Kulturkalender
CATEGORIES:Theater/Festspiele
DESCRIPTION:\n\nmehr Informationen unter http://pages.destination.one/de/ob
 erpfaelzerwald/streaming/detail/Event/e_101091826/ovigo-theater-robin-hood
DTEND;TZID=Europe/Berlin:20260712T190000
DTSTAMP:20260421T121424Z
DTSTART;TZID=Europe/Berlin:20260712T170000
GEO:49.594231;12.389896
LOCATION:Schlossanlage Burgtreswitz\, Schlosshof 1\, Moosbach
SEQUENCE:0
SUMMARY:OVIGO-Theater: Robin Hood
UID:e_101091826_iv7
URL:http://pages.destination.one/de/oberpfaelzerwald/streaming/detail/Event
 /e_101091826/ovigo-theater-robin-hood
END:VEVENT
BEGIN:VTIMEZONE
TZID:Europe/Berlin
X-LIC-LOCATION:Europe/Berlin
BEGIN:DAYLIGHT
DTSTART:19700329T020000
RRULE:FREQ=YEARLY;BYDAY=-1SU;BYMONTH=3
TZNAME:CEST
TZOFFSETFROM:+0100
TZOFFSETTO:+0200
END:DAYLIGHT
BEGIN:STANDARD
DTSTART:19701025T030000
RRULE:FREQ=YEARLY;BYDAY=-1SU;BYMONTH=10
TZNAME:CET
TZOFFSETFROM:+0200
TZOFFSETTO:+0100
END:STANDARD
END:VTIMEZONE
END:VCALENDAR
