BEGIN:VCALENDAR
VERSION:2.0
PRODID:-//destination.one//NONSGML destination.meta API//DE
X-WR-CALDESC:A calendar powered by destination.meta
X-WR-CALNAME:oberpfaelzerwald Kalender via destination.meta
BEGIN:VEVENT
CATEGORIES:Theater/Festspiele
DESCRIPTION:\n\nmehr Informationen unter http://pages.destination.one/de/ob
 erpfaelzerwald/streaming/detail/Event/e_101108164/dinner-mit-killer-das-ge
 heimnis-der-blutgr-fin
DTEND;TZID=Europe/Berlin:20261023T223000
DTSTAMP:20260421T120050Z
DTSTART;TZID=Europe/Berlin:20261023T190000
GEO:49.463404;12.428874
LOCATION:Restaurant "Emil-Kemmer-Haus"\, Schönseer Straße 47\, Oberviechtac
 h
ORGANIZER;CN=OVIGO Theater:mailto:info@ovigo-theater.de
PRIORITY:4
SEQUENCE:0
SUMMARY:Dinner mit Killer: "Das Geheimnis der Blutgräfin"
UID:e_101108164_iv0
URL:http://pages.destination.one/de/oberpfaelzerwald/streaming/detail/Event
 /e_101108164/dinner-mit-killer-das-geheimnis-der-blutgr-fin
END:VEVENT
BEGIN:VTIMEZONE
TZID:Europe/Berlin
X-LIC-LOCATION:Europe/Berlin
BEGIN:DAYLIGHT
DTSTART:19700329T020000
RRULE:FREQ=YEARLY;BYDAY=-1SU;BYMONTH=3
TZNAME:CEST
TZOFFSETFROM:+0100
TZOFFSETTO:+0200
END:DAYLIGHT
BEGIN:STANDARD
DTSTART:19701025T030000
RRULE:FREQ=YEARLY;BYDAY=-1SU;BYMONTH=10
TZNAME:CET
TZOFFSETFROM:+0200
TZOFFSETTO:+0100
END:STANDARD
END:VTIMEZONE
END:VCALENDAR
