BEGIN:VCALENDAR
VERSION:2.0
PRODID:-//destination.one//NONSGML destination.meta API//DE
X-WR-CALDESC:A calendar powered by destination.meta
X-WR-CALNAME:oberpfaelzerwald Kalender via destination.meta
BEGIN:VEVENT
CATEGORIES:Theater/Festspiele
DESCRIPTION:Es ist wie im Albtraum! Eigentlich soll nach der feierlichen Ve
 rmählung eines Paares die große Hochzeitssause beginnen. Das Problem: Die 
 Braut fehlt. Der Bräutigam offenbart den Gästen\, dass sie sich so heftig 
 gestritten hätten\, dass nun bereits alles auf der Kippe steht.\nOffenbar 
 hätte ER eine Hochzeitsband engagieren sollen und SIE hat sich auf IHN ver
 lassen. Aber ER dachte\, SIE würde das übernehmen. Das Desaster ist perfek
 t!\nDer Bräutigam wendet sich in einem verzweifelten Aufruf an das Publiku
 m: Gibt es hier (mehr oder weniger) begabte Musiker\, die innerhalb des fo
 lgenden 3-Gänge-Menüs ein Liebeslieder-Programm zusammenstellen\, das die 
 Braut mit ihrem Mann versöhnen würde?\n\nmehr Informationen unter http://p
 ages.destination.one/de/oberpfaelzerwald/streaming/detail/Event/e_10110819
 2/dinner-mit-singer-crashkurs-f-r-liebeslieder
DTEND;TZID=Europe/Berlin:20260904T223000
DTSTAMP:20260422T101331Z
DTSTART;TZID=Europe/Berlin:20260904T190000
GEO:49.463404;12.428874
LOCATION:Restaurant "Emil-Kemmer-Haus"\, Schönseer Straße 47\, Oberviechtac
 h
ORGANIZER;CN=OVIGO Theater:mailto:info@ovigo-theater.de
SEQUENCE:0
SUMMARY:Dinner mit Singer: "Crashkurs für Liebeslieder"
UID:e_101108192_iv0
URL:http://pages.destination.one/de/oberpfaelzerwald/streaming/detail/Event
 /e_101108192/dinner-mit-singer-crashkurs-f-r-liebeslieder
END:VEVENT
BEGIN:VTIMEZONE
TZID:Europe/Berlin
X-LIC-LOCATION:Europe/Berlin
BEGIN:DAYLIGHT
DTSTART:19700329T020000
RRULE:FREQ=YEARLY;BYDAY=-1SU;BYMONTH=3
TZNAME:CEST
TZOFFSETFROM:+0100
TZOFFSETTO:+0200
END:DAYLIGHT
BEGIN:STANDARD
DTSTART:19701025T030000
RRULE:FREQ=YEARLY;BYDAY=-1SU;BYMONTH=10
TZNAME:CET
TZOFFSETFROM:+0200
TZOFFSETTO:+0100
END:STANDARD
END:VTIMEZONE
END:VCALENDAR
