BEGIN:VCALENDAR
VERSION:2.0
PRODID:-//destination.one//NONSGML destination.meta API//DE
X-WR-CALDESC:A calendar powered by destination.meta
X-WR-CALNAME:oberpfaelzerwald Kalender via destination.meta
BEGIN:VEVENT
CATEGORIES:Feste/Bälle/Tanz
DESCRIPTION:\n\nmehr Informationen unter http://pages.destination.one/de/ob
 erpfaelzerwald/streaming/detail/Event/e_101109759/dorfweiherfest-mit-party
 nacht
DTEND;TZID=Europe/Berlin:20260426T020000
DTSTAMP:20260421T115952Z
DTSTART;TZID=Europe/Berlin:20260425T150000
GEO:49.740970;11.827984
LOCATION:Freisitz und Festplatz am Dorfweiher\, Apfelbach Hauptstr. 28\, Es
 chenbach i.d.OPf.
ORGANIZER;CN=Karten und Schachverein Eschenbach Apfelbach e.V:mailto:info-k
 sv-eschenbach@t-online.de
SEQUENCE:0
SUMMARY:Dorfweiherfest mit Partynacht
UID:e_101109759_iv0
URL:http://pages.destination.one/de/oberpfaelzerwald/streaming/detail/Event
 /e_101109759/dorfweiherfest-mit-partynacht
END:VEVENT
BEGIN:VTIMEZONE
TZID:Europe/Berlin
X-LIC-LOCATION:Europe/Berlin
BEGIN:DAYLIGHT
DTSTART:19700329T020000
RRULE:FREQ=YEARLY;BYDAY=-1SU;BYMONTH=3
TZNAME:CEST
TZOFFSETFROM:+0100
TZOFFSETTO:+0200
END:DAYLIGHT
BEGIN:STANDARD
DTSTART:19701025T030000
RRULE:FREQ=YEARLY;BYDAY=-1SU;BYMONTH=10
TZNAME:CET
TZOFFSETFROM:+0200
TZOFFSETTO:+0100
END:STANDARD
END:VTIMEZONE
END:VCALENDAR
