BEGIN:VCALENDAR
VERSION:2.0
PRODID:-//destination.one//NONSGML destination.meta API//DE
X-WR-CALDESC:A calendar powered by destination.meta
X-WR-CALNAME:oberpfaelzerwald Kalender via destination.meta
BEGIN:VEVENT
CATEGORIES:Feste/Bälle/Tanz
CATEGORIES:Geselligkeit/Spiele/Treffen
CATEGORIES:Party
DESCRIPTION:\n\nmehr Informationen unter http://pages.destination.one/de/ob
 erpfaelzerwald/streaming/detail/Event/e_101125374/cubanito-gesellschaftsta
 nzparty
DTEND;TZID=Europe/Berlin:20251207T000000
DTSTAMP:20260421T120128Z
DTSTART;TZID=Europe/Berlin:20251206T170000
GEO:49.907952;11.868055
LOCATION:Immenreuth\, \, Immenreuth
ORGANIZER;CN=BegegnungsCampus Immenreuth gGmbH:mailto:info@begegnungscampus
 .de
RRULE:FREQ=MONTHLY;BYDAY=1SA
SEQUENCE:0
SUMMARY:Cubanito | Gesellschaftstanzparty
UID:e_101125374_iv0
URL:http://pages.destination.one/de/oberpfaelzerwald/streaming/detail/Event
 /e_101125374/cubanito-gesellschaftstanzparty
END:VEVENT
BEGIN:VTIMEZONE
TZID:Europe/Berlin
X-LIC-LOCATION:Europe/Berlin
BEGIN:DAYLIGHT
DTSTART:19700329T020000
RRULE:FREQ=YEARLY;BYDAY=-1SU;BYMONTH=3
TZNAME:CEST
TZOFFSETFROM:+0100
TZOFFSETTO:+0200
END:DAYLIGHT
BEGIN:STANDARD
DTSTART:19701025T030000
RRULE:FREQ=YEARLY;BYDAY=-1SU;BYMONTH=10
TZNAME:CET
TZOFFSETFROM:+0200
TZOFFSETTO:+0100
END:STANDARD
END:VTIMEZONE
END:VCALENDAR
