BEGIN:VCALENDAR
VERSION:2.0
PRODID:-//destination.one//NONSGML destination.meta API//DE
X-WR-CALDESC:A calendar powered by destination.meta
X-WR-CALNAME:oberpfaelzerwald Kalender via destination.meta
BEGIN:VEVENT
CATEGORIES:Konzert
DESCRIPTION:Susanne Jutz-Miltschitzky & Dr. Josef Miltschitzky (Ottobeuren)
 \n\nmehr Informationen unter http://pages.destination.one/de/oberpfaelzerw
 ald/streaming/detail/Event/e_101125505/basilikakonzert-orgel-und-gesang
DTEND;TZID=Europe/Berlin:20260913T181500
DTSTAMP:20260421T101830Z
DTSTART;TZID=Europe/Berlin:20260913T170000
GEO:50.003943;12.308915
LOCATION:Stiftsbasilika \, Basilikaplatz 6\, Waldsassen
ORGANIZER;CN=Kath. Kirchenstiftung - Basilikakonzertreihe:mailto:info@pfarr
 ei-waldsassen.de
SEQUENCE:0
SUMMARY:Basilikakonzert - Orgel und Gesang
UID:e_101125505_iv0
URL:http://pages.destination.one/de/oberpfaelzerwald/streaming/detail/Event
 /e_101125505/basilikakonzert-orgel-und-gesang
END:VEVENT
BEGIN:VTIMEZONE
TZID:Europe/Berlin
X-LIC-LOCATION:Europe/Berlin
BEGIN:DAYLIGHT
DTSTART:19700329T020000
RRULE:FREQ=YEARLY;BYDAY=-1SU;BYMONTH=3
TZNAME:CEST
TZOFFSETFROM:+0100
TZOFFSETTO:+0200
END:DAYLIGHT
BEGIN:STANDARD
DTSTART:19701025T030000
RRULE:FREQ=YEARLY;BYDAY=-1SU;BYMONTH=10
TZNAME:CET
TZOFFSETFROM:+0200
TZOFFSETTO:+0100
END:STANDARD
END:VTIMEZONE
END:VCALENDAR
