BEGIN:VCALENDAR
VERSION:2.0
PRODID:-//destination.one//NONSGML destination.meta API//DE
X-WR-CALDESC:A calendar powered by destination.meta
X-WR-CALNAME:oberpfaelzerwald Kalender via destination.meta
BEGIN:VEVENT
CATEGORIES:Theater/Festspiele
DESCRIPTION:\n\nmehr Informationen unter http://pages.destination.one/de/ob
 erpfaelzerwald/streaming/detail/Event/e_101133276/ovigo-theater-eine-ganz-
 hei-e-nummer
DTEND;TZID=Europe/Berlin:20260612T223000
DTSTAMP:20260422T101331Z
DTSTART;TZID=Europe/Berlin:20260612T200000
GEO:49.724649;11.898918
LOCATION:Naturbühne am Schönberg\, Grafenwöhr\, \, Grafenwöhr
ORGANIZER;CN=Stadt Grafenwöhr:mailto:poststelle@grafenwoehr.bayern.de
SEQUENCE:0
SUMMARY:OVIGO - Theater: "Eine ganz heiße Nummer" 
UID:e_101133276_iv0
URL:http://pages.destination.one/de/oberpfaelzerwald/streaming/detail/Event
 /e_101133276/ovigo-theater-eine-ganz-hei-e-nummer
END:VEVENT
BEGIN:VEVENT
CATEGORIES:Theater/Festspiele
DESCRIPTION:\n\nmehr Informationen unter http://pages.destination.one/de/ob
 erpfaelzerwald/streaming/detail/Event/e_101133276/ovigo-theater-eine-ganz-
 hei-e-nummer
DTEND;TZID=Europe/Berlin:20260613T223000
DTSTAMP:20260422T101331Z
DTSTART;TZID=Europe/Berlin:20260613T200000
GEO:49.724649;11.898918
LOCATION:Naturbühne am Schönberg\, Grafenwöhr\, \, Grafenwöhr
ORGANIZER;CN=Stadt Grafenwöhr:mailto:poststelle@grafenwoehr.bayern.de
SEQUENCE:0
SUMMARY:OVIGO - Theater: "Eine ganz heiße Nummer" 
UID:e_101133276_iv1
URL:http://pages.destination.one/de/oberpfaelzerwald/streaming/detail/Event
 /e_101133276/ovigo-theater-eine-ganz-hei-e-nummer
END:VEVENT
BEGIN:VTIMEZONE
TZID:Europe/Berlin
X-LIC-LOCATION:Europe/Berlin
BEGIN:DAYLIGHT
DTSTART:19700329T020000
RRULE:FREQ=YEARLY;BYDAY=-1SU;BYMONTH=3
TZNAME:CEST
TZOFFSETFROM:+0100
TZOFFSETTO:+0200
END:DAYLIGHT
BEGIN:STANDARD
DTSTART:19701025T030000
RRULE:FREQ=YEARLY;BYDAY=-1SU;BYMONTH=10
TZNAME:CET
TZOFFSETFROM:+0200
TZOFFSETTO:+0100
END:STANDARD
END:VTIMEZONE
END:VCALENDAR
