BEGIN:VCALENDAR
VERSION:2.0
PRODID:-//destination.one//NONSGML destination.meta API//DE
X-WR-CALDESC:A calendar powered by destination.meta
X-WR-CALNAME:oberpfaelzerwald Kalender via destination.meta
BEGIN:VEVENT
CATEGORIES:Markt
DESCRIPTION:\n\nmehr Informationen unter http://pages.destination.one/de/ob
 erpfaelzerwald/streaming/detail/Event/e_101138214/nikolausmarkt-kleintierz
 uchtverein
DTEND;TZID=Europe/Berlin:20251129T150000
DTSTAMP:20260421T122306Z
DTSTART;TZID=Europe/Berlin:20251129T130000
GEO:49.290983;12.437875
LOCATION:Schießl-Hof Neukirchen-Balbini\, Fronauer Straße 5\, Neukirchen-Ba
 lbini
SEQUENCE:0
SUMMARY:Nikolausmarkt Kleintierzuchtverein
UID:e_101138214_iv0
URL:http://pages.destination.one/de/oberpfaelzerwald/streaming/detail/Event
 /e_101138214/nikolausmarkt-kleintierzuchtverein
END:VEVENT
BEGIN:VEVENT
CATEGORIES:Markt
DESCRIPTION:\n\nmehr Informationen unter http://pages.destination.one/de/ob
 erpfaelzerwald/streaming/detail/Event/e_101138214/nikolausmarkt-kleintierz
 uchtverein
DTEND;TZID=Europe/Berlin:20261205T150000
DTSTAMP:20260421T122306Z
DTSTART;TZID=Europe/Berlin:20261205T130000
GEO:49.290983;12.437875
LOCATION:Schießl-Hof Neukirchen-Balbini\, Fronauer Straße 5\, Neukirchen-Ba
 lbini
SEQUENCE:0
SUMMARY:Nikolausmarkt Kleintierzuchtverein
UID:e_101138214_iv1
URL:http://pages.destination.one/de/oberpfaelzerwald/streaming/detail/Event
 /e_101138214/nikolausmarkt-kleintierzuchtverein
END:VEVENT
BEGIN:VTIMEZONE
TZID:Europe/Berlin
X-LIC-LOCATION:Europe/Berlin
BEGIN:DAYLIGHT
DTSTART:19700329T020000
RRULE:FREQ=YEARLY;BYDAY=-1SU;BYMONTH=3
TZNAME:CEST
TZOFFSETFROM:+0100
TZOFFSETTO:+0200
END:DAYLIGHT
BEGIN:STANDARD
DTSTART:19701025T030000
RRULE:FREQ=YEARLY;BYDAY=-1SU;BYMONTH=10
TZNAME:CET
TZOFFSETFROM:+0200
TZOFFSETTO:+0100
END:STANDARD
END:VTIMEZONE
END:VCALENDAR
